BEGIN:VCALENDAR
VERSION:2.0
PRODID:-//Kino Tuškanac//Filmski programi//HR
URL:http://kinotuskanac/calendar/cycle/667
NAME:Kino Tuškanac ciklus Fokus: Starost na filmu
X-WR-CALNAME:Kino Tuškanac ciklus Fokus: Starost na filmu
TIMEZONE-ID:Europe/Zagreb
X-WR-TIMEZONE:Europe/Zagreb
REFRESH-INTERVAL;VALUE=DURATION:PT12H
X-PUBLISHED-TTL:PT12H
METHOD:PUBLISH
BEGIN:VEVENT
UID:739aea49a894f2893902fae766156e6d@kinotuskanac.hr
DTSTAMP:20260421T102846Z
DTSTART:20190204T190000
DTEND:20190204T210000
SUMMARY:Živjeti (1952)
LOCATION:Kino Tuškanac
DESCRIPTION:Ikiru, Japan, 1952 R: Akira Kurosawa
END:VEVENT

BEGIN:VEVENT
UID:356ae574664f553a1563012efab219cd@kinotuskanac.hr
DTSTAMP:20260421T102846Z
DTSTART:20190205T190000
DTEND:20190205T210000
SUMMARY:Umberto D
LOCATION:Kino Tuškanac
DESCRIPTION:Italija, 1952 R: Vittorio De Sica
END:VEVENT

BEGIN:VEVENT
UID:54c1e64844d27db2e386231fad0dc334@kinotuskanac.hr
DTSTAMP:20260421T102846Z
DTSTART:20190205T210000
DTEND:20190205T230000
SUMMARY:Pripremi se za budućnost
LOCATION:Kino Tuškanac
DESCRIPTION:Make Way For Tomorrow, SAD, 1937 R: Leo McCarey
END:VEVENT

BEGIN:VEVENT
UID:71cc97a16c5d118ab9ee1f42ecdb8ccc@kinotuskanac.hr
DTSTAMP:20260421T102846Z
DTSTART:20190206T190000
DTEND:20190206T210000
SUMMARY:Divlje jagode
LOCATION:Kino Tuškanac
DESCRIPTION:Smultronstället, Švedska, 1957 R: Ingmar Bergman
END:VEVENT

BEGIN:VEVENT
UID:43619e7923de6781da22591edbaaebc5@kinotuskanac.hr
DTSTAMP:20260421T102846Z
DTSTART:20190206T210000
DTEND:20190206T230000
SUMMARY:Lucky
LOCATION:Kino Tuškanac
DESCRIPTION:SAD, 2017 R: John Carroll Lynch
END:VEVENT

BEGIN:VEVENT
UID:02578424af2154a26993e85a1e0df4f8@kinotuskanac.hr
DTSTAMP:20260421T102846Z
DTSTART:20190207T190000
DTEND:20190207T210000
SUMMARY:Posljednji čovjek
LOCATION:Kino Tuškanac
DESCRIPTION:Der Letzte Mann, Njemačka, 1924 R: Friedrich Wilhelm Murnau
END:VEVENT

BEGIN:VEVENT
UID:a6393744433563b3d015e98b053d386b@kinotuskanac.hr
DTSTAMP:20260421T102846Z
DTSTART:20190207T210000
DTEND:20190207T230000
SUMMARY:Ljubav (2012)
LOCATION:Kino Tuškanac
DESCRIPTION:Amour, Austrija, Francuska, Njemačka, 2012 R: Michael Haneke
END:VEVENT

BEGIN:VEVENT
UID:43fcee5d7117760bc6d34c4489a46812@kinotuskanac.hr
DTSTAMP:20260421T102846Z
DTSTART:20190208T190000
DTEND:20190208T210000
SUMMARY:Tokijska priča
LOCATION:Kino Tuškanac
DESCRIPTION:Tokyo monogatari, Japan, 1953 R: Yasujirō Ozu
END:VEVENT

BEGIN:VEVENT
UID:730d7418e2db1e417e1edf3659c50b4a@kinotuskanac.hr
DTSTAMP:20260421T102846Z
DTSTART:20190208T211500
DTEND:20190208T231500
SUMMARY:Nebraska
LOCATION:Kino Tuškanac
DESCRIPTION:SAD, 2013 R: Alexander Payne
END:VEVENT

BEGIN:VEVENT
UID:e6bef8537e225910413eadd38277de46@kinotuskanac.hr
DTSTAMP:20260421T102846Z
DTSTART:20190209T190000
DTEND:20190209T210000
SUMMARY:Balada o Narayami (1958)
LOCATION:Kino Tuškanac
DESCRIPTION:Narayama bushiko, Japan, 1958 R: Keisuke Kinoshita
END:VEVENT

BEGIN:VEVENT
UID:eba6345d5c1f749be3ec99ee59779af4@kinotuskanac.hr
DTSTAMP:20260421T102846Z
DTSTART:20190209T210000
DTEND:20190209T230000
SUMMARY:Balada o Narayami (1983)
LOCATION:Kino Tuškanac
DESCRIPTION:Narayama bushikô, Japan, 1983 R: Shôhei Imamura
END:VEVENT

BEGIN:VEVENT
UID:445080c216c7f7b94bc4c842f6862a24@kinotuskanac.hr
DTSTAMP:20260421T102846Z
DTSTART:20190210T190000
DTEND:20190210T210000
SUMMARY:Mladost
LOCATION:Kino Tuškanac
DESCRIPTION:Youth, Francuska, Italija, Švicarska, UK, 2015 R: Paolo Sorrentino
END:VEVENT
END:VCALENDAR