BEGIN:VCALENDAR
VERSION:2.0
PRODID:-//Kino Tuškanac//Filmski programi//HR
URL:http://kinotuskanac/calendar/cycle/669
NAME:Kino Tuškanac ciklus Portreti: Znamenite uloge Ive Gregurevića
X-WR-CALNAME:Kino Tuškanac ciklus Portreti: Znamenite uloge Ive Gregurevića
TIMEZONE-ID:Europe/Zagreb
X-WR-TIMEZONE:Europe/Zagreb
REFRESH-INTERVAL;VALUE=DURATION:PT12H
X-PUBLISHED-TTL:PT12H
METHOD:PUBLISH
BEGIN:VEVENT
UID:0982ed36b6e8247ebe7c45442ec09c52@kinotuskanac.hr
DTSTAMP:20260421T220613Z
DTSTART:20190218T190000
DTEND:20190218T210000
SUMMARY:Čaruga
LOCATION:Kino Tuškanac
DESCRIPTION:1991 R: Rajko Grlić
END:VEVENT

BEGIN:VEVENT
UID:3cb611435fd4e321348feed41890f4b5@kinotuskanac.hr
DTSTAMP:20260421T220613Z
DTSTART:20190218T210000
DTEND:20190218T230000
SUMMARY:Ne naginji se van
LOCATION:Kino Tuškanac
DESCRIPTION:Hrvatska, 1977 R: Bogdan Žižić
END:VEVENT

BEGIN:VEVENT
UID:b6de57a7191742826e2808365bd503a1@kinotuskanac.hr
DTSTAMP:20260421T220613Z
DTSTART:20190219T190000
DTEND:20190219T210000
SUMMARY:Kosac
LOCATION:Kino Tuškanac
DESCRIPTION:Hrvatska, 2014 R: Zvonimir Jurić
END:VEVENT

BEGIN:VEVENT
UID:94fb1218a4064f2df22f220f550cf063@kinotuskanac.hr
DTSTAMP:20260421T220613Z
DTSTART:20190220T190000
DTEND:20190220T210000
SUMMARY:Što je Iva snimila 21. listopada 2003.
LOCATION:Kino Tuškanac
DESCRIPTION:Hrvatska, 2005 | Mjesto prikazivanja filma: Kulturno informativni centar KIC (Preradovićeva ul. 5) R: Tomislav Radić
END:VEVENT

BEGIN:VEVENT
UID:402b28d7836f007c1dcaa0cdf3a450f3@kinotuskanac.hr
DTSTAMP:20260421T220613Z
DTSTART:20190220T210000
DTEND:20190220T230000
SUMMARY:Život sa stricem
LOCATION:Kino Tuškanac
DESCRIPTION:1988 R: Krsto Papić
END:VEVENT
END:VCALENDAR