BEGIN:VCALENDAR
VERSION:2.0
PRODID:-//Kino Tuškanac//Filmski programi//HR
URL:http://kinotuskanac/calendar/cycle/673
NAME:Kino Tuškanac ciklus Portreti: Kritička analiza američkog društva Elija Kazana
X-WR-CALNAME:Kino Tuškanac ciklus Portreti: Kritička analiza američkog društva Elija Kazana
TIMEZONE-ID:Europe/Zagreb
X-WR-TIMEZONE:Europe/Zagreb
REFRESH-INTERVAL;VALUE=DURATION:PT12H
X-PUBLISHED-TTL:PT12H
METHOD:PUBLISH
BEGIN:VEVENT
UID:0499b48d86a6c5ad835ab6cd804b822c@kinotuskanac.hr
DTSTAMP:20260423T150034Z
DTSTART:20190227T190000
DTEND:20190227T210000
SUMMARY:Na dokovima New Yorka
LOCATION:Kino Tuškanac
DESCRIPTION:On the Waterfront, SAD, 1954 | Mjesto prikazivanja filma: Kino Forum (SD Stjepan Radić, Jarunska ul. 2) R: Elia Kazan
END:VEVENT

BEGIN:VEVENT
UID:4e20d35c17102c3eb1fa773c22bb25fa@kinotuskanac.hr
DTSTAMP:20260423T150034Z
DTSTART:20190227T210000
DTEND:20190227T230000
SUMMARY:Baby Doll
LOCATION:Kino Tuškanac
DESCRIPTION:SAD, 1956 R: Elia Kazan
END:VEVENT

BEGIN:VEVENT
UID:0469efc0e611dafb3a573540cda4fc30@kinotuskanac.hr
DTSTAMP:20260423T150034Z
DTSTART:20190228T190000
DTEND:20190228T210000
SUMMARY:Sjaj u travi
LOCATION:Kino Tuškanac
DESCRIPTION:Splendor in the Grass, SAD, 1961 | Mjesto prikazivanja filma: Kino Forum (SD Stjepan Radić, Jarunska ul. 2) R: Elia Kazan
END:VEVENT

BEGIN:VEVENT
UID:189d7596451cda65c7e9a522d0de636d@kinotuskanac.hr
DTSTAMP:20260423T150034Z
DTSTART:20190228T210000
DTEND:20190228T230000
SUMMARY:Bumerang (1947)
LOCATION:Kino Tuškanac
DESCRIPTION:Boomerang!, SAD, 1947 R: Elia Kazan
END:VEVENT

BEGIN:VEVENT
UID:8072fed4f01e1470417b9e8b81c87317@kinotuskanac.hr
DTSTAMP:20260423T150034Z
DTSTART:20190301T190000
DTEND:20190301T210000
SUMMARY:Tramvaj zvan žudnja
LOCATION:Kino Tuškanac
DESCRIPTION:A Streetcar Named Desire, SAD, 1951 R: Elia Kazan
END:VEVENT

BEGIN:VEVENT
UID:20c3698ff9f3346fb856a2ebb3448541@kinotuskanac.hr
DTSTAMP:20260423T150034Z
DTSTART:20190301T210000
DTEND:20190301T230000
SUMMARY:Džentlmenski sporazum
LOCATION:Kino Tuškanac
DESCRIPTION:Gentleman’s Agreement, SAD, 1947 R: Elia Kazan
END:VEVENT

BEGIN:VEVENT
UID:2170d55909287ff243446599275e726d@kinotuskanac.hr
DTSTAMP:20260423T150034Z
DTSTART:20190302T190000
DTEND:20190302T210000
SUMMARY:Istočno od raja
LOCATION:Kino Tuškanac
DESCRIPTION:East of Eden, SAD, 1955 R: Elia Kazan
END:VEVENT

BEGIN:VEVENT
UID:d160ab98a636581437ad6a6127b4d83f@kinotuskanac.hr
DTSTAMP:20260423T150034Z
DTSTART:20190302T210000
DTEND:20190302T230000
SUMMARY:Lice u gomili
LOCATION:Kino Tuškanac
DESCRIPTION:A Face in the Crowd, SAD, 1957 R: Elia Kazan
END:VEVENT

BEGIN:VEVENT
UID:6f33c560ff269a792803866ded657204@kinotuskanac.hr
DTSTAMP:20260423T150034Z
DTSTART:20190303T190000
DTEND:20190303T210000
SUMMARY:Amerika, Amerika
LOCATION:Kino Tuškanac
DESCRIPTION:America, America, SAD, 1963 R: Elia Kazan
END:VEVENT

BEGIN:VEVENT
UID:067ea67232f3cafd1b62e1a79f26e44d@kinotuskanac.hr
DTSTAMP:20260423T150034Z
DTSTART:20190304T190000
DTEND:20190304T210000
SUMMARY:Divlja rijeka
LOCATION:Kino Tuškanac
DESCRIPTION:Wild River, SAD, 1960 R: Elia Kazan
END:VEVENT

BEGIN:VEVENT
UID:5166fdd9c1218f9c0d98b5f7f1119cde@kinotuskanac.hr
DTSTAMP:20260423T150034Z
DTSTART:20190304T210000
DTEND:20190304T230000
SUMMARY:Panika na ulicama
LOCATION:Kino Tuškanac
DESCRIPTION:Panic in the Streets, SAD, 1950 R: Elia Kazan
END:VEVENT
END:VCALENDAR