BEGIN:VCALENDAR
VERSION:2.0
PRODID:-//Kino Tuškanac//Filmski programi//HR
URL:http://kinotuskanac/calendar/cycle/678
NAME:Kino Tuškanac ciklus Frankofonija: Mladež u suvremenom frankofonom filmu
X-WR-CALNAME:Kino Tuškanac ciklus Frankofonija: Mladež u suvremenom frankofonom filmu
TIMEZONE-ID:Europe/Zagreb
X-WR-TIMEZONE:Europe/Zagreb
REFRESH-INTERVAL;VALUE=DURATION:PT12H
X-PUBLISHED-TTL:PT12H
METHOD:PUBLISH
BEGIN:VEVENT
UID:9a73cd6c8168bd4d0d5eb9cd509db4ba@kinotuskanac.hr
DTSTAMP:20260423T175425Z
DTSTART:20190325T190000
DTEND:20190325T210000
SUMMARY:Razred
LOCATION:Kino Tuškanac
DESCRIPTION:Entre les murs, Francuska, 2008 R: Laurent Cantet
END:VEVENT

BEGIN:VEVENT
UID:ee17589bf3d0e3c115be7869d934fde8@kinotuskanac.hr
DTSTAMP:20260423T175425Z
DTSTART:20190325T211500
DTEND:20190325T231500
SUMMARY:Božji konji
LOCATION:Kino Tuškanac
DESCRIPTION:Les chevaux de Dieu, Belgija, Francuska, Maroko, Tunis, 2012 R: Nabil Ayouch
END:VEVENT

BEGIN:VEVENT
UID:8bd9deca15e98244cf3d8f4c1540b69a@kinotuskanac.hr
DTSTAMP:20260423T175425Z
DTSTART:20190326T190000
DTEND:20190326T210000
SUMMARY:Sestra
LOCATION:Kino Tuškanac
DESCRIPTION:L'enfant d'un haut, Francuska, Švicarska, 2012 R: Ursula Meier
END:VEVENT

BEGIN:VEVENT
UID:b572cd1cb175c885c7c0ca6b05007352@kinotuskanac.hr
DTSTAMP:20260423T175425Z
DTSTART:20190326T210000
DTEND:20190326T230000
SUMMARY:Matura
LOCATION:Kino Tuškanac
DESCRIPTION:Bacalaureat, Belgija, Francuska, Rumunjska, 2016 R: Cristian Mungiu
END:VEVENT

BEGIN:VEVENT
UID:0668f16cd636df66dfdae01aabaff693@kinotuskanac.hr
DTSTAMP:20260423T175425Z
DTSTART:20190327T190000
DTEND:20190327T210000
SUMMARY:Dječak s biciklom
LOCATION:Kino Tuškanac
DESCRIPTION:Le gamin au velo, Belgija, Francuska, Italija, 2011 R: Jean-Pierre Dardenne, Luc Dardenne
END:VEVENT

BEGIN:VEVENT
UID:76d61d215106bf6b226bac8ebb3c2336@kinotuskanac.hr
DTSTAMP:20260423T175425Z
DTSTART:20190327T210000
DTEND:20190327T230000
SUMMARY:Igre ljubavi i slučaja
LOCATION:Kino Tuškanac
DESCRIPTION:L'esquive, Francuska, 2003 R: Abdellatif Kechiche
END:VEVENT
END:VCALENDAR