BEGIN:VCALENDAR
VERSION:2.0
PRODID:-//Kino Tuškanac//Filmski programi//HR
URL:http://kinotuskanac/calendar/cycle/684
NAME:Kino Tuškanac ciklus Kinoteka: Strava u hrvatskom filmu
X-WR-CALNAME:Kino Tuškanac ciklus Kinoteka: Strava u hrvatskom filmu
TIMEZONE-ID:Europe/Zagreb
X-WR-TIMEZONE:Europe/Zagreb
REFRESH-INTERVAL;VALUE=DURATION:PT12H
X-PUBLISHED-TTL:PT12H
METHOD:PUBLISH
BEGIN:VEVENT
UID:09a3d84f2918b8f94472783361660094@kinotuskanac.hr
DTSTAMP:20260421T220614Z
DTSTART:20190503T190000
DTEND:20190503T210000
SUMMARY:Izbavitelj
LOCATION:Kino Tuškanac
DESCRIPTION:Jugoslavija, 1976 R: Krsto Papić
END:VEVENT

BEGIN:VEVENT
UID:bc645926695baf5ae4b57688eaf08c35@kinotuskanac.hr
DTSTAMP:20260421T220614Z
DTSTART:20190503T210000
DTEND:20190503T230000
SUMMARY:Krvopijci
LOCATION:Kino Tuškanac
DESCRIPTION:Jugoslavija, 1989 R: Dejan Šorak
END:VEVENT

BEGIN:VEVENT
UID:592eb891b19fcc8487409baf9b006e57@kinotuskanac.hr
DTSTAMP:20260421T220614Z
DTSTART:20190504T210000
DTEND:20190504T230000
SUMMARY:Ćaća
LOCATION:Kino Tuškanac
DESCRIPTION:Hrvatska, 2011 R: Dalibor Matanić
END:VEVENT

BEGIN:VEVENT
UID:e10e0fd31a5998ea685933dc12ab98ac@kinotuskanac.hr
DTSTAMP:20260421T220614Z
DTSTART:20190504T190000
DTEND:20190504T210000
SUMMARY:Nocturno
LOCATION:Kino Tuškanac
DESCRIPTION:Jugoslavija, 1935 R: Oktavijan Miletić
END:VEVENT

BEGIN:VEVENT
UID:bb435f959a2fa6d2f8d6361aee17f4f3@kinotuskanac.hr
DTSTAMP:20260421T220614Z
DTSTART:20190504T190000
DTEND:20190504T210000
SUMMARY:Muha (1966)
LOCATION:Kino Tuškanac
DESCRIPTION:Jugoslavija, Zagreb film, 1966 R: Aleksandar Marks
END:VEVENT

BEGIN:VEVENT
UID:d06a4e7e259234bed6d777b6c7a3fe9b@kinotuskanac.hr
DTSTAMP:20260421T220614Z
DTSTART:20190504T190000
DTEND:20190504T210000
SUMMARY:Putovanje
LOCATION:Kino Tuškanac
DESCRIPTION:Jugoslavija, 1972 R: Bogdan Žižić
END:VEVENT

BEGIN:VEVENT
UID:439bc3dd6bb365ab7696412d69360863@kinotuskanac.hr
DTSTAMP:20260421T220614Z
DTSTART:20190504T190000
DTEND:20190504T210000
SUMMARY:Zagorski specijalitet
LOCATION:Kino Tuškanac
DESCRIPTION:Hrvatska, 2012 R: David Kapac
END:VEVENT
END:VCALENDAR