BEGIN:VCALENDAR
VERSION:2.0
PRODID:-//Kino Tuškanac//Filmski programi//HR
URL:http://kinotuskanac/calendar/cycle/687
NAME:Kino Tuškanac ciklus Subversive Film Festival: Agnès Varda
X-WR-CALNAME:Kino Tuškanac ciklus Subversive Film Festival: Agnès Varda
TIMEZONE-ID:Europe/Zagreb
X-WR-TIMEZONE:Europe/Zagreb
REFRESH-INTERVAL;VALUE=DURATION:PT12H
X-PUBLISHED-TTL:PT12H
METHOD:PUBLISH
BEGIN:VEVENT
UID:530ac6bb83efd273b06eee97cde1488b@kinotuskanac.hr
DTSTAMP:20260423T145358Z
DTSTART:20190506T190000
DTEND:20190506T210000
SUMMARY:Po obali
LOCATION:Kino Tuškanac
DESCRIPTION:Du côté de la côte, Francuska, 1958 R: Agnès Varda
END:VEVENT

BEGIN:VEVENT
UID:843d38d63b9e8c22743d1d34e1f76726@kinotuskanac.hr
DTSTAMP:20260423T145358Z
DTSTART:20190506T190000
DTEND:20190506T210000
SUMMARY:La Pointe Courte
LOCATION:Kino Tuškanac
DESCRIPTION:Francuska, 1955 R: Agnès Varda
END:VEVENT

BEGIN:VEVENT
UID:85d6c465c22bd5b22101e48cb3b95f86@kinotuskanac.hr
DTSTAMP:20260423T145358Z
DTSTART:20190506T210000
DTEND:20190506T230000
SUMMARY:Zaručnici s Mac Donaldova mosta (Čuvaj se tamnih naočala)
LOCATION:Kino Tuškanac
DESCRIPTION:Les fiancés du pont MacDonald ou (Méfiez-vous des lunettes noires), Francuska, 1961 R: Agnès Varda
END:VEVENT

BEGIN:VEVENT
UID:42bbac742716720b63057e1f86cef644@kinotuskanac.hr
DTSTAMP:20260423T145358Z
DTSTART:20190506T210000
DTEND:20190506T230000
SUMMARY:Cléo od 5 do 7
LOCATION:Kino Tuškanac
DESCRIPTION:Cléo de 5 á 7, Francuska, 1962 R: Agnès Varda
END:VEVENT

BEGIN:VEVENT
UID:74197a1efde0a870ae841ba2d662dee2@kinotuskanac.hr
DTSTAMP:20260423T145358Z
DTSTART:20190507T190000
DTEND:20190507T210000
SUMMARY:Dnevnik trudnice
LOCATION:Kino Tuškanac
DESCRIPTION:L'opéra-mouffe, Francuska, 1958 R: Agnès Varda
END:VEVENT

BEGIN:VEVENT
UID:a2ebb5cc87439f07ad22bfa1fc0ad4ab@kinotuskanac.hr
DTSTAMP:20260423T145358Z
DTSTART:20190507T190000
DTEND:20190507T210000
SUMMARY:Sreća
LOCATION:Kino Tuškanac
DESCRIPTION:Le Bonheur, Francuska, 1965 | Mjesto prikazivanja filma: Kino Forum (SD Stjepan Radić, Jarunska ul. 2) R: Agnès Varda
END:VEVENT

BEGIN:VEVENT
UID:a4347beea86b5b11155546d03584f51d@kinotuskanac.hr
DTSTAMP:20260423T145358Z
DTSTART:20190508T190000
DTEND:20190508T210000
SUMMARY:Žene odgovaraju: Naša tijela, naš spol
LOCATION:Kino Tuškanac
DESCRIPTION:Réponse de femmes: Notre corps, notre sexe, Francuska, 1975 R: Agnès Varda
END:VEVENT

BEGIN:VEVENT
UID:57cb9120c32b74a6b33441fd9eaf094b@kinotuskanac.hr
DTSTAMP:20260423T145358Z
DTSTART:20190508T190000
DTEND:20190508T210000
SUMMARY:Jedna pjeva, druga ne
LOCATION:Kino Tuškanac
DESCRIPTION:L'une chante, l'autre pas, Francuska, Venezuela, Belgija, SSSR, 1977 R: Agnès Varda
END:VEVENT

BEGIN:VEVENT
UID:59a6c4306c43832a3e7cbeb567a2aa38@kinotuskanac.hr
DTSTAMP:20260423T145358Z
DTSTART:20190508T211500
DTEND:20190508T231500
SUMMARY:Ujak Yanco
LOCATION:Kino Tuškanac
DESCRIPTION:Oncle Yanco, Francuska, SAD, 1967 R: Agnès Varda
END:VEVENT

BEGIN:VEVENT
UID:b0cf67f336dd585c57037db884d4f496@kinotuskanac.hr
DTSTAMP:20260423T145358Z
DTSTART:20190508T211500
DTEND:20190508T231500
SUMMARY:Murali
LOCATION:Kino Tuškanac
DESCRIPTION:Mur murs, Francuska, SAD, 1981 R: Agnès Varda
END:VEVENT

BEGIN:VEVENT
UID:68156e7e83e291952653ca756f06455c@kinotuskanac.hr
DTSTAMP:20260423T145358Z
DTSTART:20190509T190000
DTEND:20190509T210000
SUMMARY:Bez krova i zakona
LOCATION:Kino Tuškanac
DESCRIPTION:Sans toit ni loi, Francuska, 1985 R: Agnès Varda
END:VEVENT

BEGIN:VEVENT
UID:2a9fca8bfdedbaa6b926bd27294e19e6@kinotuskanac.hr
DTSTAMP:20260423T145358Z
DTSTART:20190509T210000
DTEND:20190509T230000
SUMMARY:Skupljači i skupljačica
LOCATION:Kino Tuškanac
DESCRIPTION:Les glaneurs et la glaneuse, Francuska, 2000 R: Agnès Varda
END:VEVENT

BEGIN:VEVENT
UID:ee7a8496ca4823c994e2b3c9ed95edd2@kinotuskanac.hr
DTSTAMP:20260423T145358Z
DTSTART:20190510T190000
DTEND:20190510T210000
SUMMARY:Agnèsine plaže
LOCATION:Kino Tuškanac
DESCRIPTION:Les plages d'Agnès, Francuska, 2008 R: Agnès Varda
END:VEVENT

BEGIN:VEVENT
UID:6445b1a553190c18d1a6eabebfa0465e@kinotuskanac.hr
DTSTAMP:20260423T145358Z
DTSTART:20190507T210000
DTEND:20190507T230000
SUMMARY:Crne pantere (Huey)
LOCATION:Kino Tuškanac
DESCRIPTION:Black Panthers (Huey), Francuska, SAD, 1968 R: Agnès Varda
END:VEVENT

BEGIN:VEVENT
UID:bbd004286a11680466186c4d39333c8c@kinotuskanac.hr
DTSTAMP:20260423T145358Z
DTSTART:20190507T210000
DTEND:20190507T230000
SUMMARY:Lavovi, ljubav (… i laži)
LOCATION:Kino Tuškanac
DESCRIPTION:Lions Love (...And Lies), Francuska, SAD, 1969 R: Agnès Varda
END:VEVENT
END:VCALENDAR