BEGIN:VCALENDAR
VERSION:2.0
PRODID:-//Kino Tuškanac//Filmski programi//HR
URL:http://kinotuskanac/calendar/cycle/696
NAME:Kino Tuškanac ciklus Portreti: Svijet obmane Billyja Wildera
X-WR-CALNAME:Kino Tuškanac ciklus Portreti: Svijet obmane Billyja Wildera
TIMEZONE-ID:Europe/Zagreb
X-WR-TIMEZONE:Europe/Zagreb
REFRESH-INTERVAL;VALUE=DURATION:PT12H
X-PUBLISHED-TTL:PT12H
METHOD:PUBLISH
BEGIN:VEVENT
UID:3de9739c963e9632874f20d3bf4ab2ef@kinotuskanac.hr
DTSTAMP:20260420T161501Z
DTSTART:20190619T190000
DTEND:20190619T210000
SUMMARY:Bulevar sumraka
LOCATION:Kino Tuškanac
DESCRIPTION:Sunset Boulevard, SAD, 1950 | Mjesto prikazivanja filma: Kino Forum (SD Stjepan Radić, Jarunska ul. 2) R: Billy Wilder
END:VEVENT

BEGIN:VEVENT
UID:d84e34018b996a5ae6c6981de8f87cdd@kinotuskanac.hr
DTSTAMP:20260420T161501Z
DTSTART:20190621T190000
DTEND:20190621T210000
SUMMARY:Svjedok optužbe
LOCATION:Kino Tuškanac
DESCRIPTION:Witness for the Prosecution, SAD, 1957 R: Billy Wilder
END:VEVENT

BEGIN:VEVENT
UID:bfc5b3fffb1a662d73f6853bde518ce1@kinotuskanac.hr
DTSTAMP:20260420T161501Z
DTSTART:20190621T210000
DTEND:20190621T230000
SUMMARY:Izgubljeni vikend
LOCATION:Kino Tuškanac
DESCRIPTION:The Lost Weekend, SAD, 1945 R: Billy Wilder
END:VEVENT

BEGIN:VEVENT
UID:b3c71ec7929ed024b4d8e031f0a99564@kinotuskanac.hr
DTSTAMP:20260420T161501Z
DTSTART:20190622T190000
DTEND:20190622T210000
SUMMARY:Apartman
LOCATION:Kino Tuškanac
DESCRIPTION:The Apartment, SAD, 1960 | Mjesto prikazivanja filma: Centar za kulturu Histrionski dom (Ilica 90) R: Billy Wilder
END:VEVENT

BEGIN:VEVENT
UID:78d2b17beae32a57d74922516190b67c@kinotuskanac.hr
DTSTAMP:20260420T161501Z
DTSTART:20190622T211500
DTEND:20190622T231500
SUMMARY:Neki to vole vruće
LOCATION:Kino Tuškanac
DESCRIPTION:Some Like It Hot, SAD, 1959 | Mjesto prikazivanja filma: Kino Forum (SD Stjepan Radić, Jarunska ul. 2) R: Billy Wilder
END:VEVENT

BEGIN:VEVENT
UID:fad798c3e89489dc76e267a1687779ba@kinotuskanac.hr
DTSTAMP:20260420T161501Z
DTSTART:20190623T190000
DTEND:20190623T210000
SUMMARY:Slatka Irma
LOCATION:Kino Tuškanac
DESCRIPTION:Irma la Douce, SAD, 1963 R: Billy Wilder
END:VEVENT

BEGIN:VEVENT
UID:33a18fce07c3d1b7d139233784ec4355@kinotuskanac.hr
DTSTAMP:20260420T161501Z
DTSTART:20190624T190000
DTEND:20190624T210000
SUMMARY:As u rukavu
LOCATION:Kino Tuškanac
DESCRIPTION:Ace in the Hole, SAD, 1951 R: Billy Wilder
END:VEVENT

BEGIN:VEVENT
UID:b8f01b60b9200cde21acd0cee39e9736@kinotuskanac.hr
DTSTAMP:20260420T161501Z
DTSTART:20190624T210000
DTEND:20190624T230000
SUMMARY:Sedam godina vjernosti
LOCATION:Kino Tuškanac
DESCRIPTION:The Seven Year Itch, SAD, 1955 | Mjesto prikazivanja filma: Kulturno informativni centar KIC (Preradovićeva ul. 5) R: Billy Wilder
END:VEVENT

BEGIN:VEVENT
UID:e85f5ffa0945092d19ce12526651b769@kinotuskanac.hr
DTSTAMP:20260420T161501Z
DTSTART:20190625T190000
DTEND:20190625T210000
SUMMARY:Jedan, dva, tri
LOCATION:Kino Tuškanac
DESCRIPTION:One, Two, Three, SAD, 1961 R: Billy Wilder
END:VEVENT

BEGIN:VEVENT
UID:73e803ce38a2eb2bc633bb3251516658@kinotuskanac.hr
DTSTAMP:20260420T161501Z
DTSTART:20190625T210000
DTEND:20190625T230000
SUMMARY:Poljubi me, budalo
LOCATION:Kino Tuškanac
DESCRIPTION:Kiss Me, Stupid, SAD, 1964 R: Billy Wilder
END:VEVENT

BEGIN:VEVENT
UID:5eb879d4aece453488917fbed196b103@kinotuskanac.hr
DTSTAMP:20260420T161501Z
DTSTART:20190626T190000
DTEND:20190626T210000
SUMMARY:Sabrina
LOCATION:Kino Tuškanac
DESCRIPTION:SAD, 1954 R: Billy Wilder
END:VEVENT

BEGIN:VEVENT
UID:7e6f7f3455d61c17d56797f1742fb405@kinotuskanac.hr
DTSTAMP:20260420T161501Z
DTSTART:20190626T210000
DTEND:20190626T230000
SUMMARY:Kolačić sudbine
LOCATION:Kino Tuškanac
DESCRIPTION:The Fortune Coookie, SAD, 1966 R: Billy Wilder
END:VEVENT

BEGIN:VEVENT
UID:cb679dd9d884567664ca391ee8f339a4@kinotuskanac.hr
DTSTAMP:20260420T161501Z
DTSTART:20190627T190000
DTEND:20190627T210000
SUMMARY:Avanti!
LOCATION:Kino Tuškanac
DESCRIPTION:SAD, Italija, 1972 R: Billy Wilder
END:VEVENT

BEGIN:VEVENT
UID:d3d38b2ed772b0299bf890393de20f0a@kinotuskanac.hr
DTSTAMP:20260420T161501Z
DTSTART:20190628T190000
DTEND:20190628T210000
SUMMARY:Stalag 17
LOCATION:Kino Tuškanac
DESCRIPTION:SAD, 1953 R: Billy Wilder
END:VEVENT

BEGIN:VEVENT
UID:2884d22bddc38583a3982bcf55f3fa24@kinotuskanac.hr
DTSTAMP:20260420T161501Z
DTSTART:20190628T210000
DTEND:20190628T230000
SUMMARY:Dvostruka obmana
LOCATION:Kino Tuškanac
DESCRIPTION:Double Indemnity, SAD, 1944 R: Billy Wilder
END:VEVENT

BEGIN:VEVENT
UID:0d6dac1328dc64be17c4d67037a835b0@kinotuskanac.hr
DTSTAMP:20260420T161501Z
DTSTART:20190630T190000
DTEND:20190630T210000
SUMMARY:Ljubav poslijepodne (1957)
LOCATION:Kino Tuškanac
DESCRIPTION:Love in the Afternoon, SAD, 1957 R: Billy Wilder
END:VEVENT

BEGIN:VEVENT
UID:2b6adbaa531282c76d8d9f25d4796f54@kinotuskanac.hr
DTSTAMP:20260420T161501Z
DTSTART:20190702T190000
DTEND:20190702T210000
SUMMARY:Međunarodna afera
LOCATION:Kino Tuškanac
DESCRIPTION:A Foreign Affair, SAD, 1948 R: Billy Wilder
END:VEVENT
END:VCALENDAR