BEGIN:VCALENDAR
VERSION:2.0
PRODID:-//Kino Tuškanac//Filmski programi//HR
URL:http://kinotuskanac/calendar/cycle/706
NAME:Kino Tuškanac ciklus Portreti: Kriminalistički film Henri-Georges Clouzota
X-WR-CALNAME:Kino Tuškanac ciklus Portreti: Kriminalistički film Henri-Georges Clouzota
TIMEZONE-ID:Europe/Zagreb
X-WR-TIMEZONE:Europe/Zagreb
REFRESH-INTERVAL;VALUE=DURATION:PT12H
X-PUBLISHED-TTL:PT12H
METHOD:PUBLISH
BEGIN:VEVENT
UID:acb72baabcb10cc2061b4cce51f02655@kinotuskanac.hr
DTSTAMP:20260420T182736Z
DTSTART:20191007T190000
DTEND:20191007T210000
SUMMARY:Demoni
LOCATION:Kino Tuškanac
DESCRIPTION:Les diaboliques, Francuska, 1955 R: Henri-Georges Clouzot
END:VEVENT

BEGIN:VEVENT
UID:6886dc6cd3cda39b95f8cab1fb5d65e8@kinotuskanac.hr
DTSTAMP:20260420T182736Z
DTSTART:20191008T190000
DTEND:20191008T210000
SUMMARY:Ubojica stanuje na br. 21
LOCATION:Kino Tuškanac
DESCRIPTION:L'assassin habite… au 21, Francuska, 1942 R: Henri-Georges Clouzot
END:VEVENT

BEGIN:VEVENT
UID:fec2b7d733230619f6f75ed3de3040b2@kinotuskanac.hr
DTSTAMP:20260420T182736Z
DTSTART:20191008T210000
DTEND:20191008T230000
SUMMARY:Nadnica za strah
LOCATION:Kino Tuškanac
DESCRIPTION:Le salaire de la peur, Francuska, Italija, 1953 R: Henri-Georges Clouzot
END:VEVENT

BEGIN:VEVENT
UID:bdea313887616965e67006cac5eb5d12@kinotuskanac.hr
DTSTAMP:20260420T182736Z
DTSTART:20191009T190000
DTEND:20191009T210000
SUMMARY:Quai des Orfevres
LOCATION:Kino Tuškanac
DESCRIPTION:Francuska, 1947 R: Henri-Georges Clouzot
END:VEVENT

BEGIN:VEVENT
UID:269cc064904b80bfd756b11c847c2414@kinotuskanac.hr
DTSTAMP:20260420T182736Z
DTSTART:20191009T210000
DTEND:20191009T230000
SUMMARY:Manon
LOCATION:Kino Tuškanac
DESCRIPTION:Francuska, 1949 R: Henri-Georges Clouzot
END:VEVENT

BEGIN:VEVENT
UID:d2ece1c922498d2120d510122856273b@kinotuskanac.hr
DTSTAMP:20260420T182736Z
DTSTART:20191010T190000
DTEND:20191010T210000
SUMMARY:Gavran
LOCATION:Kino Tuškanac
DESCRIPTION:Le corbeau, Francuska, 1943 R: Henri-Georges Clouzot
END:VEVENT

BEGIN:VEVENT
UID:615abbd4b755babf7dd4e302973d3d25@kinotuskanac.hr
DTSTAMP:20260420T182736Z
DTSTART:20191010T210000
DTEND:20191010T230000
SUMMARY:Istina
LOCATION:Kino Tuškanac
DESCRIPTION:La verite, Francuska, Italija, 1960 R: Henri-Georges Clouzot
END:VEVENT
END:VCALENDAR