BEGIN:VCALENDAR
VERSION:2.0
PRODID:-//Kino Tuškanac//Filmski programi//HR
URL:http://kinotuskanac/calendar/cycle/711
NAME:Kino Tuškanac ciklus Kinoteka: Dubrovnik na filmu
X-WR-CALNAME:Kino Tuškanac ciklus Kinoteka: Dubrovnik na filmu
TIMEZONE-ID:Europe/Zagreb
X-WR-TIMEZONE:Europe/Zagreb
REFRESH-INTERVAL;VALUE=DURATION:PT12H
X-PUBLISHED-TTL:PT12H
METHOD:PUBLISH
BEGIN:VEVENT
UID:86bae7c5c33febe431cfc9a869077f02@kinotuskanac.hr
DTSTAMP:20260421T042259Z
DTSTART:20191022T190000
DTEND:20191022T210000
SUMMARY:Gosti iz galaksije
LOCATION:Kino Tuškanac
DESCRIPTION:Jugoslavija, Čehoslovačka, 1981 | Mjesto prikazivanja filma: Kulturno informativni centar KIC (Preradovićeva ul. 5) R: Dušan Vukotić
END:VEVENT

BEGIN:VEVENT
UID:096857aac1e45450af3229a25c7d8a16@kinotuskanac.hr
DTSTAMP:20260421T042259Z
DTSTART:20191022T210000
DTEND:20191022T230000
SUMMARY:Dubrovački suton
LOCATION:Kino Tuškanac
DESCRIPTION:1999 R: Željko Senečić
END:VEVENT

BEGIN:VEVENT
UID:700b9f657eb5b93d08b06dd2b30c863e@kinotuskanac.hr
DTSTAMP:20260421T042259Z
DTSTART:20191023T190000
DTEND:20191023T210000
SUMMARY:Proslava Sv. Vlaha u Dubrovniku
LOCATION:Kino Tuškanac
DESCRIPTION:Njemačka, AAFA Film, 1930 R: Nepoznat Nepoznat
END:VEVENT

BEGIN:VEVENT
UID:981e803508c694a34a77602154beb910@kinotuskanac.hr
DTSTAMP:20260421T042259Z
DTSTART:20191023T190000
DTEND:20191023T210000
SUMMARY:Dubrovnik
LOCATION:Kino Tuškanac
DESCRIPTION:Jugoslavija, Jadran film, 1952 R: Milan Katić
END:VEVENT

BEGIN:VEVENT
UID:83811613aac76cc93d8e388e6058bde3@kinotuskanac.hr
DTSTAMP:20260421T042259Z
DTSTART:20191023T190000
DTEND:20191023T210000
SUMMARY:Filmske novosti br. 10/77: Tito u Dubrovniku
LOCATION:Kino Tuškanac
DESCRIPTION:Jugoslavija, Filmske novosti, 1977 R: Nepoznat Nepoznat
END:VEVENT

BEGIN:VEVENT
UID:e3cce1a90101ab643bf1b069cc1a7b90@kinotuskanac.hr
DTSTAMP:20260421T042259Z
DTSTART:20191023T190000
DTEND:20191023T210000
SUMMARY:Ljepotica Jadrana
LOCATION:Kino Tuškanac
DESCRIPTION:Jugoslavija, Zagreb film, 1962 R: Mladen Feman
END:VEVENT

BEGIN:VEVENT
UID:2323038d0b3aadba408a5b3c94f3e198@kinotuskanac.hr
DTSTAMP:20260421T042259Z
DTSTART:20191023T190000
DTEND:20191023T210000
SUMMARY:Dubrovačke ljetne igre
LOCATION:Kino Tuškanac
DESCRIPTION:Jugoslavija, Zagreb film, 1969 R: Zvonimir Berković
END:VEVENT

BEGIN:VEVENT
UID:cb1a1e3ebce49ec6702fff07affb5397@kinotuskanac.hr
DTSTAMP:20260421T042259Z
DTSTART:20191023T190000
DTEND:20191023T210000
SUMMARY:More, grebeni, pisma
LOCATION:Kino Tuškanac
DESCRIPTION:Jugoslavija, Filmoteka 16, 1987 R: Zvonimir Berković
END:VEVENT

BEGIN:VEVENT
UID:d146a2056f684361cf0bf4a1b9dc69d1@kinotuskanac.hr
DTSTAMP:20260421T042259Z
DTSTART:20191023T210000
DTEND:20191023T230000
SUMMARY:Okupacija u 26 slika
LOCATION:Kino Tuškanac
DESCRIPTION:Jugoslavija: Hrvatska, Jadran film, Croatia film, 1978 R: Lordan Zafranović
END:VEVENT
END:VCALENDAR