BEGIN:VCALENDAR
VERSION:2.0
PRODID:-//Kino Tuškanac//Filmski programi//HR
URL:http://kinotuskanac/calendar/cycle/712
NAME:Kino Tuškanac ciklus Portreti: Filmske vijuge Krune Heidlera
X-WR-CALNAME:Kino Tuškanac ciklus Portreti: Filmske vijuge Krune Heidlera
TIMEZONE-ID:Europe/Zagreb
X-WR-TIMEZONE:Europe/Zagreb
REFRESH-INTERVAL;VALUE=DURATION:PT12H
X-PUBLISHED-TTL:PT12H
METHOD:PUBLISH
BEGIN:VEVENT
UID:636f9c62b4c06b224247430f9e547ba9@kinotuskanac.hr
DTSTAMP:20260419T174741Z
DTSTART:20191024T210000
DTEND:20191024T230000
SUMMARY:Živa istina
LOCATION:Kino Tuškanac
DESCRIPTION:1972 R: Tomislav Radić
END:VEVENT

BEGIN:VEVENT
UID:0a71f4f62673f8aecd3a2630aab0f9aa@kinotuskanac.hr
DTSTAMP:20260419T174741Z
DTSTART:20191024T190000
DTEND:20191024T210000
SUMMARY:Heidlerov krug
LOCATION:Kino Tuškanac
DESCRIPTION:BiH, 2013 R: Nedžad Begović
END:VEVENT

BEGIN:VEVENT
UID:67479315521e06ed8525e28115d650fb@kinotuskanac.hr
DTSTAMP:20260419T174741Z
DTSTART:20191024T190000
DTEND:20191024T210000
SUMMARY:Ponude pod broj
LOCATION:Kino Tuškanac
DESCRIPTION:1969 R: Petar Krelja
END:VEVENT

BEGIN:VEVENT
UID:8e59a8d215b8363fa432eb8e31565d10@kinotuskanac.hr
DTSTAMP:20260419T174741Z
DTSTART:20191024T190000
DTEND:20191024T210000
SUMMARY:Lutka
LOCATION:Kino Tuškanac
DESCRIPTION:Jugoslavija, 1969 R: Rudolf Franček
END:VEVENT

BEGIN:VEVENT
UID:8a4466c6a0256d3e49b3f18618df4dc1@kinotuskanac.hr
DTSTAMP:20260419T174741Z
DTSTART:20191024T190000
DTEND:20191024T210000
SUMMARY:Karanfil
LOCATION:Kino Tuškanac
DESCRIPTION:Jugoslavija, 1968 R: Ranko Kursar
END:VEVENT

BEGIN:VEVENT
UID:d9b4c723d5597c808b59cae19d0554f7@kinotuskanac.hr
DTSTAMP:20260419T174741Z
DTSTART:20191024T190000
DTEND:20191024T210000
SUMMARY:Sve jedno drugo pojede
LOCATION:Kino Tuškanac
DESCRIPTION:Jugoslavija, 1971 R: Rajko Grlić
END:VEVENT

BEGIN:VEVENT
UID:8f4ecbe7bda2b4337e819c2eaf64bfaa@kinotuskanac.hr
DTSTAMP:20260419T174741Z
DTSTART:20191024T190000
DTEND:20191024T210000
SUMMARY:Soba br. 205
LOCATION:Kino Tuškanac
DESCRIPTION:2016 R: skupina autora
END:VEVENT
END:VCALENDAR