BEGIN:VCALENDAR
VERSION:2.0
PRODID:-//Kino Tuškanac//Filmski programi//HR
URL:http://kinotuskanac/calendar/cycle/727
NAME:Kino Tuškanac ciklus Portreti: Suvremeni čileanski film Sebastiana Lelioa
X-WR-CALNAME:Kino Tuškanac ciklus Portreti: Suvremeni čileanski film Sebastiana Lelioa
TIMEZONE-ID:Europe/Zagreb
X-WR-TIMEZONE:Europe/Zagreb
REFRESH-INTERVAL;VALUE=DURATION:PT12H
X-PUBLISHED-TTL:PT12H
METHOD:PUBLISH
BEGIN:VEVENT
UID:6a155bb108e82ff0e7010efdfcb98746@kinotuskanac.hr
DTSTAMP:20260422T142544Z
DTSTART:20191216T190000
DTEND:20191216T210000
SUMMARY:Fantastična žena
LOCATION:Kino Tuškanac
DESCRIPTION:Una Mujer Fantástica, Čile, Njemačka, Španjolska, SAD, 2017 R: Sebastián Lelio
END:VEVENT

BEGIN:VEVENT
UID:07014ed0b1f3e4b3a5284fa801417da1@kinotuskanac.hr
DTSTAMP:20260422T142544Z
DTSTART:20191216T210000
DTEND:20191216T230000
SUMMARY:Gloria
LOCATION:Kino Tuškanac
DESCRIPTION:Čile, Španjolska, 2013 R: Sebastián Lelio
END:VEVENT
END:VCALENDAR