BEGIN:VCALENDAR
VERSION:2.0
PRODID:-//Kino Tuškanac//Filmski programi//HR
URL:http://kinotuskanac/calendar/cycle/736
NAME:Kino Tuškanac ciklus Portreti: Nuri Bilge Ceylan
X-WR-CALNAME:Kino Tuškanac ciklus Portreti: Nuri Bilge Ceylan
TIMEZONE-ID:Europe/Zagreb
X-WR-TIMEZONE:Europe/Zagreb
REFRESH-INTERVAL;VALUE=DURATION:PT12H
X-PUBLISHED-TTL:PT12H
METHOD:PUBLISH
BEGIN:VEVENT
UID:9e1eb352e9e67f11e14afc832dcc0ccf@kinotuskanac.hr
DTSTAMP:20260423T042249Z
DTSTART:20200201T190000
DTEND:20200201T210000
SUMMARY:Bilo jednom u Anadoliji
LOCATION:Kino Tuškanac
DESCRIPTION:Bir Zamanlar Anadolu’da, Turska, Bosna i Hercegovina, 2011 R: Nuri Bilge Ceylan
END:VEVENT

BEGIN:VEVENT
UID:8e1f4b731b41062a25246bf5942a49a5@kinotuskanac.hr
DTSTAMP:20260423T042249Z
DTSTART:20200202T190000
DTEND:20200202T210000
SUMMARY:Zimski san
LOCATION:Kino Tuškanac
DESCRIPTION:Kis Uykusu, Turska, Francuska, Njemačka, 2014 R: Nuri Bilge Ceylan
END:VEVENT

BEGIN:VEVENT
UID:9d04ce3faa0078a96d6760d7254fa168@kinotuskanac.hr
DTSTAMP:20260423T042249Z
DTSTART:20200203T190000
DTEND:20200203T210000
SUMMARY:Tri majmuna
LOCATION:Kino Tuškanac
DESCRIPTION:Üç Maymun, Turska, Francuska, Italija, 2008 R: Nuri Bilge Ceylan
END:VEVENT

BEGIN:VEVENT
UID:761a1aa39ea271d4a3a7bc5ffadc70dc@kinotuskanac.hr
DTSTAMP:20260423T042249Z
DTSTART:20200203T210000
DTEND:20200203T230000
SUMMARY:Grad
LOCATION:Kino Tuškanac
DESCRIPTION:Kasaba, Turska, 1997 R: Nuri Bilge Ceylan
END:VEVENT

BEGIN:VEVENT
UID:131bddee246298c147a6a332e3189ee8@kinotuskanac.hr
DTSTAMP:20260423T042249Z
DTSTART:20200204T190000
DTEND:20200204T210000
SUMMARY:Dalek
LOCATION:Kino Tuškanac
DESCRIPTION:Uzak, Turska, 2002 R: Nuri Bilge Ceylan
END:VEVENT

BEGIN:VEVENT
UID:99e75234826c7ad7a3e15c9a2ca31609@kinotuskanac.hr
DTSTAMP:20260423T042249Z
DTSTART:20200204T210000
DTEND:20200204T230000
SUMMARY:Klime
LOCATION:Kino Tuškanac
DESCRIPTION:Iklimler, Turska, Francuska, 2006 R: Nuri Bilge Ceylan
END:VEVENT

BEGIN:VEVENT
UID:66d5420af6726899d2567ec2c0369ad1@kinotuskanac.hr
DTSTAMP:20260423T042249Z
DTSTART:20200205T190000
DTEND:20200205T210000
SUMMARY:Svibanjski oblaci
LOCATION:Kino Tuškanac
DESCRIPTION:Mayis Sikintisi, Turska, 1999 R: Nuri Bilge Ceylan
END:VEVENT

BEGIN:VEVENT
UID:0a2dc458e5fda23b8a8e83fc1302a216@kinotuskanac.hr
DTSTAMP:20260423T042249Z
DTSTART:20200206T190000
DTEND:20200206T210000
SUMMARY:Drvo divlje kruške
LOCATION:Kino Tuškanac
DESCRIPTION:Ahlat Agaci, Turska, Francuska, Njemačka, Bugarska, Švedska, Republika Makedonija, Bosna i Hercegovina, 2018 R: Nuri Bilge Ceylan
END:VEVENT
END:VCALENDAR