BEGIN:VCALENDAR
VERSION:2.0
PRODID:-//Kino Tuškanac//Filmski programi//HR
URL:http://kinotuskanac/calendar/cycle/738
NAME:Kino Tuškanac ciklus Portreti: Federico Fellini
X-WR-CALNAME:Kino Tuškanac ciklus Portreti: Federico Fellini
TIMEZONE-ID:Europe/Zagreb
X-WR-TIMEZONE:Europe/Zagreb
REFRESH-INTERVAL;VALUE=DURATION:PT12H
X-PUBLISHED-TTL:PT12H
METHOD:PUBLISH
BEGIN:VEVENT
UID:afde17f90698cca25dfa37271a41ee10@kinotuskanac.hr
DTSTAMP:20260421T200909Z
DTSTART:20200213T190000
DTEND:20200213T210000
SUMMARY:Osam i pol
LOCATION:Kino Tuškanac
DESCRIPTION:Otto e mezzo, Italija, Francuska, 1963 R: Federico Fellini
END:VEVENT

BEGIN:VEVENT
UID:3ab11a1fece1d4f643c9947bd63f1aa8@kinotuskanac.hr
DTSTAMP:20260421T200909Z
DTSTART:20200214T190000
DTEND:20200214T210000
SUMMARY:Cesta
LOCATION:Kino Tuškanac
DESCRIPTION:La strada, Italija, 1954 R: Federico Fellini
END:VEVENT

BEGIN:VEVENT
UID:cf260608cb1079dff464c9cb8ab53ca4@kinotuskanac.hr
DTSTAMP:20260421T200909Z
DTSTART:20200214T210000
DTEND:20200214T230000
SUMMARY:Cabirijine noći
LOCATION:Kino Tuškanac
DESCRIPTION:Le notti di Cabiria, Italija, Francuska, 1957 R: Federico Fellini
END:VEVENT

BEGIN:VEVENT
UID:ede6f540d38c1e4b308f2627bd36f8c6@kinotuskanac.hr
DTSTAMP:20260421T200909Z
DTSTART:20200215T190000
DTEND:20200215T210000
SUMMARY:Slatki život
LOCATION:Kino Tuškanac
DESCRIPTION:La dolce vita, Italija, Francuska, 1960 R: Federico Fellini
END:VEVENT

BEGIN:VEVENT
UID:d9fcb7bb6e007c936adcc6c5c183980e@kinotuskanac.hr
DTSTAMP:20260421T200909Z
DTSTART:20200216T190000
DTEND:20200216T210000
SUMMARY:Amarcord
LOCATION:Kino Tuškanac
DESCRIPTION:Italija, Francuska, 1973 R: Federico Fellini
END:VEVENT

BEGIN:VEVENT
UID:63603696611f88cf696cb4cc52432fb4@kinotuskanac.hr
DTSTAMP:20260421T200909Z
DTSTART:20200216T211500
DTEND:20200216T231500
SUMMARY:Probisvijet
LOCATION:Kino Tuškanac
DESCRIPTION:Il bidone, Italija, Francuska, 1955 R: Federico Fellini
END:VEVENT

BEGIN:VEVENT
UID:87670da2a04c9748858677a8db66c797@kinotuskanac.hr
DTSTAMP:20260421T200909Z
DTSTART:20200217T190000
DTEND:20200217T210000
SUMMARY:Casanova
LOCATION:Kino Tuškanac
DESCRIPTION:Il Casanova di Federico Fellini, Italija, 1976 R: Federico Fellini
END:VEVENT

BEGIN:VEVENT
UID:e9c0feef7025164ad40eb50a35bddf64@kinotuskanac.hr
DTSTAMP:20260421T200909Z
DTSTART:20200218T190000
DTEND:20200218T210000
SUMMARY:Rim
LOCATION:Kino Tuškanac
DESCRIPTION:Roma, Italija, Francuska, 1972 R: Federico Fellini
END:VEVENT

BEGIN:VEVENT
UID:32cb9e3ee7f08f7f66ab08c24335bf6d@kinotuskanac.hr
DTSTAMP:20260421T200909Z
DTSTART:20200218T210000
DTEND:20200218T230000
SUMMARY:Dangube
LOCATION:Kino Tuškanac
DESCRIPTION:I vitelloni, Italija, Francuska, 1953 R: Federico Fellini
END:VEVENT

BEGIN:VEVENT
UID:4a330ab4857311594c37b3997ddac636@kinotuskanac.hr
DTSTAMP:20260421T200909Z
DTSTART:20200219T190000
DTEND:20200219T210000
SUMMARY:Giulietta od duhova
LOCATION:Kino Tuškanac
DESCRIPTION:Giulietta degli spiriti, Italija, Francuska, 1965 R: Federico Fellini
END:VEVENT
END:VCALENDAR