BEGIN:VCALENDAR
VERSION:2.0
PRODID:-//Kino Tuškanac//Filmski programi//HR
URL:http://kinotuskanac/calendar/cycle/74
NAME:Kino Tuškanac ciklus Hrvatski film pedesetih II
X-WR-CALNAME:Kino Tuškanac ciklus Hrvatski film pedesetih II
TIMEZONE-ID:Europe/Zagreb
X-WR-TIMEZONE:Europe/Zagreb
REFRESH-INTERVAL;VALUE=DURATION:PT12H
X-PUBLISHED-TTL:PT12H
METHOD:PUBLISH
BEGIN:VEVENT
UID:d29d6ad6f356419068d2d36cadb358c8@kinotuskanac.hr
DTSTAMP:20260419T222902Z
DTSTART:20050212T190000
DTEND:20050212T210000
SUMMARY:Samo ljudi
LOCATION:Kino Tuškanac
DESCRIPTION:Jugoslavija: Hrvatska, 1957 | Mjesto prikazivanja filma: Kulturno informativni centar KIC (Preradovićeva ul. 5) R: Branko Bauer
END:VEVENT

BEGIN:VEVENT
UID:2abf2721940ea170667630f8576826a8@kinotuskanac.hr
DTSTAMP:20260419T222902Z
DTSTART:20050215T190000
DTEND:20050215T210000
SUMMARY:Vlak bez voznog reda
LOCATION:Kino Tuškanac
DESCRIPTION:Jugoslavija, 1959 | Mjesto prikazivanja filma: MM-centar (Studentski centar, Savska cesta 25) R: Veljko Bulajić
END:VEVENT
END:VCALENDAR