BEGIN:VCALENDAR
VERSION:2.0
PRODID:-//Kino Tuškanac//Filmski programi//HR
URL:http://kinotuskanac/calendar/cycle/744
NAME:Kino Tuškanac ciklus Portreti: Andrzej Żuławski
X-WR-CALNAME:Kino Tuškanac ciklus Portreti: Andrzej Żuławski
TIMEZONE-ID:Europe/Zagreb
X-WR-TIMEZONE:Europe/Zagreb
REFRESH-INTERVAL;VALUE=DURATION:PT12H
X-PUBLISHED-TTL:PT12H
METHOD:PUBLISH
BEGIN:VEVENT
UID:7728642c6d9706404a7c6ae2f08fd41d@kinotuskanac.hr
DTSTAMP:20260421T175218Z
DTSTART:20200305T190000
DTEND:20200305T210000
SUMMARY:Na srebrnom globusu
LOCATION:Kino Tuškanac
DESCRIPTION:Na srebrnym globie, Poljska, 1988 R: Andrzej Żuławski
END:VEVENT

BEGIN:VEVENT
UID:5074573ad8be45dbf9125feac556d50d@kinotuskanac.hr
DTSTAMP:20260421T175218Z
DTSTART:20200306T190000
DTEND:20200306T210000
SUMMARY:Opsjednutost
LOCATION:Kino Tuškanac
DESCRIPTION:Possesion, Francuska, Zapadna Njemačka, 1981 R: Andrzej Żuławski
END:VEVENT

BEGIN:VEVENT
UID:524b72d77397e19a9dcad90cabe17329@kinotuskanac.hr
DTSTAMP:20260421T175218Z
DTSTART:20200306T211500
DTEND:20200306T231500
SUMMARY:Trećina noći
LOCATION:Kino Tuškanac
DESCRIPTION:Trzecia czecs nocy, Poljska, 1971 R: Andrzej Żuławski
END:VEVENT

BEGIN:VEVENT
UID:73a0dd8cb36781f0d883769af23cb71c@kinotuskanac.hr
DTSTAMP:20260421T175218Z
DTSTART:20200307T190000
DTEND:20200307T210000
SUMMARY:Đavao
LOCATION:Kino Tuškanac
DESCRIPTION:Diabel, Poljska, 1972 R: Andrzej Żuławski
END:VEVENT

BEGIN:VEVENT
UID:496000acfe0061ec0b347620a42d2fbf@kinotuskanac.hr
DTSTAMP:20260421T175218Z
DTSTART:20200307T211500
DTEND:20200307T231500
SUMMARY:Važno je voljeti
LOCATION:Kino Tuškanac
DESCRIPTION:L'important c'est d'aimer, Francuska, Italija, Zapadna Njemačka, 1975 R: Andrzej Żuławski
END:VEVENT
END:VCALENDAR