BEGIN:VCALENDAR
VERSION:2.0
PRODID:-//Kino Tuškanac//Filmski programi//HR
URL:http://kinotuskanac/calendar/cycle/755
NAME:Kino Tuškanac ciklus Portreti: Vizualne simfonije Friedricha Wilhelma Murnaua
X-WR-CALNAME:Kino Tuškanac ciklus Portreti: Vizualne simfonije Friedricha Wilhelma Murnaua
TIMEZONE-ID:Europe/Zagreb
X-WR-TIMEZONE:Europe/Zagreb
REFRESH-INTERVAL;VALUE=DURATION:PT12H
X-PUBLISHED-TTL:PT12H
METHOD:PUBLISH
BEGIN:VEVENT
UID:112ef58dd0d569b931dc41442b043437@kinotuskanac.hr
DTSTAMP:20260421T201807Z
DTSTART:20200605T200000
DTEND:20200605T220000
SUMMARY:Nosferatu, simfonija strave
LOCATION:Kino Tuškanac
DESCRIPTION:Nosferatu, eine Symphonie des Grauens, Njemačka, 1922 R: Friedrich Wilhelm Murnau
END:VEVENT

BEGIN:VEVENT
UID:6b65a2ec846473141c1cf30d6a40d1b5@kinotuskanac.hr
DTSTAMP:20260421T201807Z
DTSTART:20200606T200000
DTEND:20200606T220000
SUMMARY:Fantom
LOCATION:Kino Tuškanac
DESCRIPTION:Phantom, Njemačka, 1922 R: Friedrich Wilhelm Murnau
END:VEVENT

BEGIN:VEVENT
UID:88630b0f4e80caf4191d613fe220e578@kinotuskanac.hr
DTSTAMP:20260421T201807Z
DTSTART:20200607T200000
DTEND:20200607T220000
SUMMARY:Posljednji čovjek
LOCATION:Kino Tuškanac
DESCRIPTION:Der Letzte Mann, Njemačka, 1924 R: Friedrich Wilhelm Murnau
END:VEVENT

BEGIN:VEVENT
UID:e362a9f49da5c8bf8fefca3b83f5b860@kinotuskanac.hr
DTSTAMP:20260421T201807Z
DTSTART:20200608T200000
DTEND:20200608T220000
SUMMARY:Faust
LOCATION:Kino Tuškanac
DESCRIPTION:Faust: Eine deutsche Volkssage, Njemačka, 1926 R: Friedrich Wilhelm Murnau
END:VEVENT

BEGIN:VEVENT
UID:70188f983da57e390940cfd8f4593258@kinotuskanac.hr
DTSTAMP:20260421T201807Z
DTSTART:20200609T190000
DTEND:20200609T210000
SUMMARY:Tabu
LOCATION:Kino Tuškanac
DESCRIPTION:Tabu: A Story of the South Seas, SAD, 1931 R: Friedrich Wilhelm Murnau
END:VEVENT

BEGIN:VEVENT
UID:2c6745d19bbfeabfc7962518c2be55ff@kinotuskanac.hr
DTSTAMP:20260421T201807Z
DTSTART:20200610T200000
DTEND:20200610T220000
SUMMARY:Gradska djevojka
LOCATION:Kino Tuškanac
DESCRIPTION:City Girl, SAD, 1930 R: Friedrich Wilhelm Murnau
END:VEVENT

BEGIN:VEVENT
UID:3bfb75fd07704680af657277cc037f0e@kinotuskanac.hr
DTSTAMP:20260421T201807Z
DTSTART:20200611T200000
DTEND:20200611T220000
SUMMARY:Tartüff
LOCATION:Kino Tuškanac
DESCRIPTION:Herr Tartüff, Njemačka, 1925 R: Friedrich Wilhelm Murnau
END:VEVENT

BEGIN:VEVENT
UID:f1f255988edcc324b792f3e124a14e41@kinotuskanac.hr
DTSTAMP:20260421T201807Z
DTSTART:20200612T200000
DTEND:20200612T220000
SUMMARY:Zora
LOCATION:Kino Tuškanac
DESCRIPTION:Sunrise: A Song of Two Humans, SAD, 1927 R: Friedrich Wilhelm Murnau
END:VEVENT
END:VCALENDAR