BEGIN:VCALENDAR
VERSION:2.0
PRODID:-//Kino Tuškanac//Filmski programi//HR
URL:http://kinotuskanac/calendar/cycle/759
NAME:Kino Tuškanac ciklus Fantastic Zagreb Film Festival 2020
X-WR-CALNAME:Kino Tuškanac ciklus Fantastic Zagreb Film Festival 2020
TIMEZONE-ID:Europe/Zagreb
X-WR-TIMEZONE:Europe/Zagreb
REFRESH-INTERVAL;VALUE=DURATION:PT12H
X-PUBLISHED-TTL:PT12H
METHOD:PUBLISH
BEGIN:VEVENT
UID:44d5801304315889cb9ef29725fca6c3@kinotuskanac.hr
DTSTAMP:20260420T184523Z
DTSTART:20200716T190000
DTEND:20200716T210000
SUMMARY:Kabinet doktora Caligarija
LOCATION:Kino Tuškanac
DESCRIPTION:Das Cabinet des Dr. Caligari, Njemačka, 1919 R: Robert Wiene
END:VEVENT

BEGIN:VEVENT
UID:7c0a946c065a7d3165645145fb143348@kinotuskanac.hr
DTSTAMP:20260420T184523Z
DTSTART:20200717T184500
DTEND:20200717T204500
SUMMARY:Divlji planet
LOCATION:Kino Tuškanac
DESCRIPTION:La planète sauvage, Francuska, Čehoslovačka, 1973 R: René Laloux
END:VEVENT

BEGIN:VEVENT
UID:aebefc079ad8b78672b38718da645872@kinotuskanac.hr
DTSTAMP:20260420T184523Z
DTSTART:20200718T190000
DTEND:20200718T210000
SUMMARY:Vremeplov
LOCATION:Kino Tuškanac
DESCRIPTION:The Time Machine, SAD, 1960 R: George Pal
END:VEVENT
END:VCALENDAR