BEGIN:VCALENDAR
VERSION:2.0
PRODID:-//Kino Tuškanac//Filmski programi//HR
URL:http://kinotuskanac/calendar/cycle/766
NAME:Kino Tuškanac ciklus Portreti: Nadrealistički film Luisa Buñuela
X-WR-CALNAME:Kino Tuškanac ciklus Portreti: Nadrealistički film Luisa Buñuela
TIMEZONE-ID:Europe/Zagreb
X-WR-TIMEZONE:Europe/Zagreb
REFRESH-INTERVAL;VALUE=DURATION:PT12H
X-PUBLISHED-TTL:PT12H
METHOD:PUBLISH
BEGIN:VEVENT
UID:58ff0f0a525dd9d5d6678ef353ca6493@kinotuskanac.hr
DTSTAMP:20260421T113558Z
DTSTART:20200921T190000
DTEND:20200921T210000
SUMMARY:Diskretni šarm buržoazije
LOCATION:Kino Tuškanac
DESCRIPTION:Le charme discret de la bourgeoisie, Francuska, Italija, Španjolska, 1972 R: Luis Buñuel
END:VEVENT

BEGIN:VEVENT
UID:f7546d24d0813f15fe322b72a20bc51d@kinotuskanac.hr
DTSTAMP:20260421T113558Z
DTSTART:20200922T190000
DTEND:20200922T210000
SUMMARY:Andaluzijski pas
LOCATION:Kino Tuškanac
DESCRIPTION:Un chien andalou, Francuska, 1929 R: Luis Buñuel
END:VEVENT

BEGIN:VEVENT
UID:b83151633e792abb2f3d72a1d2207601@kinotuskanac.hr
DTSTAMP:20260421T113558Z
DTSTART:20200922T190000
DTEND:20200922T210000
SUMMARY:Viridiana
LOCATION:Kino Tuškanac
DESCRIPTION:Španjolska, Meksiko, 1961 R: Luis Buñuel
END:VEVENT

BEGIN:VEVENT
UID:4a41d4541e3d125a8c455829a7c9a2f9@kinotuskanac.hr
DTSTAMP:20260421T113558Z
DTSTART:20200923T190000
DTEND:20200923T210000
SUMMARY:Fantom slobode
LOCATION:Kino Tuškanac
DESCRIPTION:Le fantôme de la liberté, Francuska, 1974 R: Luis Buñuel
END:VEVENT

BEGIN:VEVENT
UID:bd77d920285d937ab2e0364aa256efc5@kinotuskanac.hr
DTSTAMP:20260421T113558Z
DTSTART:20200923T210000
DTEND:20200923T230000
SUMMARY:Smrt u vrtu
LOCATION:Kino Tuškanac
DESCRIPTION:La mort en ce jardin, Francuska, 1956 R: Luis Buñuel
END:VEVENT

BEGIN:VEVENT
UID:77e9a5685ebdf60f8d63f2eb26745a7a@kinotuskanac.hr
DTSTAMP:20260421T113558Z
DTSTART:20200924T190000
DTEND:20200924T210000
SUMMARY:Anđeo uništenja
LOCATION:Kino Tuškanac
DESCRIPTION:El ángel exterminador, Meksiko, 1962 R: Luis Buñuel
END:VEVENT

BEGIN:VEVENT
UID:a4473d241c3e1e6980413a95aaf53584@kinotuskanac.hr
DTSTAMP:20260421T113558Z
DTSTART:20200924T210000
DTEND:20200924T230000
SUMMARY:On
LOCATION:Kino Tuškanac
DESCRIPTION:Él, Meksiko, 1953 R: Luis Buñuel
END:VEVENT

BEGIN:VEVENT
UID:0afbab959a66d98d8ef5a10d9e8f2eaa@kinotuskanac.hr
DTSTAMP:20260421T113558Z
DTSTART:20200925T190000
DTEND:20200925T210000
SUMMARY:Ljepotica dana
LOCATION:Kino Tuškanac
DESCRIPTION:Belle de jour, Francuska, 1967 R: Luis Buñuel
END:VEVENT

BEGIN:VEVENT
UID:d666c7bd181670123c9d9f9a48a830a7@kinotuskanac.hr
DTSTAMP:20260421T113558Z
DTSTART:20200925T210000
DTEND:20200925T230000
SUMMARY:Dnevnik jedne sobarice
LOCATION:Kino Tuškanac
DESCRIPTION:Le journal d'une femme de chambre, Francuska, Italija, 1964 R: Luis Buñuel
END:VEVENT

BEGIN:VEVENT
UID:6b36a11fcdb63a63968a5e9a0ab39570@kinotuskanac.hr
DTSTAMP:20260421T113558Z
DTSTART:20200926T190000
DTEND:20200926T210000
SUMMARY:Taj mračni predmet žudnje
LOCATION:Kino Tuškanac
DESCRIPTION:Cet obscur objet du désir, Francuska, Španjolska, 1977 | Mjesto prikazivanja filma: Kulturno informativni centar KIC (Preradovićeva ul. 5) R: Luis Buñuel
END:VEVENT

BEGIN:VEVENT
UID:fc6fa0029ab0932a85d3d74f90822dd6@kinotuskanac.hr
DTSTAMP:20260421T113558Z
DTSTART:20200926T210000
DTEND:20200926T230000
SUMMARY:Susana
LOCATION:Kino Tuškanac
DESCRIPTION:Meksiko, 1951 R: Luis Buñuel
END:VEVENT

BEGIN:VEVENT
UID:a131be247b24a1ad2b27cad947578989@kinotuskanac.hr
DTSTAMP:20260421T113558Z
DTSTART:20200927T190000
DTEND:20200927T210000
SUMMARY:Zlatno doba
LOCATION:Kino Tuškanac
DESCRIPTION:L' Âge d'or, Francuska, 1930 R: Luis Buñuel
END:VEVENT

BEGIN:VEVENT
UID:9267d9eb1274fa0efe4c9f2be016eba3@kinotuskanac.hr
DTSTAMP:20260421T113558Z
DTSTART:20200927T190000
DTEND:20200927T210000
SUMMARY:Šimun pustinjski
LOCATION:Kino Tuškanac
DESCRIPTION:Simón del desierto, Meksiko, 1965 R: Luis Buñuel
END:VEVENT

BEGIN:VEVENT
UID:9dc62537a20fc58f459ab74e4432322e@kinotuskanac.hr
DTSTAMP:20260421T113558Z
DTSTART:20200927T210000
DTEND:20200927T230000
SUMMARY:Djevojka
LOCATION:Kino Tuškanac
DESCRIPTION:La joven, Meksiko, 1960 R: Luis Buñuel
END:VEVENT

BEGIN:VEVENT
UID:d3624e8caad33eea056892f2d26c6b18@kinotuskanac.hr
DTSTAMP:20260421T113558Z
DTSTART:20200928T190000
DTEND:20200928T210000
SUMMARY:Mliječni put
LOCATION:Kino Tuškanac
DESCRIPTION:La voie lactée, Francuska, Italija, Zapadna Njemačka, 1969 R: Luis Buñuel
END:VEVENT

BEGIN:VEVENT
UID:34e5d4423c9c761abca819d5a96362bb@kinotuskanac.hr
DTSTAMP:20260421T113558Z
DTSTART:20200928T210000
DTEND:20200928T230000
SUMMARY:Grubijan
LOCATION:Kino Tuškanac
DESCRIPTION:El bruto, Meksiko, 1953 R: Luis Buñuel
END:VEVENT

BEGIN:VEVENT
UID:cdb77ef8bdd49b4d4dd71a840bbb21be@kinotuskanac.hr
DTSTAMP:20260421T113558Z
DTSTART:20200929T190000
DTEND:20200929T210000
SUMMARY:Zaboravljeni
LOCATION:Kino Tuškanac
DESCRIPTION:Los olvidados, Meksiko, 1950 R: Luis Buñuel
END:VEVENT

BEGIN:VEVENT
UID:18261da01a8486962848ca9184d7f88e@kinotuskanac.hr
DTSTAMP:20260421T113558Z
DTSTART:20200929T210000
DTEND:20200929T230000
SUMMARY:Nazarin
LOCATION:Kino Tuškanac
DESCRIPTION:Meksiko, 1959 R: Luis Buñuel
END:VEVENT

BEGIN:VEVENT
UID:c5c766541ca60356196366a21984ad47@kinotuskanac.hr
DTSTAMP:20260421T113558Z
DTSTART:20200930T190000
DTEND:20200930T210000
SUMMARY:Tristana
LOCATION:Kino Tuškanac
DESCRIPTION:Španjolska, Italija, Francuska, 1970 R: Luis Buñuel
END:VEVENT

BEGIN:VEVENT
UID:3839644e2eaadf3486543db68c0fc303@kinotuskanac.hr
DTSTAMP:20260421T113558Z
DTSTART:20200930T210000
DTEND:20200930T230000
SUMMARY:Zločinački život Archibalda de la Cruza
LOCATION:Kino Tuškanac
DESCRIPTION:Ensayo d'un crimen, Meksiko, 1955 R: Luis Buñuel
END:VEVENT
END:VCALENDAR