BEGIN:VCALENDAR
VERSION:2.0
PRODID:-//Kino Tuškanac//Filmski programi//HR
URL:http://kinotuskanac/calendar/cycle/771
NAME:Kino Tuškanac ciklus Retrovizor 1940-49
X-WR-CALNAME:Kino Tuškanac ciklus Retrovizor 1940-49
TIMEZONE-ID:Europe/Zagreb
X-WR-TIMEZONE:Europe/Zagreb
REFRESH-INTERVAL;VALUE=DURATION:PT12H
X-PUBLISHED-TTL:PT12H
METHOD:PUBLISH
BEGIN:VEVENT
UID:825dd09cc1b35edc31bd287032874bc6@kinotuskanac.hr
DTSTAMP:20260423T143615Z
DTSTART:20201027T180000
DTEND:20201027T200000
SUMMARY:Prepusti je nebu
LOCATION:Kino Tuškanac
DESCRIPTION:Leave Her to Heaven, SAD, 1945 R: John M. Stahl
END:VEVENT

BEGIN:VEVENT
UID:40a60ee77972975495b569e4e2a3726f@kinotuskanac.hr
DTSTAMP:20260423T143615Z
DTSTART:20201027T200000
DTEND:20201027T220000
SUMMARY:Usijanje
LOCATION:Kino Tuškanac
DESCRIPTION:White Heat, SAD, 1949 R: Raoul Walsh
END:VEVENT

BEGIN:VEVENT
UID:e058277af96b6362cc64c3f41acae0ca@kinotuskanac.hr
DTSTAMP:20260423T143615Z
DTSTART:20201102T190000
DTEND:20201102T210000
SUMMARY:Gilda
LOCATION:Kino Tuškanac
DESCRIPTION:SAD, 1946 R: Charles Vidor
END:VEVENT

BEGIN:VEVENT
UID:2a8c499714ce49e42aaa386d11977a70@kinotuskanac.hr
DTSTAMP:20260423T143615Z
DTSTART:20201109T190000
DTEND:20201109T210000
SUMMARY:Omča za vješanje
LOCATION:Kino Tuškanac
DESCRIPTION:The Ox-Bow Incident, SAD, 1942 R: William A. Wellman
END:VEVENT

BEGIN:VEVENT
UID:4df99f932f27405eb1bfb440862a7f8a@kinotuskanac.hr
DTSTAMP:20260423T143615Z
DTSTART:20201123T190000
DTEND:20201123T210000
SUMMARY:Zaobilazni put
LOCATION:Kino Tuškanac
DESCRIPTION:Detour, SAD, 1945 R: Edgar G. Ulmer
END:VEVENT

BEGIN:VEVENT
UID:4fb7f71d234091652bf2072e615ac9ad@kinotuskanac.hr
DTSTAMP:20260423T143615Z
DTSTART:20201207T190000
DTEND:20201207T210000
SUMMARY:Gluho doba noći
LOCATION:Kino Tuškanac
DESCRIPTION:Dead of Night, UK, 1945 R: Alberto Cavalcanti
END:VEVENT

BEGIN:VEVENT
UID:96910c92339c309286514f38bf31c575@kinotuskanac.hr
DTSTAMP:20260423T143615Z
DTSTART:20201222T190000
DTEND:20201222T210000
SUMMARY:Na raskršću
LOCATION:Kino Tuškanac
DESCRIPTION:Now, Voyager, SAD, 1942 R: Irving Rapper
END:VEVENT

BEGIN:VEVENT
UID:6e297e2df88570513f8b7ee4d2401659@kinotuskanac.hr
DTSTAMP:20260423T143615Z
DTSTART:20210221T190000
DTEND:20210221T210000
SUMMARY:Poštar uvijek zvoni dvaput
LOCATION:Kino Tuškanac
DESCRIPTION:The Postman Always Rings Twice, SAD, 1946 R: Tay Garnett
END:VEVENT

BEGIN:VEVENT
UID:aeb062081c06bb90ad9deeca8bb48746@kinotuskanac.hr
DTSTAMP:20260423T143615Z
DTSTART:20210517T190000
DTEND:20210517T210000
SUMMARY:Zmijsko leglo
LOCATION:Kino Tuškanac
DESCRIPTION:The Snake Pit, SAD, 1948 R: Anatole Litvak
END:VEVENT

BEGIN:VEVENT
UID:dbb22cc8db736f24edf2bff6130a8338@kinotuskanac.hr
DTSTAMP:20260423T143615Z
DTSTART:20210517T210000
DTEND:20210517T230000
SUMMARY:Opsjednuta
LOCATION:Kino Tuškanac
DESCRIPTION:Possessed, SAD, 1947 R: Curtis Bernhardt
END:VEVENT

BEGIN:VEVENT
UID:40e587cb06c0dc15c4385c2b3c6aded8@kinotuskanac.hr
DTSTAMP:20260423T143615Z
DTSTART:20210519T190000
DTEND:20210519T210000
SUMMARY:Mračni prolaz
LOCATION:Kino Tuškanac
DESCRIPTION:Dark Passage, SAD, 1947 R: Delmer Daves
END:VEVENT

BEGIN:VEVENT
UID:0f5453bc37df57a22cc1f2bd987a8c0f@kinotuskanac.hr
DTSTAMP:20260423T143615Z
DTSTART:20210519T210000
DTEND:20210519T230000
SUMMARY:Visoka Sierra
LOCATION:Kino Tuškanac
DESCRIPTION:High Sierra, SAD, 1941 R: Raoul Walsh
END:VEVENT

BEGIN:VEVENT
UID:0beb5ba3452d688312b711ca414710c5@kinotuskanac.hr
DTSTAMP:20260423T143615Z
DTSTART:20230205T190000
DTEND:20230205T210000
SUMMARY:Djeca raja (1945)
LOCATION:Kino Tuškanac
DESCRIPTION:Les enfants du paradis, Francuska, 1945 R: Marcel Carné
END:VEVENT
END:VCALENDAR