BEGIN:VCALENDAR
VERSION:2.0
PRODID:-//Kino Tuškanac//Filmski programi//HR
URL:http://kinotuskanac/calendar/cycle/773
NAME:Kino Tuškanac ciklus Retrovizor 1960-69
X-WR-CALNAME:Kino Tuškanac ciklus Retrovizor 1960-69
TIMEZONE-ID:Europe/Zagreb
X-WR-TIMEZONE:Europe/Zagreb
REFRESH-INTERVAL;VALUE=DURATION:PT12H
X-PUBLISHED-TTL:PT12H
METHOD:PUBLISH
BEGIN:VEVENT
UID:8f30e3388f287ad3a1ff63936211afa7@kinotuskanac.hr
DTSTAMP:20260421T184859Z
DTSTART:20201014T190000
DTEND:20201014T210000
SUMMARY:Čovjek za sva vremena
LOCATION:Kino Tuškanac
DESCRIPTION:A man for all seasons, UK, 1966 R: Fred Zinnemann
END:VEVENT

BEGIN:VEVENT
UID:a5f3bb262e07cf5672c97ff8bae6d813@kinotuskanac.hr
DTSTAMP:20260421T184859Z
DTSTART:20201014T210000
DTEND:20201014T230000
SUMMARY:Grozd na suncu
LOCATION:Kino Tuškanac
DESCRIPTION:A Raisin In The Sun, SAD, 1961 R: Daniel Petrie
END:VEVENT

BEGIN:VEVENT
UID:c94ca268427749c3b6927e612f710f51@kinotuskanac.hr
DTSTAMP:20260421T184859Z
DTSTART:20201030T190000
DTEND:20201030T210000
SUMMARY:Rukopis nađen u Zaragozi
LOCATION:Kino Tuškanac
DESCRIPTION:Rekopis znaleziony w Saragossie, Poljska, 1965 R: Wojciech Jerzy Has
END:VEVENT

BEGIN:VEVENT
UID:3e34dae846fd9a37dad61c76b57b9353@kinotuskanac.hr
DTSTAMP:20260421T184859Z
DTSTART:20201106T190000
DTEND:20201106T210000
SUMMARY:Grk Zorba
LOCATION:Kino Tuškanac
DESCRIPTION:Alexis Zorbas, SAD, Velika Britanija, Grčka, 1964 R: Mihalis Kakogiannis
END:VEVENT

BEGIN:VEVENT
UID:956f6068d7b93ce72c775a1552823a9c@kinotuskanac.hr
DTSTAMP:20260421T184859Z
DTSTART:20201111T190000
DTEND:20201111T210000
SUMMARY:Marketa Lazarová
LOCATION:Kino Tuškanac
DESCRIPTION:Čehoslovačka, 1967 R: František Vláčil
END:VEVENT

BEGIN:VEVENT
UID:7a6b8e96bd8d9d709b24c798f0f50dd7@kinotuskanac.hr
DTSTAMP:20260421T184859Z
DTSTART:20201125T190000
DTEND:20201125T210000
SUMMARY:Point Blank
LOCATION:Kino Tuškanac
DESCRIPTION:SAD, 1967 R: John Boorman
END:VEVENT

BEGIN:VEVENT
UID:5ee5ba6209cad7e8cc99b1f417b45acf@kinotuskanac.hr
DTSTAMP:20260421T184859Z
DTSTART:20201126T190000
DTEND:20201126T210000
SUMMARY:Deset tisuća sunaca
LOCATION:Kino Tuškanac
DESCRIPTION:Tízezer nap, Mađarska, 1967 R: Ferenc Kósa
END:VEVENT

BEGIN:VEVENT
UID:e13b8cd696e0fff2f437a434fa34b6ed@kinotuskanac.hr
DTSTAMP:20260421T184859Z
DTSTART:20201127T190000
DTEND:20201127T210000
SUMMARY:Ludi Pierrot
LOCATION:Kino Tuškanac
DESCRIPTION:Pierrot le fou, Francuska, Italija, 1965 R: Jean-Luc Godard
END:VEVENT

BEGIN:VEVENT
UID:30ca96ad8b373d2afa39cdf2c94fd132@kinotuskanac.hr
DTSTAMP:20260421T184859Z
DTSTART:20201227T190000
DTEND:20201227T210000
SUMMARY:Hladnoruki kažnjenik
LOCATION:Kino Tuškanac
DESCRIPTION:Cool Hand Luke, SAD, 1967 R: Stuart Rosenberg
END:VEVENT

BEGIN:VEVENT
UID:63a07fa7e87bf1311f995ece8396734f@kinotuskanac.hr
DTSTAMP:20260421T184859Z
DTSTART:20210204T190000
DTEND:20210204T210000
SUMMARY:Hladnokrvni
LOCATION:Kino Tuškanac
DESCRIPTION:In Cold Blood, SAD, 1967 R: Richard Brooks
END:VEVENT
END:VCALENDAR