BEGIN:VCALENDAR
VERSION:2.0
PRODID:-//Kino Tuškanac//Filmski programi//HR
URL:http://kinotuskanac/calendar/cycle/776
NAME:Kino Tuškanac ciklus Retrovizor 1980-89
X-WR-CALNAME:Kino Tuškanac ciklus Retrovizor 1980-89
TIMEZONE-ID:Europe/Zagreb
X-WR-TIMEZONE:Europe/Zagreb
REFRESH-INTERVAL;VALUE=DURATION:PT12H
X-PUBLISHED-TTL:PT12H
METHOD:PUBLISH
BEGIN:VEVENT
UID:587e75370dcc21876e4aa414711cd76a@kinotuskanac.hr
DTSTAMP:20260420T100534Z
DTSTART:20201023T190000
DTEND:20201023T210000
SUMMARY:Idi i gledaj
LOCATION:Kino Tuškanac
DESCRIPTION:Idi i smotri, SSSR, 1985 R: Elem Klimov
END:VEVENT

BEGIN:VEVENT
UID:12ee361ad74c9b3bc9e6bba7a05c8343@kinotuskanac.hr
DTSTAMP:20260420T100534Z
DTSTART:20201122T190000
DTEND:20201122T210000
SUMMARY:Posljednji metro
LOCATION:Kino Tuškanac
DESCRIPTION:Le dernier métro, Francuska, 1980 R: François Truffaut
END:VEVENT

BEGIN:VEVENT
UID:2606705b322192b2af78a872bf5211a5@kinotuskanac.hr
DTSTAMP:20260420T100534Z
DTSTART:20201128T190000
DTEND:20201128T210000
SUMMARY:Tuđinci
LOCATION:Kino Tuškanac
DESCRIPTION:Aliens, SAD, UK, 1986 R: James Cameron
END:VEVENT

BEGIN:VEVENT
UID:a170e5bcc7727d9d34b85aa94554c28e@kinotuskanac.hr
DTSTAMP:20260420T100534Z
DTSTART:20220929T210000
DTEND:20220929T230000
SUMMARY:Predator
LOCATION:Kino Tuškanac
DESCRIPTION:SAD, Meksiko, 1987 R: John McTiernan
END:VEVENT

BEGIN:VEVENT
UID:880a7ccd7d7c23802b65dbc1b1f35cd8@kinotuskanac.hr
DTSTAMP:20260420T100534Z
DTSTART:20221106T190000
DTEND:20221106T210000
SUMMARY:Bilo jednom u Americi
LOCATION:Kino Tuškanac
DESCRIPTION:Once Upon a Time in America, Italija, SAD, 1984 | Mjesto prikazivanja filma: Kino Forum (SD Stjepan Radić, Jarunska ul. 2) R: Sergio Leone
END:VEVENT

BEGIN:VEVENT
UID:ff58c3f6e3ccad476e769f80f405171b@kinotuskanac.hr
DTSTAMP:20260420T100534Z
DTSTART:20221202T190000
DTEND:20221202T210000
SUMMARY:Podmornica
LOCATION:Kino Tuškanac
DESCRIPTION:Das Boot, Zapadna Njemačka, UK, Italija, Francuska, 1981 R: Wolfgang Petersen
END:VEVENT
END:VCALENDAR