BEGIN:VCALENDAR
VERSION:2.0
PRODID:-//Kino Tuškanac//Filmski programi//HR
URL:http://kinotuskanac/calendar/cycle/78
NAME:Kino Tuškanac ciklus Ciklus iranskoga filma
X-WR-CALNAME:Kino Tuškanac ciklus Ciklus iranskoga filma
TIMEZONE-ID:Europe/Zagreb
X-WR-TIMEZONE:Europe/Zagreb
REFRESH-INTERVAL;VALUE=DURATION:PT12H
X-PUBLISHED-TTL:PT12H
METHOD:PUBLISH
BEGIN:VEVENT
UID:ae4894a25342cf9be3f610437cab744d@kinotuskanac.hr
DTSTAMP:20260419T195044Z
DTSTART:20050307T200000
DTEND:20050307T220000
SUMMARY:Mrtva priroda
LOCATION:Kino Tuškanac
DESCRIPTION:Tabi'at-e Bijan, 1974 R: Sohrab Sales
END:VEVENT

BEGIN:VEVENT
UID:48df44f46f45ba9da8ab23cb81fdf567@kinotuskanac.hr
DTSTAMP:20260419T195044Z
DTSTART:20050308T190000
DTEND:20050308T210000
SUMMARY:Mrtva priroda
LOCATION:Kino Tuškanac
DESCRIPTION:Tabi'at-e Bijan, 1974 R: Sohrab Sales
END:VEVENT

BEGIN:VEVENT
UID:1c783afd65a3d90a247eefa678b4c412@kinotuskanac.hr
DTSTAMP:20260419T195044Z
DTSTART:20050308T210000
DTEND:20050308T230000
SUMMARY:Putnik s juga
LOCATION:Kino Tuškanac
DESCRIPTION:Mosafer-e Jonub, 1996 R: Parviz Shahbazi
END:VEVENT

BEGIN:VEVENT
UID:32981455a4681c4f06cc7e044cd6359b@kinotuskanac.hr
DTSTAMP:20260419T195044Z
DTSTART:20050309T190000
DTEND:20050309T210000
SUMMARY:Putnik s juga
LOCATION:Kino Tuškanac
DESCRIPTION:Mosafer-e Jonub, 1996 R: Parviz Shahbazi
END:VEVENT

BEGIN:VEVENT
UID:dbcae93589678fdb6f113af7f0357abc@kinotuskanac.hr
DTSTAMP:20260419T195044Z
DTSTART:20050309T210000
DTEND:20050309T230000
SUMMARY:Rođenje jednog leptira
LOCATION:Kino Tuškanac
DESCRIPTION:Tavalode -yek parvaneh, 1998 R: Mojtaba Raie
END:VEVENT

BEGIN:VEVENT
UID:1d68c0009e0e399f61d5adc88b679d29@kinotuskanac.hr
DTSTAMP:20260419T195044Z
DTSTART:20050310T190000
DTEND:20050310T210000
SUMMARY:Rođenje jednog leptira
LOCATION:Kino Tuškanac
DESCRIPTION:Tavalode -yek parvaneh, 1998 R: Mojtaba Raie
END:VEVENT

BEGIN:VEVENT
UID:db032d80ac8a70a90d65709d8221e9d5@kinotuskanac.hr
DTSTAMP:20260419T195044Z
DTSTART:20050310T210000
DTEND:20050310T230000
SUMMARY:Oblak i sunce
LOCATION:Kino Tuškanac
DESCRIPTION:Abr-o aftab, 1997 R: Mahmoud Kalari
END:VEVENT

BEGIN:VEVENT
UID:f2c935ef1c4cc8a8cc2271db244c02d9@kinotuskanac.hr
DTSTAMP:20260419T195044Z
DTSTART:20050311T190000
DTEND:20050311T210000
SUMMARY:Oblak i sunce
LOCATION:Kino Tuškanac
DESCRIPTION:Abr-o aftab, 1997 R: Mahmoud Kalari
END:VEVENT

BEGIN:VEVENT
UID:815c1928cd9c3b1816f315e0e00e47ef@kinotuskanac.hr
DTSTAMP:20260419T195044Z
DTSTART:20050311T210000
DTEND:20050311T230000
SUMMARY:Drvo života (1998)
LOCATION:Kino Tuškanac
DESCRIPTION:Derakht-e jan, 1998 R: Farhad Mehranfar
END:VEVENT

BEGIN:VEVENT
UID:75d7086979e12f03d6deb67241ae4483@kinotuskanac.hr
DTSTAMP:20260419T195044Z
DTSTART:20050312T190000
DTEND:20050312T210000
SUMMARY:Drvo života (1998)
LOCATION:Kino Tuškanac
DESCRIPTION:Derakht-e jan, 1998 R: Farhad Mehranfar
END:VEVENT

BEGIN:VEVENT
UID:2a992c86576b79bed8d762413c49379b@kinotuskanac.hr
DTSTAMP:20260419T195044Z
DTSTART:20050312T210000
DTEND:20050312T230000
SUMMARY:Djevica Marija
LOCATION:Kino Tuškanac
DESCRIPTION:Maryam Moghadas R: Shahriar Bahrani
END:VEVENT
END:VCALENDAR