BEGIN:VCALENDAR
VERSION:2.0
PRODID:-//Kino Tuškanac//Filmski programi//HR
URL:http://kinotuskanac/calendar/cycle/785
NAME:Kino Tuškanac ciklus Najbolji hrvatski filmovi svih vremena
X-WR-CALNAME:Kino Tuškanac ciklus Najbolji hrvatski filmovi svih vremena
TIMEZONE-ID:Europe/Zagreb
X-WR-TIMEZONE:Europe/Zagreb
REFRESH-INTERVAL;VALUE=DURATION:PT12H
X-PUBLISHED-TTL:PT12H
METHOD:PUBLISH
BEGIN:VEVENT
UID:8d163d95b97db36b757783e054d00751@kinotuskanac.hr
DTSTAMP:20260424T184525Z
DTSTART:20201130T180000
DTEND:20201130T200000
SUMMARY:Maska crvene smrti
LOCATION:Kino Tuškanac
DESCRIPTION:Hrvatska, SAD, 1969 R: Pavao Štalter, Branko Ranitović
END:VEVENT

BEGIN:VEVENT
UID:bed1acd0cce5287f7ef2b76211c53746@kinotuskanac.hr
DTSTAMP:20260424T184525Z
DTSTART:20201130T180000
DTEND:20201130T200000
SUMMARY:Što je Iva snimila 21. listopada 2003.
LOCATION:Kino Tuškanac
DESCRIPTION:Hrvatska, 2005 | Mjesto prikazivanja filma: Kulturno informativni centar KIC (Preradovićeva ul. 5) R: Tomislav Radić
END:VEVENT

BEGIN:VEVENT
UID:6a332edfc8c9eb5cbcf4a3c68e584264@kinotuskanac.hr
DTSTAMP:20260424T184525Z
DTSTART:20201130T200000
DTEND:20201130T220000
SUMMARY:Surogat
LOCATION:Kino Tuškanac
DESCRIPTION:Hrvatska, 1961 R: Dušan Vukotić
END:VEVENT

BEGIN:VEVENT
UID:e970b2d622c2e22091ac511ad5405aff@kinotuskanac.hr
DTSTAMP:20260424T184525Z
DTSTART:20201130T200000
DTEND:20201130T220000
SUMMARY:H-8
LOCATION:Kino Tuškanac
DESCRIPTION:Jugoslavija, Jadran film, 1958 | Mjesto prikazivanja filma: Kulturno informativni centar KIC (Preradovićeva ul. 5) R: Nikola Tanhofer
END:VEVENT

BEGIN:VEVENT
UID:04cdc4fc724359611320101fbfc48481@kinotuskanac.hr
DTSTAMP:20260424T184525Z
DTSTART:20201201T180000
DTEND:20201201T200000
SUMMARY:Kad te moja čakija ubode
LOCATION:Kino Tuškanac
DESCRIPTION:Hrvatska, 1969 R: Krsto Papić
END:VEVENT

BEGIN:VEVENT
UID:c2f0be3f0e401e3cfdb99eb660ad3c49@kinotuskanac.hr
DTSTAMP:20260424T184525Z
DTSTART:20201201T180000
DTEND:20201201T200000
SUMMARY:Skoplje '63
LOCATION:Kino Tuškanac
DESCRIPTION:Скопје '63, Hrvatska, Makedonija, 1964 | Mjesto prikazivanja filma: MM-centar (Studentski centar, Savska cesta 25) R: Veljko Bulajić
END:VEVENT

BEGIN:VEVENT
UID:89350ee22eec42e7b06ea010a4a06706@kinotuskanac.hr
DTSTAMP:20260424T184525Z
DTSTART:20201201T200000
DTEND:20201201T220000
SUMMARY:Mačka
LOCATION:Kino Tuškanac
DESCRIPTION:Hrvatska, Italija, 1971 R: Zlatko Bourek
END:VEVENT

BEGIN:VEVENT
UID:850ca264050db237d05a280ae0578075@kinotuskanac.hr
DTSTAMP:20260424T184525Z
DTSTART:20201201T200000
DTEND:20201201T220000
SUMMARY:Koncert (1954)
LOCATION:Kino Tuškanac
DESCRIPTION:Hrvatska, 1954 R: Branko Belan
END:VEVENT

BEGIN:VEVENT
UID:81ab9bbf50eddd30c81d93548d5deaa8@kinotuskanac.hr
DTSTAMP:20260424T184525Z
DTSTART:20201202T180000
DTEND:20201202T200000
SUMMARY:Tijelo
LOCATION:Kino Tuškanac
DESCRIPTION:Hrvatska, 1965 R: Ante Babaja
END:VEVENT

BEGIN:VEVENT
UID:219a02479682b91b82f314ad782c3ed2@kinotuskanac.hr
DTSTAMP:20260424T184525Z
DTSTART:20201202T180000
DTEND:20201202T200000
SUMMARY:Dobro jutro
LOCATION:Kino Tuškanac
DESCRIPTION:Hrvatska, 2007 R: Ante Babaja
END:VEVENT

BEGIN:VEVENT
UID:059cafa835c032f25be2e778d121a873@kinotuskanac.hr
DTSTAMP:20260424T184525Z
DTSTART:20201202T200000
DTEND:20201202T220000
SUMMARY:Riblje oko
LOCATION:Kino Tuškanac
DESCRIPTION:Hrvatska, 1979 R: Joško Marušić
END:VEVENT

BEGIN:VEVENT
UID:11b91c92d43ae5bee797e81a6f66a74a@kinotuskanac.hr
DTSTAMP:20260424T184525Z
DTSTART:20201202T200000
DTEND:20201202T220000
SUMMARY:Kaja, ubit ću te!
LOCATION:Kino Tuškanac
DESCRIPTION:Jadran film, Hrvatska, 1967 | Mjesto prikazivanja filma: Kulturno informativni centar KIC (Preradovićeva ul. 5) R: Vatroslav Mimica
END:VEVENT

BEGIN:VEVENT
UID:c75ec2b47017c7fd007d3ad351293822@kinotuskanac.hr
DTSTAMP:20260424T184525Z
DTSTART:20201203T180000
DTEND:20201203T200000
SUMMARY:Recital
LOCATION:Kino Tuškanac
DESCRIPTION:Hrvatska, 1972 R: Petar Krelja
END:VEVENT

BEGIN:VEVENT
UID:3b19e4357affb9296af1245f834e4497@kinotuskanac.hr
DTSTAMP:20260424T184525Z
DTSTART:20201203T180000
DTEND:20201203T200000
SUMMARY:Srbenka
LOCATION:Kino Tuškanac
DESCRIPTION:Hrvatska, 2018 | Mjesto prikazivanja filma: Kulturno informativni centar KIC (Preradovićeva ul. 5) R: Nebojša Slijepčević
END:VEVENT

BEGIN:VEVENT
UID:7a3a61dba5a643dde6bcaa3e501d3383@kinotuskanac.hr
DTSTAMP:20260424T184525Z
DTSTART:20201203T200000
DTEND:20201203T220000
SUMMARY:Samac
LOCATION:Kino Tuškanac
DESCRIPTION:Zagreb film, Hrvatska, 1958 R: Vatroslav Mimica
END:VEVENT

BEGIN:VEVENT
UID:7f4e1717bdb45332640a6d4c9e1ef32d@kinotuskanac.hr
DTSTAMP:20260424T184525Z
DTSTART:20201203T200000
DTEND:20201203T220000
SUMMARY:Ne okreći se, sine
LOCATION:Kino Tuškanac
DESCRIPTION:Hrvatska, 1956 | Mjesto prikazivanja filma: Kulturno informativni centar KIC (Preradovićeva ul. 5) R: Branko Bauer
END:VEVENT

BEGIN:VEVENT
UID:784deeda7841216a9c42a1151cd4f176@kinotuskanac.hr
DTSTAMP:20260424T184525Z
DTSTART:20201204T180000
DTEND:20201204T200000
SUMMARY:Specijalni vlakovi
LOCATION:Kino Tuškanac
DESCRIPTION:Hrvatska, 1972 R: Krsto Papić
END:VEVENT

BEGIN:VEVENT
UID:9fe11f9a5b7d8e3e6c692263870fd11f@kinotuskanac.hr
DTSTAMP:20260424T184525Z
DTSTART:20201204T180000
DTEND:20201204T200000
SUMMARY:Druge
LOCATION:Kino Tuškanac
DESCRIPTION:Zagreb film/SDF, Hrvatska, 1972 R: Zoran Tadić
END:VEVENT

BEGIN:VEVENT
UID:274dbcb59261cfd613dc3b0ff20f3285@kinotuskanac.hr
DTSTAMP:20260424T184525Z
DTSTART:20201204T180000
DTEND:20201204T200000
SUMMARY:Mala seoska priredba
LOCATION:Kino Tuškanac
DESCRIPTION:Hrvatska, 1972 R: Krsto Papić
END:VEVENT

BEGIN:VEVENT
UID:1820be7261c05d59beb9578a93bfe8f7@kinotuskanac.hr
DTSTAMP:20260424T184525Z
DTSTART:20201204T180000
DTEND:20201204T200000
SUMMARY:Od 3 do 22
LOCATION:Kino Tuškanac
DESCRIPTION:Hrvatska, 1966 R: Krešo Golik
END:VEVENT

BEGIN:VEVENT
UID:c9c0023110e61f58b528b64658264a0f@kinotuskanac.hr
DTSTAMP:20260424T184525Z
DTSTART:20201204T200000
DTEND:20201204T220000
SUMMARY:Profesor Baltazar: Hanibalove Alpe
LOCATION:Kino Tuškanac
DESCRIPTION:Hrvatska, Njemačka, 1969 R: Zlatko Grgić
END:VEVENT

BEGIN:VEVENT
UID:a1c966b2ca25f3ed925e2b2a8ae65cd1@kinotuskanac.hr
DTSTAMP:20260424T184525Z
DTSTART:20201204T200000
DTEND:20201204T220000
SUMMARY:Ritam zločina
LOCATION:Kino Tuškanac
DESCRIPTION:Jugoslavija: Hrvatska, 1981 | Mjesto prikazivanja filma: Kulturno informativni centar KIC (Preradovićeva ul. 5) R: Zoran Tadić
END:VEVENT

BEGIN:VEVENT
UID:efcd278ddc82c9de331b1778d782b966@kinotuskanac.hr
DTSTAMP:20260424T184525Z
DTSTART:20201205T180000
DTEND:20201205T200000
SUMMARY:Don Kihot
LOCATION:Kino Tuškanac
DESCRIPTION:Hrvatska, 1961 R: Vlado Kristl
END:VEVENT

BEGIN:VEVENT
UID:c1d7e83621e42b0a48f6c492e164ed71@kinotuskanac.hr
DTSTAMP:20260424T184525Z
DTSTART:20201205T180000
DTEND:20201205T200000
SUMMARY:Breza
LOCATION:Kino Tuškanac
DESCRIPTION:Hrvatska, 1967 R: Ante Babaja
END:VEVENT

BEGIN:VEVENT
UID:e5e9cd9efc51ba8e717ce2474091edbf@kinotuskanac.hr
DTSTAMP:20260424T184525Z
DTSTART:20201205T200000
DTEND:20201205T220000
SUMMARY:Idu dani
LOCATION:Kino Tuškanac
DESCRIPTION:Jugoslavija: Hrvatska, Italija, 1969 R: Nedeljko Dragić
END:VEVENT

BEGIN:VEVENT
UID:0d8d9983e487d3334e38e5cf9655b9ae@kinotuskanac.hr
DTSTAMP:20260424T184525Z
DTSTART:20201205T200000
DTEND:20201205T220000
SUMMARY:Lisice
LOCATION:Kino Tuškanac
DESCRIPTION:Jugoslavija, Jadran film, 1970 R: Krsto Papić
END:VEVENT

BEGIN:VEVENT
UID:44f2406fd73f89abed222aa376426d58@kinotuskanac.hr
DTSTAMP:20260424T184525Z
DTSTART:20201206T180000
DTEND:20201206T200000
SUMMARY:Tup tup
LOCATION:Kino Tuškanac
DESCRIPTION:Jugoslavija: Hrvatska, Italija, 1972 R: Nedeljko Dragić
END:VEVENT

BEGIN:VEVENT
UID:fcc8bcd6826e109e811873975480427a@kinotuskanac.hr
DTSTAMP:20260424T184525Z
DTSTART:20201206T180000
DTEND:20201206T200000
SUMMARY:Tko pjeva zlo ne misli
LOCATION:Kino Tuškanac
DESCRIPTION:Hrvatska, 1970 | Mjesto prikazivanja filma: Studio-galerija KLET (Ilica 73) R: Krešo Golik
END:VEVENT

BEGIN:VEVENT
UID:e1f194e044a64949b0bd490c2556ad4d@kinotuskanac.hr
DTSTAMP:20260424T184525Z
DTSTART:20201206T200000
DTEND:20201206T220000
SUMMARY:Satiemania
LOCATION:Kino Tuškanac
DESCRIPTION:Jugoslavija: Hrvatska, 1978 R: Zdenko Gašparović
END:VEVENT

BEGIN:VEVENT
UID:ea8521ead0fefacf2a6d89bd526ad27a@kinotuskanac.hr
DTSTAMP:20260424T184525Z
DTSTART:20201206T200000
DTEND:20201206T220000
SUMMARY:Rondo
LOCATION:Kino Tuškanac
DESCRIPTION:Hrvatska, 1966 | Mjesto prikazivanja filma: Centar za kulturu i informacije Maksimir (ul. Lavoslava Švarca 18) R: Zvonimir Berković
END:VEVENT
END:VCALENDAR