BEGIN:VCALENDAR
VERSION:2.0
PRODID:-//Kino Tuškanac//Filmski programi//HR
URL:http://kinotuskanac/calendar/cycle/789
NAME:Kino Tuškanac ciklus Portreti: Suptilna komika Jacquesa Tatija
X-WR-CALNAME:Kino Tuškanac ciklus Portreti: Suptilna komika Jacquesa Tatija
TIMEZONE-ID:Europe/Zagreb
X-WR-TIMEZONE:Europe/Zagreb
REFRESH-INTERVAL;VALUE=DURATION:PT12H
X-PUBLISHED-TTL:PT12H
METHOD:PUBLISH
BEGIN:VEVENT
UID:d0daf9e16fa375cd19a6b75c083485ab@kinotuskanac.hr
DTSTAMP:20260419T155014Z
DTSTART:20210120T190000
DTEND:20210120T210000
SUMMARY:Moj ujak
LOCATION:Kino Tuškanac
DESCRIPTION:Mon oncle, Francuska, Italija, 1958 R: Jacques Tati
END:VEVENT

BEGIN:VEVENT
UID:96cf2436dd7c7d2ca10ecb7fa487a416@kinotuskanac.hr
DTSTAMP:20260419T155014Z
DTSTART:20210121T190000
DTEND:20210121T210000
SUMMARY:Praznični dan
LOCATION:Kino Tuškanac
DESCRIPTION:Jour de fête, Francuska, 1949 R: Jacques Tati
END:VEVENT

BEGIN:VEVENT
UID:f31987c7ed88e4aa814b85afb8521507@kinotuskanac.hr
DTSTAMP:20260419T155014Z
DTSTART:20210122T190000
DTEND:20210122T210000
SUMMARY:Vrijeme igre
LOCATION:Kino Tuškanac
DESCRIPTION:Playtime, Francuska, Italija, 1967 R: Jacques Tati
END:VEVENT

BEGIN:VEVENT
UID:6e6af0881fab8c4163aad127ae081d1e@kinotuskanac.hr
DTSTAMP:20260419T155014Z
DTSTART:20210123T190000
DTEND:20210123T210000
SUMMARY:Odmor gospodina Hulota
LOCATION:Kino Tuškanac
DESCRIPTION:Les vacances de Monsieur Hulot, Francuska, 1953 R: Jacques Tati
END:VEVENT

BEGIN:VEVENT
UID:89805e0e9533903c254263da62583e52@kinotuskanac.hr
DTSTAMP:20260419T155014Z
DTSTART:20210124T190000
DTEND:20210124T210000
SUMMARY:Parada
LOCATION:Kino Tuškanac
DESCRIPTION:Parade, Francuska, Švedska, 1974 R: Jacques Tati
END:VEVENT

BEGIN:VEVENT
UID:3b2a76c1db7574b3d9ec666a912a3ae6@kinotuskanac.hr
DTSTAMP:20260419T155014Z
DTSTART:20210125T190000
DTEND:20210125T210000
SUMMARY:Prometna gužva
LOCATION:Kino Tuškanac
DESCRIPTION:Trafic, Francuska, Italija, 1971 R: Jacques Tati
END:VEVENT
END:VCALENDAR