BEGIN:VCALENDAR
VERSION:2.0
PRODID:-//Kino Tuškanac//Filmski programi//HR
URL:http://kinotuskanac/calendar/cycle/791
NAME:Kino Tuškanac ciklus Portreti: Elegična sjećanja Terencea Daviesa
X-WR-CALNAME:Kino Tuškanac ciklus Portreti: Elegična sjećanja Terencea Daviesa
TIMEZONE-ID:Europe/Zagreb
X-WR-TIMEZONE:Europe/Zagreb
REFRESH-INTERVAL;VALUE=DURATION:PT12H
X-PUBLISHED-TTL:PT12H
METHOD:PUBLISH
BEGIN:VEVENT
UID:5ff1da9685e49d911441f71cb522f8bf@kinotuskanac.hr
DTSTAMP:20260425T223209Z
DTSTART:20210205T190000
DTEND:20210205T210000
SUMMARY:Udaljeni glasovi, zaustavljeni životi
LOCATION:Kino Tuškanac
DESCRIPTION:Distant voices, still lives, UK, Zapadna Njemačka, 1988 R: Terence Davies
END:VEVENT

BEGIN:VEVENT
UID:061ebd398ed9b78bd22e59b5e4270ae3@kinotuskanac.hr
DTSTAMP:20260425T223209Z
DTSTART:20210206T180000
DTEND:20210206T200000
SUMMARY:Trilogija Terencea Daviesa
LOCATION:Kino Tuškanac
DESCRIPTION:The Terence Davies Trilogy, UK, 1983 R: Terence Davies
END:VEVENT

BEGIN:VEVENT
UID:ecee0bcdee3dbe53d05d8dc652974ec1@kinotuskanac.hr
DTSTAMP:20260425T223209Z
DTSTART:20210206T200000
DTEND:20210206T220000
SUMMARY:Dugi dan završava
LOCATION:Kino Tuškanac
DESCRIPTION:The long day closes, UK, 1992 R: Terence Davies
END:VEVENT
END:VCALENDAR