BEGIN:VCALENDAR
VERSION:2.0
PRODID:-//Kino Tuškanac//Filmski programi//HR
URL:http://kinotuskanac/calendar/cycle/80
NAME:Kino Tuškanac ciklus Ciklus japanskog suvremenog filma
X-WR-CALNAME:Kino Tuškanac ciklus Ciklus japanskog suvremenog filma
TIMEZONE-ID:Europe/Zagreb
X-WR-TIMEZONE:Europe/Zagreb
REFRESH-INTERVAL;VALUE=DURATION:PT12H
X-PUBLISHED-TTL:PT12H
METHOD:PUBLISH
BEGIN:VEVENT
UID:2d1f875098c4a84bd24d76a71db8d513@kinotuskanac.hr
DTSTAMP:20260419T154200Z
DTSTART:20050418T190000
DTEND:20050418T210000
SUMMARY:Waterboys
LOCATION:Kino Tuškanac
DESCRIPTION:2001 R: Shinobu Yaguchi
END:VEVENT

BEGIN:VEVENT
UID:85cc5fd14fe0972833c6b040bb2888e4@kinotuskanac.hr
DTSTAMP:20260419T154200Z
DTSTART:20050418T210000
DTEND:20050418T230000
SUMMARY:Ne osvrći se
LOCATION:Kino Tuškanac
DESCRIPTION:Doko made mo ikou, 1999 R: Akihiko Shiota
END:VEVENT

BEGIN:VEVENT
UID:7c919c467336812599636ffd80744819@kinotuskanac.hr
DTSTAMP:20260419T154200Z
DTSTART:20050419T210000
DTEND:20050419T230000
SUMMARY:Svjetlucanje
LOCATION:Kino Tuškanac
DESCRIPTION:Kira kira hikaru, 1992 R: Joji Matsuoka
END:VEVENT

BEGIN:VEVENT
UID:aabbd16c6bc2b704741472b6cc917802@kinotuskanac.hr
DTSTAMP:20260419T154200Z
DTSTART:20050420T190000
DTEND:20050420T210000
SUMMARY:Svi pod mjesecom
LOCATION:Kino Tuškanac
DESCRIPTION:Tsuki wa dotchi ni deteiru, 1993 R: Yoichi Sai
END:VEVENT

BEGIN:VEVENT
UID:30f187ab3939875a8fef3d1e24b5c179@kinotuskanac.hr
DTSTAMP:20260419T154200Z
DTSTART:20050420T210000
DTEND:20050420T230000
SUMMARY:Odlučujući udarac
LOCATION:Kino Tuškanac
DESCRIPTION:Dotsuitaru nen, 1989 R: Junji Sakamoto
END:VEVENT

BEGIN:VEVENT
UID:d6bdb3111e5f859db651b007964d5874@kinotuskanac.hr
DTSTAMP:20260419T154200Z
DTSTART:20050421T210000
DTEND:20050421T230000
SUMMARY:Kolovoz u vodi
LOCATION:Kino Tuškanac
DESCRIPTION:Mizu no naka no hachigatsu, 1995 R: Sogo Ishii
END:VEVENT

BEGIN:VEVENT
UID:5c6461410172254989f8a48beed4a2de@kinotuskanac.hr
DTSTAMP:20260419T154200Z
DTSTART:20050425T190000
DTEND:20050425T210000
SUMMARY:Cvjetovi vjetra
LOCATION:Kino Tuškanac
DESCRIPTION:Kaza-hana, 2001 R: Shinji Somai
END:VEVENT

BEGIN:VEVENT
UID:e66ab1bf2e89b5b0b6a718a39250bf54@kinotuskanac.hr
DTSTAMP:20260419T154200Z
DTSTART:20050425T210000
DTEND:20050425T230000
SUMMARY:Sumo da, sumo ne
LOCATION:Kino Tuškanac
DESCRIPTION:Shiko funjatta, 1992 R: Masayuki Suo
END:VEVENT

BEGIN:VEVENT
UID:3edbddd2e964d4e583feb615c1295563@kinotuskanac.hr
DTSTAMP:20260419T154200Z
DTSTART:20050426T210000
DTEND:20050426T230000
SUMMARY:Waterboys
LOCATION:Kino Tuškanac
DESCRIPTION:2001 R: Shinobu Yaguchi
END:VEVENT

BEGIN:VEVENT
UID:7959b350b1541342f57a92b0c25af2ed@kinotuskanac.hr
DTSTAMP:20260419T154200Z
DTSTART:20050427T190000
DTEND:20050427T210000
SUMMARY:Ne osvrći se
LOCATION:Kino Tuškanac
DESCRIPTION:Doko made mo ikou, 1999 R: Akihiko Shiota
END:VEVENT

BEGIN:VEVENT
UID:c9e1fd6341d25a797cb28e83f3ae2fd4@kinotuskanac.hr
DTSTAMP:20260419T154200Z
DTSTART:20050427T210000
DTEND:20050427T230000
SUMMARY:Svjetlucanje
LOCATION:Kino Tuškanac
DESCRIPTION:Kira kira hikaru, 1992 R: Joji Matsuoka
END:VEVENT

BEGIN:VEVENT
UID:d7490c31f4648f90e8c29ee5d8486ce5@kinotuskanac.hr
DTSTAMP:20260419T154200Z
DTSTART:20050502T190000
DTEND:20050502T210000
SUMMARY:Sumo da, sumo ne
LOCATION:Kino Tuškanac
DESCRIPTION:Shiko funjatta, 1992 R: Masayuki Suo
END:VEVENT

BEGIN:VEVENT
UID:69e7dd07b535ed38fbaa17328fc34cc6@kinotuskanac.hr
DTSTAMP:20260419T154200Z
DTSTART:20050502T210000
DTEND:20050502T230000
SUMMARY:Svi pod mjesecom
LOCATION:Kino Tuškanac
DESCRIPTION:Tsuki wa dotchi ni deteiru, 1993 R: Yoichi Sai
END:VEVENT

BEGIN:VEVENT
UID:3a9f96515ed65e0a9ff83adc07688c1c@kinotuskanac.hr
DTSTAMP:20260419T154200Z
DTSTART:20050504T190000
DTEND:20050504T210000
SUMMARY:Odlučujući udarac
LOCATION:Kino Tuškanac
DESCRIPTION:Dotsuitaru nen, 1989 R: Junji Sakamoto
END:VEVENT

BEGIN:VEVENT
UID:ab0112f8373a3026611f5c75920199d0@kinotuskanac.hr
DTSTAMP:20260419T154200Z
DTSTART:20050506T190000
DTEND:20050506T210000
SUMMARY:Kolovoz u vodi
LOCATION:Kino Tuškanac
DESCRIPTION:Mizu no naka no hachigatsu, 1995 R: Sogo Ishii
END:VEVENT

BEGIN:VEVENT
UID:64d4c96b1939754b767ffad825b35d52@kinotuskanac.hr
DTSTAMP:20260419T154200Z
DTSTART:20050509T190000
DTEND:20050509T210000
SUMMARY:Cvjetovi vjetra
LOCATION:Kino Tuškanac
DESCRIPTION:Kaza-hana, 2001 R: Shinji Somai
END:VEVENT
END:VCALENDAR