BEGIN:VCALENDAR
VERSION:2.0
PRODID:-//Kino Tuškanac//Filmski programi//HR
URL:http://kinotuskanac/calendar/cycle/804
NAME:Kino Tuškanac ciklus Portreti: Panonske melankolije Béle Tarra
X-WR-CALNAME:Kino Tuškanac ciklus Portreti: Panonske melankolije Béle Tarra
TIMEZONE-ID:Europe/Zagreb
X-WR-TIMEZONE:Europe/Zagreb
REFRESH-INTERVAL;VALUE=DURATION:PT12H
X-PUBLISHED-TTL:PT12H
METHOD:PUBLISH
BEGIN:VEVENT
UID:ca1a9dc2e7aee4d493d912f0b9f1d7af@kinotuskanac.hr
DTSTAMP:20260423T143529Z
DTSTART:20210415T190000
DTEND:20210415T210000
SUMMARY:Prokletstvo
LOCATION:Kino Tuškanac
DESCRIPTION:Kárhozat, Mađarska, 1988 R: Béla Tarr
END:VEVENT

BEGIN:VEVENT
UID:ffc39adecc4c587454f907a55e7aabdf@kinotuskanac.hr
DTSTAMP:20260423T143529Z
DTSTART:20210416T190000
DTEND:20210416T210000
SUMMARY:Torinski konj
LOCATION:Kino Tuškanac
DESCRIPTION:A torinói ló, Mađarska, Francuska, Švicarska, Njemačka, SAD, 2011 R: Béla Tarr
END:VEVENT

BEGIN:VEVENT
UID:cfe4e4f74504faac68898651cc5c266a@kinotuskanac.hr
DTSTAMP:20260423T143529Z
DTSTART:20210417T190000
DTEND:20210417T210000
SUMMARY:Obiteljsko gnijezdo
LOCATION:Kino Tuškanac
DESCRIPTION:Családi tüzfészek, Mađarska, 1977 R: Béla Tarr
END:VEVENT

BEGIN:VEVENT
UID:9ce4884ee4caab94e8b9da30981b5bf4@kinotuskanac.hr
DTSTAMP:20260423T143529Z
DTSTART:20210417T210000
DTEND:20210417T230000
SUMMARY:Čovjek iz Londona
LOCATION:Kino Tuškanac
DESCRIPTION:A londoni férfi, Mađarska, Njemačka, Francuska, Italija, 2007 R: Béla Tarr
END:VEVENT

BEGIN:VEVENT
UID:34646c7eb83c9a148029886ee29c7d89@kinotuskanac.hr
DTSTAMP:20260423T143529Z
DTSTART:20210418T150000
DTEND:20210418T170000
SUMMARY:Sotonski tango
LOCATION:Kino Tuškanac
DESCRIPTION:Sátántangó, Mađarska, Njemačka, Švicarska, 1994 R: Béla Tarr
END:VEVENT

BEGIN:VEVENT
UID:708a159989f0cef1f1fa42f7c60b01bd@kinotuskanac.hr
DTSTAMP:20260423T143529Z
DTSTART:20210419T190000
DTEND:20210419T210000
SUMMARY:Werckmeisterove harmonije
LOCATION:Kino Tuškanac
DESCRIPTION:Werckmeister harmóniák, Mađarska, Francuska, Italija, Njemačka, 2000 R: Béla Tarr
END:VEVENT

BEGIN:VEVENT
UID:5600c00377e097efc5bfb729f7d6adaa@kinotuskanac.hr
DTSTAMP:20260423T143529Z
DTSTART:20210420T190000
DTEND:20210420T210000
SUMMARY:Almanah jeseni
LOCATION:Kino Tuškanac
DESCRIPTION:Őszi almanach, Mađarska, 1984 R: Béla Tarr
END:VEVENT

BEGIN:VEVENT
UID:3e6f56f1de35dca0bf1f25da83b06696@kinotuskanac.hr
DTSTAMP:20260423T143529Z
DTSTART:20210420T210000
DTEND:20210420T230000
SUMMARY:Autsajder
LOCATION:Kino Tuškanac
DESCRIPTION:Szabadgyalog, Mađarska, 1981 R: Béla Tarr
END:VEVENT
END:VCALENDAR