BEGIN:VCALENDAR
VERSION:2.0
PRODID:-//Kino Tuškanac//Filmski programi//HR
URL:http://kinotuskanac/calendar/cycle/815
NAME:Kino Tuškanac ciklus 20. Festival europske kratke priče
X-WR-CALNAME:Kino Tuškanac ciklus 20. Festival europske kratke priče
TIMEZONE-ID:Europe/Zagreb
X-WR-TIMEZONE:Europe/Zagreb
REFRESH-INTERVAL;VALUE=DURATION:PT12H
X-PUBLISHED-TTL:PT12H
METHOD:PUBLISH
BEGIN:VEVENT
UID:372c6e5ae0da2916fdab9732f8d7b964@kinotuskanac.hr
DTSTAMP:20260422T185754Z
DTSTART:20210606T190000
DTEND:20210606T210000
SUMMARY:Otvorenje 20. FEKP-a - Izum samoće: Paul Auster
LOCATION:Kino Tuškanac
DESCRIPTION:
END:VEVENT
END:VCALENDAR