BEGIN:VCALENDAR
VERSION:2.0
PRODID:-//Kino Tuškanac//Filmski programi//HR
URL:http://kinotuskanac/calendar/cycle/817
NAME:Kino Tuškanac ciklus Portreti: Društveno provokativne teme Otta Premingera
X-WR-CALNAME:Kino Tuškanac ciklus Portreti: Društveno provokativne teme Otta Premingera
TIMEZONE-ID:Europe/Zagreb
X-WR-TIMEZONE:Europe/Zagreb
REFRESH-INTERVAL;VALUE=DURATION:PT12H
X-PUBLISHED-TTL:PT12H
METHOD:PUBLISH
BEGIN:VEVENT
UID:b77d2edd590add69c11062eb58057bfd@kinotuskanac.hr
DTSTAMP:20260421T235306Z
DTSTART:20210614T190000
DTEND:20210614T210000
SUMMARY:Anatomija jednog umorstva
LOCATION:Kino Tuškanac
DESCRIPTION:Anatomy of a Murder, SAD, 1959 R: Otto Preminger
END:VEVENT

BEGIN:VEVENT
UID:48f1ac10420af10c6b9b6732f03d063a@kinotuskanac.hr
DTSTAMP:20260421T235306Z
DTSTART:20210615T190000
DTEND:20210615T210000
SUMMARY:Rijeka bez povratka
LOCATION:Kino Tuškanac
DESCRIPTION:River of No Return, SAD, 1954 | Mjesto prikazivanja filma: Kulturno informativni centar KIC (Preradovićeva ul. 5) R: Otto Preminger
END:VEVENT

BEGIN:VEVENT
UID:6f22a6480c3c38296a7b5e7c5b362da3@kinotuskanac.hr
DTSTAMP:20260421T235306Z
DTSTART:20210615T210000
DTEND:20210615T230000
SUMMARY:Carmen Jones
LOCATION:Kino Tuškanac
DESCRIPTION:SAD, 1955 R: Otto Preminger
END:VEVENT

BEGIN:VEVENT
UID:78efb0986372d1465642291d6a0add16@kinotuskanac.hr
DTSTAMP:20260421T235306Z
DTSTART:20210616T190000
DTEND:20210616T210000
SUMMARY:Prva pobjeda
LOCATION:Kino Tuškanac
DESCRIPTION:In Harm’s Way, SAD, 1965 R: Otto Preminger
END:VEVENT

BEGIN:VEVENT
UID:c0eaa62794aa708d99c940a42afb6a2e@kinotuskanac.hr
DTSTAMP:20260421T235306Z
DTSTART:20210617T190000
DTEND:20210617T210000
SUMMARY:Bunny Lake je nestala
LOCATION:Kino Tuškanac
DESCRIPTION:Bunny Lake Is Missing, SAD, 1965 R: Otto Preminger
END:VEVENT

BEGIN:VEVENT
UID:44952bbe2786db1e49a8f427d63ccfe3@kinotuskanac.hr
DTSTAMP:20260421T235306Z
DTSTART:20210617T210000
DTEND:20210617T230000
SUMMARY:Prijedlog i usvajanje
LOCATION:Kino Tuškanac
DESCRIPTION:Advise & Consent, SAD, 1962 R: Otto Preminger
END:VEVENT

BEGIN:VEVENT
UID:1e3fb803cd735e11605b2edff6c70ecd@kinotuskanac.hr
DTSTAMP:20260421T235306Z
DTSTART:20210618T190000
DTEND:20210618T210000
SUMMARY:Kardinal
LOCATION:Kino Tuškanac
DESCRIPTION:The Cardinal, SAD, 1963 R: Otto Preminger
END:VEVENT

BEGIN:VEVENT
UID:1b8f3ebed393084f753c9fca46a98677@kinotuskanac.hr
DTSTAMP:20260421T235306Z
DTSTART:20210619T190000
DTEND:20210619T210000
SUMMARY:Čovjek sa zlatnom rukom
LOCATION:Kino Tuškanac
DESCRIPTION:The Man With the Golden Arm, SAD, 1957 R: Otto Preminger
END:VEVENT

BEGIN:VEVENT
UID:0abb2340054889f237ae2a9ded054f1b@kinotuskanac.hr
DTSTAMP:20260421T235306Z
DTSTART:20210619T210000
DTEND:20210619T230000
SUMMARY:Dobar dan, tugo
LOCATION:Kino Tuškanac
DESCRIPTION:Bonjour tristesse, UK, SAD, 1958 R: Otto Preminger
END:VEVENT

BEGIN:VEVENT
UID:6e7965d50fcebea64da75625812a44c9@kinotuskanac.hr
DTSTAMP:20260421T235306Z
DTSTART:20210620T190000
DTEND:20210620T210000
SUMMARY:Egzodus
LOCATION:Kino Tuškanac
DESCRIPTION:Exodus, SAD, 1960 R: Otto Preminger
END:VEVENT

BEGIN:VEVENT
UID:9ab5e3b74482a02b3f4e94cadc503619@kinotuskanac.hr
DTSTAMP:20260421T235306Z
DTSTART:20210621T190000
DTEND:20210621T210000
SUMMARY:Na rubu pločnika
LOCATION:Kino Tuškanac
DESCRIPTION:Where the Sidewalk Ends, SAD, 1950 R: Otto Preminger
END:VEVENT

BEGIN:VEVENT
UID:8c706df8cecfec6f80436ddff9016289@kinotuskanac.hr
DTSTAMP:20260421T235306Z
DTSTART:20210621T210000
DTEND:20210621T230000
SUMMARY:Pali anđeo
LOCATION:Kino Tuškanac
DESCRIPTION:Fallen Angel, SAD, 1945 R: Otto Preminger
END:VEVENT

BEGIN:VEVENT
UID:24d700526ca89c2c38c3c8fd3afa4005@kinotuskanac.hr
DTSTAMP:20260421T235306Z
DTSTART:20210622T190000
DTEND:20210622T210000
SUMMARY:Laura
LOCATION:Kino Tuškanac
DESCRIPTION:SAD, 1944 R: Otto Preminger
END:VEVENT

BEGIN:VEVENT
UID:1ce4c5a869fe6d59d58c5907982903f6@kinotuskanac.hr
DTSTAMP:20260421T235306Z
DTSTART:20210623T190000
DTEND:20210623T210000
SUMMARY:Vrtlog
LOCATION:Kino Tuškanac
DESCRIPTION:Whirlpool, SAD, 1949 R: Otto Preminger
END:VEVENT

BEGIN:VEVENT
UID:6fb4cdab46a1010f30e984dd056c1272@kinotuskanac.hr
DTSTAMP:20260421T235306Z
DTSTART:20210623T210000
DTEND:20210623T230000
SUMMARY:Daisy Kenyon
LOCATION:Kino Tuškanac
DESCRIPTION:SAD, 1947 R: Otto Preminger
END:VEVENT
END:VCALENDAR