BEGIN:VCALENDAR
VERSION:2.0
PRODID:-//Kino Tuškanac//Filmski programi//HR
URL:http://kinotuskanac/calendar/cycle/82
NAME:Kino Tuškanac ciklus Ciklus filmova Jean-Luc Godarda	
X-WR-CALNAME:Kino Tuškanac ciklus Ciklus filmova Jean-Luc Godarda	
TIMEZONE-ID:Europe/Zagreb
X-WR-TIMEZONE:Europe/Zagreb
REFRESH-INTERVAL;VALUE=DURATION:PT12H
X-PUBLISHED-TTL:PT12H
METHOD:PUBLISH
BEGIN:VEVENT
UID:c14e928b5f2417a8248f7b155d662b7f@kinotuskanac.hr
DTSTAMP:20260423T143530Z
DTSTART:20050602T190000
DTEND:20050602T210000
SUMMARY:Do posljednjeg daha
LOCATION:Kino Tuškanac
DESCRIPTION:A bout de souffle, 1960 | Mjesto prikazivanja filma: Studio-galerija KLET (Ilica 73) R: Jean-Luc Godard
END:VEVENT

BEGIN:VEVENT
UID:47d94aff11084fe263f258c62ce6a1d3@kinotuskanac.hr
DTSTAMP:20260423T143530Z
DTSTART:20050602T210000
DTEND:20050602T230000
SUMMARY:Mali vojnik
LOCATION:Kino Tuškanac
DESCRIPTION:Le petit soldat, 1960 R: Jean-Luc Godard
END:VEVENT

BEGIN:VEVENT
UID:2252b10230b094ffb2b8e1addcf93f64@kinotuskanac.hr
DTSTAMP:20260423T143530Z
DTSTART:20050604T190000
DTEND:20050604T210000
SUMMARY:Žena je žena
LOCATION:Kino Tuškanac
DESCRIPTION:Une femme est une femme, Francuska, Italija, 1961 | Mjesto prikazivanja filma: Kulturno informativni centar KIC (Preradovićeva ul. 5) R: Jean-Luc Godard
END:VEVENT

BEGIN:VEVENT
UID:02642a9430f97d0a498ed889140025fe@kinotuskanac.hr
DTSTAMP:20260423T143530Z
DTSTART:20050604T210000
DTEND:20050604T230000
SUMMARY:Do posljednjeg daha
LOCATION:Kino Tuškanac
DESCRIPTION:A bout de souffle, 1960 | Mjesto prikazivanja filma: Studio-galerija KLET (Ilica 73) R: Jean-Luc Godard
END:VEVENT

BEGIN:VEVENT
UID:6ec46677ee02f5ee844d7978bb383bd3@kinotuskanac.hr
DTSTAMP:20260423T143530Z
DTSTART:20050607T190000
DTEND:20050607T210000
SUMMARY:Živjeti svoj život
LOCATION:Kino Tuškanac
DESCRIPTION:Vivre sa vie: Film en douze tableaux, 1962 R: Jean-Luc Godard
END:VEVENT

BEGIN:VEVENT
UID:4a20e0c6871dbc85b2192023159fb284@kinotuskanac.hr
DTSTAMP:20260423T143530Z
DTSTART:20050607T210000
DTEND:20050607T230000
SUMMARY:Prezir
LOCATION:Kino Tuškanac
DESCRIPTION:Le mépris, Francuska, Italija, 1963 R: Jean-Luc Godard
END:VEVENT

BEGIN:VEVENT
UID:16febfbd99418bde577826f713e6c684@kinotuskanac.hr
DTSTAMP:20260423T143530Z
DTSTART:20050609T190000
DTEND:20050609T210000
SUMMARY:Prezir
LOCATION:Kino Tuškanac
DESCRIPTION:Le mépris, Francuska, Italija, 1963 R: Jean-Luc Godard
END:VEVENT

BEGIN:VEVENT
UID:f20eb4f63fcaf4a287407ff0bd5d0025@kinotuskanac.hr
DTSTAMP:20260423T143530Z
DTSTART:20050609T210000
DTEND:20050609T230000
SUMMARY:Živjeti svoj život
LOCATION:Kino Tuškanac
DESCRIPTION:Vivre sa vie: Film en douze tableaux, 1962 R: Jean-Luc Godard
END:VEVENT

BEGIN:VEVENT
UID:0dfe030d8560d6e8e3476bae12344c3f@kinotuskanac.hr
DTSTAMP:20260423T143530Z
DTSTART:20050611T190000
DTEND:20050611T210000
SUMMARY:Neobična banda
LOCATION:Kino Tuškanac
DESCRIPTION:Bande a part, 1964 R: Jean-Luc Godard
END:VEVENT

BEGIN:VEVENT
UID:01ba0e608d462c4e63f030a1fd7b00f2@kinotuskanac.hr
DTSTAMP:20260423T143530Z
DTSTART:20050611T210000
DTEND:20050611T230000
SUMMARY:Alphaville, neobična avantura Lemmyja Cautiona
LOCATION:Kino Tuškanac
DESCRIPTION:Alphaville Une étrange aventure de Lemmy Caution, 1965. R: Jean-Luc Godard
END:VEVENT

BEGIN:VEVENT
UID:2d12e161508a563becacdef1a120ee75@kinotuskanac.hr
DTSTAMP:20260423T143530Z
DTSTART:20050614T190000
DTEND:20050614T210000
SUMMARY:Neobična banda
LOCATION:Kino Tuškanac
DESCRIPTION:Bande a part, 1964 R: Jean-Luc Godard
END:VEVENT

BEGIN:VEVENT
UID:9caac11255e1a5d709e428ab97098c39@kinotuskanac.hr
DTSTAMP:20260423T143530Z
DTSTART:20050614T210000
DTEND:20050614T230000
SUMMARY:Ludi Pierrot
LOCATION:Kino Tuškanac
DESCRIPTION:Pierrot le fou, Francuska, Italija, 1965 R: Jean-Luc Godard
END:VEVENT

BEGIN:VEVENT
UID:0b34de29641d01f318627a926d86661b@kinotuskanac.hr
DTSTAMP:20260423T143530Z
DTSTART:20050616T190000
DTEND:20050616T210000
SUMMARY:Ludi Pierrot
LOCATION:Kino Tuškanac
DESCRIPTION:Pierrot le fou, Francuska, Italija, 1965 R: Jean-Luc Godard
END:VEVENT

BEGIN:VEVENT
UID:1276a72cbcc38da78240168b381bbed6@kinotuskanac.hr
DTSTAMP:20260423T143530Z
DTSTART:20050616T210000
DTEND:20050616T230000
SUMMARY:Muški rod, ženski rod
LOCATION:Kino Tuškanac
DESCRIPTION:Masculin, féminin: 15 faits précis, 1966 R: Jean-Luc Godard
END:VEVENT

BEGIN:VEVENT
UID:255b7c54e734d0c2e36bdcbd22ce6075@kinotuskanac.hr
DTSTAMP:20260423T143530Z
DTSTART:20050621T190000
DTEND:20050621T210000
SUMMARY:Muški rod, ženski rod
LOCATION:Kino Tuškanac
DESCRIPTION:Masculin, féminin: 15 faits précis, 1966 R: Jean-Luc Godard
END:VEVENT

BEGIN:VEVENT
UID:c588d1ff899bd92cafa308166fb07b54@kinotuskanac.hr
DTSTAMP:20260423T143530Z
DTSTART:20050621T210000
DTEND:20050621T230000
SUMMARY:Daleko od Vijetnama
LOCATION:Kino Tuškanac
DESCRIPTION:Loin du Vietnam, 1967. R: Jean-Luc Godard, Alain Resnais, Agnès Varda, Claude Lelouch
END:VEVENT

BEGIN:VEVENT
UID:aa86e63ae5d18aab9175364a64f41c19@kinotuskanac.hr
DTSTAMP:20260423T143530Z
DTSTART:20050630T190000
DTEND:20050630T210000
SUMMARY:Daleko od Vijetnama
LOCATION:Kino Tuškanac
DESCRIPTION:Loin du Vietnam, 1967. R: Jean-Luc Godard, Alain Resnais, Agnès Varda, Claude Lelouch
END:VEVENT

BEGIN:VEVENT
UID:f78fdf148a2a3cbed77e7fcabb9df3e4@kinotuskanac.hr
DTSTAMP:20260423T143530Z
DTSTART:20050630T210000
DTEND:20050630T230000
SUMMARY:JLG - JLG
LOCATION:Kino Tuškanac
DESCRIPTION:1996 R: Jean-Luc Godard
END:VEVENT
END:VCALENDAR