BEGIN:VCALENDAR
VERSION:2.0
PRODID:-//Kino Tuškanac//Filmski programi//HR
URL:http://kinotuskanac/calendar/cycle/831
NAME:Kino Tuškanac ciklus 4. Berlinale Special
X-WR-CALNAME:Kino Tuškanac ciklus 4. Berlinale Special
TIMEZONE-ID:Europe/Zagreb
X-WR-TIMEZONE:Europe/Zagreb
REFRESH-INTERVAL;VALUE=DURATION:PT12H
X-PUBLISHED-TTL:PT12H
METHOD:PUBLISH
BEGIN:VEVENT
UID:eaec897ade8b7789338874cd435bcd3c@kinotuskanac.hr
DTSTAMP:20260423T143628Z
DTSTART:20211014T190000
DTEND:20211014T210000
SUMMARY:Fabian ili o propasti
LOCATION:Kino Tuškanac
DESCRIPTION:Fabian: Going to the Dogs, Njemačka, 2021 R: Dominik Graf
END:VEVENT

BEGIN:VEVENT
UID:381feb40cb1913c0da13c5ac06b39ec9@kinotuskanac.hr
DTSTAMP:20260423T143628Z
DTSTART:20211015T190000
DTEND:20211015T210000
SUMMARY:Curveball
LOCATION:Kino Tuškanac
DESCRIPTION:Njemačka, 2020 R: Johannes Naber
END:VEVENT

BEGIN:VEVENT
UID:c98a258f3dad9c6d7ed0aa0c9015de7c@kinotuskanac.hr
DTSTAMP:20260423T143628Z
DTSTART:20211015T210000
DTEND:20211015T230000
SUMMARY:Dom
LOCATION:Kino Tuškanac
DESCRIPTION:Home, Njemačka, Francuska, Nizozemska, 2020 R: Franka Potente
END:VEVENT

BEGIN:VEVENT
UID:ec9bf7939dc03a41badc7c63386b8881@kinotuskanac.hr
DTSTAMP:20260423T143628Z
DTSTART:20211016T190000
DTEND:20211016T210000
SUMMARY:Muškarac iz snova
LOCATION:Kino Tuškanac
DESCRIPTION:Ich bin dein Mensch, Njemačka, 2021 R: Maria Schrader
END:VEVENT

BEGIN:VEVENT
UID:d3d31f3a6ea28b37e0a8e54783a66500@kinotuskanac.hr
DTSTAMP:20260423T143628Z
DTSTART:20211016T210000
DTEND:20211016T230000
SUMMARY:Zajedljivi susjed
LOCATION:Kino Tuškanac
DESCRIPTION:Nebenan, Njemačka, 2021 R: Daniel Brühl
END:VEVENT

BEGIN:VEVENT
UID:a6a1a20ba5a4185c0807083bab3e8164@kinotuskanac.hr
DTSTAMP:20260423T143628Z
DTSTART:20211017T190000
DTEND:20211017T210000
SUMMARY:Krvopije
LOCATION:Kino Tuškanac
DESCRIPTION:Blutsauger, Njemačka, 2021 R: Julian Radlmaier
END:VEVENT
END:VCALENDAR