BEGIN:VCALENDAR
VERSION:2.0
PRODID:-//Kino Tuškanac//Filmski programi//HR
URL:http://kinotuskanac/calendar/cycle/838
NAME:Kino Tuškanac ciklus Portreti: Autobiografska fikcija Nannija Morettija
X-WR-CALNAME:Kino Tuškanac ciklus Portreti: Autobiografska fikcija Nannija Morettija
TIMEZONE-ID:Europe/Zagreb
X-WR-TIMEZONE:Europe/Zagreb
REFRESH-INTERVAL;VALUE=DURATION:PT12H
X-PUBLISHED-TTL:PT12H
METHOD:PUBLISH
BEGIN:VEVENT
UID:f01e67f07b1e92195895b4a0177e3698@kinotuskanac.hr
DTSTAMP:20260423T104416Z
DTSTART:20211102T190000
DTEND:20211102T210000
SUMMARY:Dragi dnevniče
LOCATION:Kino Tuškanac
DESCRIPTION:Caro diario, Italija, Francuska, 1994 R: Nanni Moretti
END:VEVENT

BEGIN:VEVENT
UID:decb635ee42f0f8ed77a024d4e6704d0@kinotuskanac.hr
DTSTAMP:20260423T104416Z
DTSTART:20211103T190000
DTEND:20211103T210000
SUMMARY:Crveni lob
LOCATION:Kino Tuškanac
DESCRIPTION:Palombella rossa, Italija, 1989 R: Nanni Moretti
END:VEVENT

BEGIN:VEVENT
UID:4773522eabca0c979d75daa7fa8af1d4@kinotuskanac.hr
DTSTAMP:20260423T104416Z
DTSTART:20211103T210000
DTEND:20211103T230000
SUMMARY:Bianca
LOCATION:Kino Tuškanac
DESCRIPTION:Italija, 1983 R: Nanni Moretti
END:VEVENT

BEGIN:VEVENT
UID:df41c784bf62bef05f18f81d260461d4@kinotuskanac.hr
DTSTAMP:20260423T104416Z
DTSTART:20211104T190000
DTEND:20211104T210000
SUMMARY:Travanj
LOCATION:Kino Tuškanac
DESCRIPTION:Aprile, Italija, 1998 R: Nanni Moretti
END:VEVENT

BEGIN:VEVENT
UID:9ecec80ec7053412482be9bfe04c6817@kinotuskanac.hr
DTSTAMP:20260423T104416Z
DTSTART:20211104T210000
DTEND:20211104T230000
SUMMARY:Misa je gotova
LOCATION:Kino Tuškanac
DESCRIPTION:La messa è finita, Italija, 1985 R: Nanni Moretti
END:VEVENT

BEGIN:VEVENT
UID:7d6cf677eca4ddddb0bf3d2fdde08c6c@kinotuskanac.hr
DTSTAMP:20260423T104416Z
DTSTART:20211105T190000
DTEND:20211105T210000
SUMMARY:Sinova soba
LOCATION:Kino Tuškanac
DESCRIPTION:La stanza del figlio, Italija, Francuska, 2001 R: Nanni Moretti
END:VEVENT

BEGIN:VEVENT
UID:4a152a93945dc95630c715ac67e99c82@kinotuskanac.hr
DTSTAMP:20260423T104416Z
DTSTART:20211105T210000
DTEND:20211105T230000
SUMMARY:Moja majka
LOCATION:Kino Tuškanac
DESCRIPTION:Mia madre, Italija, Francuska, Njemačka, 2015 R: Nanni Moretti
END:VEVENT

BEGIN:VEVENT
UID:96d4a7c80ff2bf4ca5a9fd21224b5e81@kinotuskanac.hr
DTSTAMP:20260423T104416Z
DTSTART:20211106T190000
DTEND:20211106T210000
SUMMARY:Imamo Papu
LOCATION:Kino Tuškanac
DESCRIPTION:Habemus Papam, Italija, Francuska, 2011 R: Nanni Moretti
END:VEVENT

BEGIN:VEVENT
UID:75e1886bfb90536396085a8adffdde53@kinotuskanac.hr
DTSTAMP:20260423T104416Z
DTSTART:20211106T210000
DTEND:20211106T230000
SUMMARY:Zlatni snovi - OTKAZANO
LOCATION:Kino Tuškanac
DESCRIPTION:Sogni d'oro, Italija, 1981 R: Nanni Moretti
END:VEVENT
END:VCALENDAR