BEGIN:VCALENDAR
VERSION:2.0
PRODID:-//Kino Tuškanac//Filmski programi//HR
URL:http://kinotuskanac/calendar/cycle/84
NAME:Kino Tuškanac ciklus Ciklus talijanskog filma II
X-WR-CALNAME:Kino Tuškanac ciklus Ciklus talijanskog filma II
TIMEZONE-ID:Europe/Zagreb
X-WR-TIMEZONE:Europe/Zagreb
REFRESH-INTERVAL;VALUE=DURATION:PT12H
X-PUBLISHED-TTL:PT12H
METHOD:PUBLISH
BEGIN:VEVENT
UID:36be9f8ccbe3c10a37365131e7331220@kinotuskanac.hr
DTSTAMP:20260420T130419Z
DTSTART:20050503T210000
DTEND:20050503T230000
SUMMARY:Evilenko
LOCATION:Kino Tuškanac
DESCRIPTION:2004 R: David Grieco
END:VEVENT

BEGIN:VEVENT
UID:7e80baa46c9a435d3f87d44742436cbf@kinotuskanac.hr
DTSTAMP:20260420T130419Z
DTSTART:20050504T210000
DTEND:20050504T230000
SUMMARY:Tako su se smijali
LOCATION:Kino Tuškanac
DESCRIPTION:Cosí ridevano, 1998 R: Gianni Amelio
END:VEVENT

BEGIN:VEVENT
UID:283da31b7150a942e0b53fc0e6bc1917@kinotuskanac.hr
DTSTAMP:20260420T130419Z
DTSTART:20050505T210000
DTEND:20050505T230000
SUMMARY:Dosada
LOCATION:Kino Tuškanac
DESCRIPTION:La noia, 1963 R: Damiano Damiani
END:VEVENT

BEGIN:VEVENT
UID:bfdcf5e36704b00ea38db49ae7c273f7@kinotuskanac.hr
DTSTAMP:20260420T130419Z
DTSTART:20050506T210000
DTEND:20050506T230000
SUMMARY:Agata i oluja
LOCATION:Kino Tuškanac
DESCRIPTION:Agata e la tempesta, 2004 R: Silvio Soldini
END:VEVENT

BEGIN:VEVENT
UID:7d8084ca89a3c8d9eb42ff8222d008bf@kinotuskanac.hr
DTSTAMP:20260420T130419Z
DTSTART:20050507T210000
DTEND:20050507T230000
SUMMARY:Caterina ide u grad
LOCATION:Kino Tuškanac
DESCRIPTION:Caterina va in citta, 2003 R: Paolo Virzi
END:VEVENT
END:VCALENDAR