BEGIN:VCALENDAR
VERSION:2.0
PRODID:-//Kino Tuškanac//Filmski programi//HR
URL:http://kinotuskanac/calendar/cycle/840
NAME:Kino Tuškanac ciklus Portreti: Korporalan film Darrena Aronofskog
X-WR-CALNAME:Kino Tuškanac ciklus Portreti: Korporalan film Darrena Aronofskog
TIMEZONE-ID:Europe/Zagreb
X-WR-TIMEZONE:Europe/Zagreb
REFRESH-INTERVAL;VALUE=DURATION:PT12H
X-PUBLISHED-TTL:PT12H
METHOD:PUBLISH
BEGIN:VEVENT
UID:1b71e13d29d2b9ed75b2dbcba2adc5aa@kinotuskanac.hr
DTSTAMP:20260421T060520Z
DTSTART:20211111T190000
DTEND:20211111T210000
SUMMARY:Rekvijem za snove
LOCATION:Kino Tuškanac
DESCRIPTION:Requiem for a Dream, SAD, 2000 | Mjesto prikazivanja filma: Kino Forum (SD Stjepan Radić, Jarunska ul. 2) R: Darren Aronofsky
END:VEVENT

BEGIN:VEVENT
UID:db5e0963ccba52b33adc891d93587477@kinotuskanac.hr
DTSTAMP:20260421T060520Z
DTSTART:20211112T190000
DTEND:20211112T210000
SUMMARY:Crni labud
LOCATION:Kino Tuškanac
DESCRIPTION:Black Swan, SAD, 2010 R: Darren Aronofsky
END:VEVENT

BEGIN:VEVENT
UID:15bc45d810cb0a28cf91808664fcd98a@kinotuskanac.hr
DTSTAMP:20260421T060520Z
DTSTART:20211112T210000
DTEND:20211112T230000
SUMMARY:Pi
LOCATION:Kino Tuškanac
DESCRIPTION:SAD, 1998 R: Darren Aronofsky
END:VEVENT

BEGIN:VEVENT
UID:52e1c1897e75c335be71a60624e98a95@kinotuskanac.hr
DTSTAMP:20260421T060520Z
DTSTART:20211113T190000
DTEND:20211113T210000
SUMMARY:Hrvač
LOCATION:Kino Tuškanac
DESCRIPTION:The Wrestler, SAD, Francuska, 2008 R: Darren Aronofsky
END:VEVENT

BEGIN:VEVENT
UID:0003347a9195f02f787989a9770469e0@kinotuskanac.hr
DTSTAMP:20260421T060520Z
DTSTART:20211113T210000
DTEND:20211113T230000
SUMMARY:Fontana života
LOCATION:Kino Tuškanac
DESCRIPTION:The Fountain, SAD, 2006 R: Darren Aronofsky
END:VEVENT

BEGIN:VEVENT
UID:9cd698e95b809bff3cef4250b3c00a6b@kinotuskanac.hr
DTSTAMP:20260421T060520Z
DTSTART:20211114T190000
DTEND:20211114T210000
SUMMARY:Majka!
LOCATION:Kino Tuškanac
DESCRIPTION:Mother!, SAD, 2017 R: Darren Aronofsky
END:VEVENT
END:VCALENDAR