BEGIN:VCALENDAR
VERSION:2.0
PRODID:-//Kino Tuškanac//Filmski programi//HR
URL:http://kinotuskanac/calendar/cycle/853
NAME:Kino Tuškanac ciklus Portreti: David Fincher
X-WR-CALNAME:Kino Tuškanac ciklus Portreti: David Fincher
TIMEZONE-ID:Europe/Zagreb
X-WR-TIMEZONE:Europe/Zagreb
REFRESH-INTERVAL;VALUE=DURATION:PT12H
X-PUBLISHED-TTL:PT12H
METHOD:PUBLISH
BEGIN:VEVENT
UID:aaafeb7bf09169e889af923115f4f048@kinotuskanac.hr
DTSTAMP:20260420T184523Z
DTSTART:20220119T190000
DTEND:20220119T210000
SUMMARY:Klub boraca
LOCATION:Kino Tuškanac
DESCRIPTION:Fight Club, SAD, Njemačka, 1999 R: David Fincher
END:VEVENT

BEGIN:VEVENT
UID:95a2fb50328603bed7484a2859aa6541@kinotuskanac.hr
DTSTAMP:20260420T184523Z
DTSTART:20220120T190000
DTEND:20220120T210000
SUMMARY:Mank
LOCATION:Kino Tuškanac
DESCRIPTION:SAD, 2020 R: David Fincher
END:VEVENT

BEGIN:VEVENT
UID:b59206f40cc2fef3773305f77f8d0398@kinotuskanac.hr
DTSTAMP:20260420T184523Z
DTSTART:20220121T190000
DTEND:20220121T210000
SUMMARY:Sedam
LOCATION:Kino Tuškanac
DESCRIPTION:Se7en, SAD, 1995 R: David Fincher
END:VEVENT

BEGIN:VEVENT
UID:484af909483704c9dc4f57636fef27af@kinotuskanac.hr
DTSTAMP:20260420T184523Z
DTSTART:20220121T211500
DTEND:20220121T231500
SUMMARY:Igra
LOCATION:Kino Tuškanac
DESCRIPTION:The Game, SAD, 1997 R: David Fincher
END:VEVENT

BEGIN:VEVENT
UID:cca703dd08d81aae91ffe6410fcb636a@kinotuskanac.hr
DTSTAMP:20260420T184523Z
DTSTART:20220122T190000
DTEND:20220122T210000
SUMMARY:Zodijak
LOCATION:Kino Tuškanac
DESCRIPTION:Zodiac, SAD, 2007 R: David Fincher
END:VEVENT

BEGIN:VEVENT
UID:787aabbda120dde40d37f4f375029d0d@kinotuskanac.hr
DTSTAMP:20260420T184523Z
DTSTART:20220123T190000
DTEND:20220123T210000
SUMMARY:Neobična priča o Benjaminu Buttonu
LOCATION:Kino Tuškanac
DESCRIPTION:The Curious Case of Benjamin Button, SAD, 2008 R: David Fincher
END:VEVENT

BEGIN:VEVENT
UID:74c987d7ce3b81802b4699ba9f49f676@kinotuskanac.hr
DTSTAMP:20260420T184523Z
DTSTART:20220124T190000
DTEND:20220124T210000
SUMMARY:Društvena mreža
LOCATION:Kino Tuškanac
DESCRIPTION:The Social Network, SAD, 2010 R: David Fincher
END:VEVENT

BEGIN:VEVENT
UID:76df6ad09490336e9b2ded9117b36a44@kinotuskanac.hr
DTSTAMP:20260420T184523Z
DTSTART:20220124T211500
DTEND:20220124T231500
SUMMARY:Tuđinac 3
LOCATION:Kino Tuškanac
DESCRIPTION:Alien 3, SAD, UK, 1992 R: David Fincher
END:VEVENT

BEGIN:VEVENT
UID:46d2d47c40d0c4796da3efe812a71a9c@kinotuskanac.hr
DTSTAMP:20260420T184523Z
DTSTART:20220125T190000
DTEND:20220125T210000
SUMMARY:Nestala
LOCATION:Kino Tuškanac
DESCRIPTION:Gone Girl, SAD, 2014 R: David Fincher
END:VEVENT

BEGIN:VEVENT
UID:c1d6119f1c58011ff424760524c6d464@kinotuskanac.hr
DTSTAMP:20260420T184523Z
DTSTART:20220126T190000
DTEND:20220126T210000
SUMMARY:Muškarci koji mrze žene
LOCATION:Kino Tuškanac
DESCRIPTION:The Girl with the Dragon Tattoo, SAD, Švedska, Norveška, 2011 R: David Fincher
END:VEVENT
END:VCALENDAR