BEGIN:VCALENDAR
VERSION:2.0
PRODID:-//Kino Tuškanac//Filmski programi//HR
URL:http://kinotuskanac/calendar/cycle/861
NAME:Kino Tuškanac ciklus Portreti: Delmer Daves
X-WR-CALNAME:Kino Tuškanac ciklus Portreti: Delmer Daves
TIMEZONE-ID:Europe/Zagreb
X-WR-TIMEZONE:Europe/Zagreb
REFRESH-INTERVAL;VALUE=DURATION:PT12H
X-PUBLISHED-TTL:PT12H
METHOD:PUBLISH
BEGIN:VEVENT
UID:23ce6db51674fa145dff6ebe4521d059@kinotuskanac.hr
DTSTAMP:20260421T113558Z
DTSTART:20220223T190000
DTEND:20220223T210000
SUMMARY:Mračni prolaz
LOCATION:Kino Tuškanac
DESCRIPTION:Dark Passage, SAD, 1947 R: Delmer Daves
END:VEVENT

BEGIN:VEVENT
UID:c5f90aeb9896cb521c2fe81f9085b3b7@kinotuskanac.hr
DTSTAMP:20260421T113558Z
DTSTART:20220224T190000
DTEND:20220224T210000
SUMMARY:Slomljena strijela
LOCATION:Kino Tuškanac
DESCRIPTION:Broken Arrow, SAD, 1950 R: Delmer Daves
END:VEVENT

BEGIN:VEVENT
UID:d20aff09d3e27b318e659388f0876e94@kinotuskanac.hr
DTSTAMP:20260421T113558Z
DTSTART:20220224T210000
DTEND:20220224T230000
SUMMARY:Posljednja kola
LOCATION:Kino Tuškanac
DESCRIPTION:The Last Wagon, SAD, 1956 R: Delmer Daves
END:VEVENT

BEGIN:VEVENT
UID:4e744d2a43b747df7cd1022b56b8b470@kinotuskanac.hr
DTSTAMP:20260421T113558Z
DTSTART:20220225T190000
DTEND:20220225T210000
SUMMARY:Drvo za vješanje
LOCATION:Kino Tuškanac
DESCRIPTION:The Hanging Tree, SAD, 1959 R: Delmer Daves
END:VEVENT

BEGIN:VEVENT
UID:6a36159700d989f4605fad2a55df7f51@kinotuskanac.hr
DTSTAMP:20260421T113558Z
DTSTART:20220226T190000
DTEND:20220226T210000
SUMMARY:Jubal
LOCATION:Kino Tuškanac
DESCRIPTION:SAD, 1956 R: Delmer Daves
END:VEVENT

BEGIN:VEVENT
UID:d955131e2df5b221b73c368b28539b71@kinotuskanac.hr
DTSTAMP:20260421T113558Z
DTSTART:20220226T210000
DTEND:20220226T230000
SUMMARY:Kauboj
LOCATION:Kino Tuškanac
DESCRIPTION:Cowboy, SAD, 1958 R: Delmer Daves
END:VEVENT

BEGIN:VEVENT
UID:7bc81040b753604d5d2c33e9ed032dec@kinotuskanac.hr
DTSTAMP:20260421T113558Z
DTSTART:20220227T190000
DTEND:20220227T210000
SUMMARY:U 3'10 za Yumu
LOCATION:Kino Tuškanac
DESCRIPTION:3:10 to Yuma, SAD, 1957 R: Delmer Daves
END:VEVENT
END:VCALENDAR