BEGIN:VCALENDAR
VERSION:2.0
PRODID:-//Kino Tuškanac//Filmski programi//HR
URL:http://kinotuskanac/calendar/cycle/863
NAME:Kino Tuškanac ciklus Portreti: Sonja Savić
X-WR-CALNAME:Kino Tuškanac ciklus Portreti: Sonja Savić
TIMEZONE-ID:Europe/Zagreb
X-WR-TIMEZONE:Europe/Zagreb
REFRESH-INTERVAL;VALUE=DURATION:PT12H
X-PUBLISHED-TTL:PT12H
METHOD:PUBLISH
BEGIN:VEVENT
UID:ede38f536dbd3830719b5df374e323a7@kinotuskanac.hr
DTSTAMP:20260420T023419Z
DTSTART:20220307T190000
DTEND:20220307T210000
SUMMARY:Davitelj protiv Davitelja
LOCATION:Kino Tuškanac
DESCRIPTION:Jugoslavija, 1984 R: Slobodan Šijan
END:VEVENT

BEGIN:VEVENT
UID:6f58aa9b9153554efdbb881ad4757a61@kinotuskanac.hr
DTSTAMP:20260420T023419Z
DTSTART:20220307T210000
DTEND:20220307T230000
SUMMARY:Šećerna vodica
LOCATION:Kino Tuškanac
DESCRIPTION:Jugoslavija, 1983 R: Svetislav Prelić
END:VEVENT

BEGIN:VEVENT
UID:8f5bc54106c2dfbd25293a00b01ca84f@kinotuskanac.hr
DTSTAMP:20260420T023419Z
DTSTART:20220308T190000
DTEND:20220308T210000
SUMMARY:Jug-jugoistok
LOCATION:Kino Tuškanac
DESCRIPTION:Srbija, 2005 R: Milutin Petrović
END:VEVENT

BEGIN:VEVENT
UID:4866531b4e79e5b3ed15a68b9c112882@kinotuskanac.hr
DTSTAMP:20260420T023419Z
DTSTART:20220308T210000
DTEND:20220308T230000
SUMMARY:Una
LOCATION:Kino Tuškanac
DESCRIPTION:Jugoslavija, 1984 R: Miloš 'Miša' Radivojević
END:VEVENT

BEGIN:VEVENT
UID:7d6602f02f7f34645133e7266ddddda5@kinotuskanac.hr
DTSTAMP:20260420T023419Z
DTSTART:20220309T190000
DTEND:20220309T210000
SUMMARY:Život je lep
LOCATION:Kino Tuškanac
DESCRIPTION:Jugoslavija, 1985 R: Bora Drašković
END:VEVENT

BEGIN:VEVENT
UID:d7eb689429182556c7b9332d70f6a3ce@kinotuskanac.hr
DTSTAMP:20260420T023419Z
DTSTART:20220309T210000
DTEND:20220309T230000
SUMMARY:Od groba do groba
LOCATION:Kino Tuškanac
DESCRIPTION:Slovenija, Hrvatska, 2005 R: Jan Cvitkovič
END:VEVENT

BEGIN:VEVENT
UID:114010a5b7b52d7afedf4413c1b900f9@kinotuskanac.hr
DTSTAMP:20260420T023420Z
DTSTART:20220310T190000
DTEND:20220310T210000
SUMMARY:Balkanski špijun
LOCATION:Kino Tuškanac
DESCRIPTION:Jugoslavija, 1984 R: Dušan Kovačević
END:VEVENT

BEGIN:VEVENT
UID:5c8d6cfbd26713a287883a9309ab1a72@kinotuskanac.hr
DTSTAMP:20260420T023420Z
DTSTART:20220310T210000
DTEND:20220310T230000
SUMMARY:Mi nismo anđeli
LOCATION:Kino Tuškanac
DESCRIPTION:Jugoslavija, 1992 R: Srđan Dragojević
END:VEVENT
END:VCALENDAR