BEGIN:VCALENDAR
VERSION:2.0
PRODID:-//Kino Tuškanac//Filmski programi//HR
URL:http://kinotuskanac/calendar/cycle/871
NAME:Kino Tuškanac ciklus Portreti: Abbas Kiarostami
X-WR-CALNAME:Kino Tuškanac ciklus Portreti: Abbas Kiarostami
TIMEZONE-ID:Europe/Zagreb
X-WR-TIMEZONE:Europe/Zagreb
REFRESH-INTERVAL;VALUE=DURATION:PT12H
X-PUBLISHED-TTL:PT12H
METHOD:PUBLISH
BEGIN:VEVENT
UID:7f0b737520c97537b7cef17e248854a3@kinotuskanac.hr
DTSTAMP:20260420T070712Z
DTSTART:20220411T190000
DTEND:20220411T210000
SUMMARY:Krupni plan
LOCATION:Kino Tuškanac
DESCRIPTION:Nema-ye Nazdik, Iran, 1990 R: Abbas Kiarostami
END:VEVENT

BEGIN:VEVENT
UID:4e2c2a534bb6a98ee4e0ebf060b42e15@kinotuskanac.hr
DTSTAMP:20260420T070712Z
DTSTART:20220412T190000
DTEND:20220412T210000
SUMMARY:Gdje je kuća mojega prijatelja?
LOCATION:Kino Tuškanac
DESCRIPTION:Khane-ye doust kodjast?, Iran, 1987 R: Abbas Kiarostami
END:VEVENT

BEGIN:VEVENT
UID:5e386a079b245068d0263abcce9014c3@kinotuskanac.hr
DTSTAMP:20260420T070712Z
DTSTART:20220412T210000
DTEND:20220412T230000
SUMMARY:Putnik
LOCATION:Kino Tuškanac
DESCRIPTION:Mossafer, Iran, 1974 R: Abbas Kiarostami
END:VEVENT

BEGIN:VEVENT
UID:071059a5d5a3bfccece8e5c8f088b853@kinotuskanac.hr
DTSTAMP:20260420T070712Z
DTSTART:20220413T190000
DTEND:20220413T210000
SUMMARY:Provjerena kopija
LOCATION:Kino Tuškanac
DESCRIPTION:Copie conforme, Francuska, Italija, Belgija, Iran, 2010 R: Abbas Kiarostami
END:VEVENT

BEGIN:VEVENT
UID:07414b3d33007e3cee4fc3edf13b3bb7@kinotuskanac.hr
DTSTAMP:20260420T070712Z
DTSTART:20220413T210000
DTEND:20220413T230000
SUMMARY:Iskustvo
LOCATION:Kino Tuškanac
DESCRIPTION:Tadjrebeh, Iran, 1973 R: Abbas Kiarostami
END:VEVENT

BEGIN:VEVENT
UID:6db8008e20bfcecb82f5cf0ad9d057d8@kinotuskanac.hr
DTSTAMP:20260420T070712Z
DTSTART:20220414T190000
DTEND:20220414T210000
SUMMARY:I život se nastavlja
LOCATION:Kino Tuškanac
DESCRIPTION:Zendegi va digar hich, Iran, 1992 R: Abbas Kiarostami
END:VEVENT

BEGIN:VEVENT
UID:cdac02d8828bf8f31015f6ba941a033b@kinotuskanac.hr
DTSTAMP:20260420T070712Z
DTSTART:20220414T210000
DTEND:20220414T230000
SUMMARY:Kroz stabla masline
LOCATION:Kino Tuškanac
DESCRIPTION:Zire darakhatan zeyton, Iran, Francuska, 1994 R: Abbas Kiarostami
END:VEVENT

BEGIN:VEVENT
UID:2ee20a6abf9352ceae9d27c913f8f3ba@kinotuskanac.hr
DTSTAMP:20260420T070712Z
DTSTART:20220415T190000
DTEND:20220415T210000
SUMMARY:Okus trešnje
LOCATION:Kino Tuškanac
DESCRIPTION:Ta'm e guilass, Iran, Francuska, 1997 R: Abbas Kiarostami
END:VEVENT

BEGIN:VEVENT
UID:89a159e5e9768a395983817fc950d102@kinotuskanac.hr
DTSTAMP:20260420T070712Z
DTSTART:20220415T210000
DTEND:20220415T230000
SUMMARY:Deset
LOCATION:Kino Tuškanac
DESCRIPTION:Dah, Iran, Francuska, SAD, 2002 R: Abbas Kiarostami
END:VEVENT

BEGIN:VEVENT
UID:854e3f14858fed246dd6909003a43ab0@kinotuskanac.hr
DTSTAMP:20260420T070712Z
DTSTART:20220416T190000
DTEND:20220416T210000
SUMMARY:Shirin
LOCATION:Kino Tuškanac
DESCRIPTION:Iran, 2008 R: Abbas Kiarostami
END:VEVENT

BEGIN:VEVENT
UID:adbd4984f6ca58d43991bbd0776dffa9@kinotuskanac.hr
DTSTAMP:20260420T070712Z
DTSTART:20220416T210000
DTEND:20220416T230000
SUMMARY:Kao netko zaljubljen
LOCATION:Kino Tuškanac
DESCRIPTION:Like Someone in Love, Japan, Francuska, 2012 R: Abbas Kiarostami
END:VEVENT

BEGIN:VEVENT
UID:864b0ccd9433325419d0544a291eb0de@kinotuskanac.hr
DTSTAMP:20260420T070712Z
DTSTART:20220418T190000
DTEND:20220418T210000
SUMMARY:Vjetar će nas odnijeti
LOCATION:Kino Tuškanac
DESCRIPTION:Le vent nous emportera, Iran, Francuska, 1999 R: Abbas Kiarostami
END:VEVENT
END:VCALENDAR