BEGIN:VCALENDAR
VERSION:2.0
PRODID:-//Kino Tuškanac//Filmski programi//HR
URL:http://kinotuskanac/calendar/cycle/872
NAME:Kino Tuškanac ciklus Portreti: Thomas Vinterberg
X-WR-CALNAME:Kino Tuškanac ciklus Portreti: Thomas Vinterberg
TIMEZONE-ID:Europe/Zagreb
X-WR-TIMEZONE:Europe/Zagreb
REFRESH-INTERVAL;VALUE=DURATION:PT12H
X-PUBLISHED-TTL:PT12H
METHOD:PUBLISH
BEGIN:VEVENT
UID:e2894186f61c8dc08dda4e4ccbf1c15a@kinotuskanac.hr
DTSTAMP:20260420T142124Z
DTSTART:20220420T190000
DTEND:20220420T210000
SUMMARY:Proslava (1998)
LOCATION:Kino Tuškanac
DESCRIPTION:Festen, Danska, Švedska, 1998 R: Thomas Vinterberg
END:VEVENT

BEGIN:VEVENT
UID:00908d1a7774e9cdbd43c64d1ce1e22d@kinotuskanac.hr
DTSTAMP:20260420T142124Z
DTSTART:20220421T190000
DTEND:20220421T210000
SUMMARY:Submarino
LOCATION:Kino Tuškanac
DESCRIPTION:Danska, Švedska, 2010 R: Thomas Vinterberg
END:VEVENT

BEGIN:VEVENT
UID:bec8b1084c00144e514f98ba4b497cf6@kinotuskanac.hr
DTSTAMP:20260420T142124Z
DTSTART:20220421T210000
DTEND:20220421T230000
SUMMARY:Komuna
LOCATION:Kino Tuškanac
DESCRIPTION:Kollektivet, Danska, Švedska, Nizozemska, 2016 R: Thomas Vinterberg
END:VEVENT

BEGIN:VEVENT
UID:c16adaf3e7278395dd14afa721a17797@kinotuskanac.hr
DTSTAMP:20260420T142124Z
DTSTART:20220422T190000
DTEND:20220422T210000
SUMMARY:Lov
LOCATION:Kino Tuškanac
DESCRIPTION:Jagten, Danska, Švedska, 2012 R: Thomas Vinterberg
END:VEVENT

BEGIN:VEVENT
UID:1ed4d934a61187c12d760e2484c351ce@kinotuskanac.hr
DTSTAMP:20260420T142124Z
DTSTART:20220423T190000
DTEND:20220423T210000
SUMMARY:Još jedna runda
LOCATION:Kino Tuškanac
DESCRIPTION:Druk, Danska, Švedska, Nizozemska, 2020 R: Thomas Vinterberg
END:VEVENT

BEGIN:VEVENT
UID:5be844883449667125d4878cb9a71c50@kinotuskanac.hr
DTSTAMP:20260420T142124Z
DTSTART:20220423T210000
DTEND:20220423T230000
SUMMARY:Draga Wendy
LOCATION:Kino Tuškanac
DESCRIPTION:Dear Wendy, Danska, Francuska, Njemačka, UK, 2005 R: Thomas Vinterberg
END:VEVENT

BEGIN:VEVENT
UID:93d24e3ba98c37d5686f99d7e4d54df0@kinotuskanac.hr
DTSTAMP:20260420T142124Z
DTSTART:20220424T190000
DTEND:20220424T210000
SUMMARY:Daleko od bjesomučne gomile
LOCATION:Kino Tuškanac
DESCRIPTION:Far from the Madding Crowd, UK, SAD, 2015 R: Thomas Vinterberg
END:VEVENT
END:VCALENDAR