BEGIN:VCALENDAR
VERSION:2.0
PRODID:-//Kino Tuškanac//Filmski programi//HR
URL:http://kinotuskanac/calendar/cycle/876
NAME:Kino Tuškanac ciklus Kratki rezovi: Holokaust na filmu
X-WR-CALNAME:Kino Tuškanac ciklus Kratki rezovi: Holokaust na filmu
TIMEZONE-ID:Europe/Zagreb
X-WR-TIMEZONE:Europe/Zagreb
REFRESH-INTERVAL;VALUE=DURATION:PT12H
X-PUBLISHED-TTL:PT12H
METHOD:PUBLISH
BEGIN:VEVENT
UID:138a4473932720d64a8e1a0b48710284@kinotuskanac.hr
DTSTAMP:20260419T145811Z
DTSTART:20220502T190000
DTEND:20220502T210000
SUMMARY:Shoah
LOCATION:Kino Tuškanac
DESCRIPTION:Francuska, UK, 1985 R: Claude Lanzmann
END:VEVENT

BEGIN:VEVENT
UID:30bfe6367ea401c0c039b7095390d769@kinotuskanac.hr
DTSTAMP:20260419T145811Z
DTSTART:20220503T190000
DTEND:20220503T210000
SUMMARY:Shoah
LOCATION:Kino Tuškanac
DESCRIPTION:Francuska, UK, 1985 R: Claude Lanzmann
END:VEVENT

BEGIN:VEVENT
UID:a0ad5d3e0558b891e43c23cf8645cd95@kinotuskanac.hr
DTSTAMP:20260419T145811Z
DTSTART:20220504T190000
DTEND:20220504T210000
SUMMARY:Shoah
LOCATION:Kino Tuškanac
DESCRIPTION:Francuska, UK, 1985 R: Claude Lanzmann
END:VEVENT

BEGIN:VEVENT
UID:2bd9d74639187e1cd41d49a4c99d5841@kinotuskanac.hr
DTSTAMP:20260419T145811Z
DTSTART:20220505T190000
DTEND:20220505T210000
SUMMARY:Shoah
LOCATION:Kino Tuškanac
DESCRIPTION:Francuska, UK, 1985 R: Claude Lanzmann
END:VEVENT
END:VCALENDAR