BEGIN:VCALENDAR
VERSION:2.0
PRODID:-//Kino Tuškanac//Filmski programi//HR
URL:http://kinotuskanac/calendar/cycle/888
NAME:Kino Tuškanac ciklus Fantastic Zagreb Film Festival 2022
X-WR-CALNAME:Kino Tuškanac ciklus Fantastic Zagreb Film Festival 2022
TIMEZONE-ID:Europe/Zagreb
X-WR-TIMEZONE:Europe/Zagreb
REFRESH-INTERVAL;VALUE=DURATION:PT12H
X-PUBLISHED-TTL:PT12H
METHOD:PUBLISH
BEGIN:VEVENT
UID:3f03fb5429ec2cedbafa70aa3fbdb28a@kinotuskanac.hr
DTSTAMP:20260419T154958Z
DTSTART:20220706T184500
DTEND:20220706T204500
SUMMARY:Kratki program 1
LOCATION:Kino Tuškanac
DESCRIPTION:
END:VEVENT

BEGIN:VEVENT
UID:c7f0ebf35af65c5d4c22574af7fa4f54@kinotuskanac.hr
DTSTAMP:20260419T154958Z
DTSTART:20220707T184500
DTEND:20220707T204500
SUMMARY:Kratki program 2
LOCATION:Kino Tuškanac
DESCRIPTION:
END:VEVENT

BEGIN:VEVENT
UID:d2096ac82213ac6aa0e4c7c26aa3633c@kinotuskanac.hr
DTSTAMP:20260419T154958Z
DTSTART:20220708T190000
DTEND:20220708T210000
SUMMARY:Dan kada sam pronašao djevojku u smeću
LOCATION:Kino Tuškanac
DESCRIPTION:Dzien, w którym znalazlem w smieciach dziewczyne, Poljska, 2021 R: Michal Krzywicki
END:VEVENT

BEGIN:VEVENT
UID:09bbab49446f52d3445ea1e98ca9d6be@kinotuskanac.hr
DTSTAMP:20260419T154958Z
DTSTART:20220709T190000
DTEND:20220709T210000
SUMMARY:Nosferatu, simfonija strave
LOCATION:Kino Tuškanac
DESCRIPTION:Nosferatu, eine Symphonie des Grauens, Njemačka, 1922 R: Friedrich Wilhelm Murnau
END:VEVENT

BEGIN:VEVENT
UID:cd0c8b1d62d9c8d95d26bdcaf9f75991@kinotuskanac.hr
DTSTAMP:20260419T154958Z
DTSTART:20220710T190000
DTEND:20220710T210000
SUMMARY:Kratt
LOCATION:Kino Tuškanac
DESCRIPTION:Estonija, 2021 R: Rasmus Merivoo
END:VEVENT
END:VCALENDAR