BEGIN:VCALENDAR
VERSION:2.0
PRODID:-//Kino Tuškanac//Filmski programi//HR
URL:http://kinotuskanac/calendar/cycle/89
NAME:Kino Tuškanac ciklus Program hrvatskih igranih filmova: Zagreb na filmu
X-WR-CALNAME:Kino Tuškanac ciklus Program hrvatskih igranih filmova: Zagreb na filmu
TIMEZONE-ID:Europe/Zagreb
X-WR-TIMEZONE:Europe/Zagreb
REFRESH-INTERVAL;VALUE=DURATION:PT12H
X-PUBLISHED-TTL:PT12H
METHOD:PUBLISH
BEGIN:VEVENT
UID:45d721921fc28a6ee968047c6bc835d1@kinotuskanac.hr
DTSTAMP:20260424T231253Z
DTSTART:20050531T170000
DTEND:20050531T190000
SUMMARY:Tko pjeva zlo ne misli
LOCATION:Kino Tuškanac
DESCRIPTION:Hrvatska, 1970 | Mjesto prikazivanja filma: Studio-galerija KLET (Ilica 73) R: Krešo Golik
END:VEVENT

BEGIN:VEVENT
UID:a58f8f2e09c0675f17c03fcae8a9d39c@kinotuskanac.hr
DTSTAMP:20260424T231253Z
DTSTART:20050531T190000
DTEND:20050531T210000
SUMMARY:Orao
LOCATION:Kino Tuškanac
DESCRIPTION:1990 R: Zoran Tadić
END:VEVENT

BEGIN:VEVENT
UID:c8898acd2ca81146650ce294243d7849@kinotuskanac.hr
DTSTAMP:20260424T231253Z
DTSTART:20050531T210000
DTEND:20050531T230000
SUMMARY:Oficir s ružom
LOCATION:Kino Tuškanac
DESCRIPTION:1987. R: Dejan Šorak
END:VEVENT

BEGIN:VEVENT
UID:552aa29858e232e00bfd4d6c0f93b562@kinotuskanac.hr
DTSTAMP:20260424T231253Z
DTSTART:20070329T190000
DTEND:20070329T210000
SUMMARY:Oficir s ružom
LOCATION:Kino Tuškanac
DESCRIPTION:1987. R: Dejan Šorak
END:VEVENT

BEGIN:VEVENT
UID:472d258eb61d0438f642ba0703df7730@kinotuskanac.hr
DTSTAMP:20260424T231253Z
DTSTART:20070330T210000
DTEND:20070330T230000
SUMMARY:Oficir s ružom
LOCATION:Kino Tuškanac
DESCRIPTION:1987. R: Dejan Šorak
END:VEVENT

BEGIN:VEVENT
UID:cde397677e0c1d79ea70ce53b07fac39@kinotuskanac.hr
DTSTAMP:20260424T231253Z
DTSTART:20070403T190000
DTEND:20070403T210000
SUMMARY:Orao
LOCATION:Kino Tuškanac
DESCRIPTION:1990 R: Zoran Tadić
END:VEVENT

BEGIN:VEVENT
UID:e8768603970a6717f26253a6b9228454@kinotuskanac.hr
DTSTAMP:20260424T231253Z
DTSTART:20070404T210000
DTEND:20070404T230000
SUMMARY:Orao
LOCATION:Kino Tuškanac
DESCRIPTION:1990 R: Zoran Tadić
END:VEVENT

BEGIN:VEVENT
UID:4706f5a1df49854c7b222cc2c50444ca@kinotuskanac.hr
DTSTAMP:20260424T231253Z
DTSTART:20101221T210000
DTEND:20101221T230000
SUMMARY:Orao
LOCATION:Kino Tuškanac
DESCRIPTION:1990 R: Zoran Tadić
END:VEVENT

BEGIN:VEVENT
UID:6a15328efc6386421db829789ef75545@kinotuskanac.hr
DTSTAMP:20260424T231253Z
DTSTART:20101222T190000
DTEND:20101222T210000
SUMMARY:Orao
LOCATION:Kino Tuškanac
DESCRIPTION:1990 R: Zoran Tadić
END:VEVENT

BEGIN:VEVENT
UID:096b8cbe9929bf37e56b41f225c6bfc4@kinotuskanac.hr
DTSTAMP:20260424T231253Z
DTSTART:20110528T210000
DTEND:20110528T230000
SUMMARY:Tko pjeva zlo ne misli
LOCATION:Kino Tuškanac
DESCRIPTION:Hrvatska, 1970 | Mjesto prikazivanja filma: Studio-galerija KLET (Ilica 73) R: Krešo Golik
END:VEVENT
END:VCALENDAR