BEGIN:VCALENDAR
VERSION:2.0
PRODID:-//Kino Tuškanac//Filmski programi//HR
URL:http://kinotuskanac/calendar/cycle/898
NAME:Kino Tuškanac ciklus Portreti: Henning Carlsen
X-WR-CALNAME:Kino Tuškanac ciklus Portreti: Henning Carlsen
TIMEZONE-ID:Europe/Zagreb
X-WR-TIMEZONE:Europe/Zagreb
REFRESH-INTERVAL;VALUE=DURATION:PT12H
X-PUBLISHED-TTL:PT12H
METHOD:PUBLISH
BEGIN:VEVENT
UID:d71d17ac3249584628bc2c0c3430e507@kinotuskanac.hr
DTSTAMP:20260419T155401Z
DTSTART:20221018T190000
DTEND:20221018T210000
SUMMARY:Glad (1966)
LOCATION:Kino Tuškanac
DESCRIPTION:Sult, Danska, Norveška, Švedska, 1966 R: Henning Carlsen
END:VEVENT
END:VCALENDAR