BEGIN:VCALENDAR
VERSION:2.0
PRODID:-//Kino Tuškanac//Filmski programi//HR
URL:http://kinotuskanac/calendar/cycle/907
NAME:Kino Tuškanac ciklus Portreti: Martin Scorsese
X-WR-CALNAME:Kino Tuškanac ciklus Portreti: Martin Scorsese
TIMEZONE-ID:Europe/Zagreb
X-WR-TIMEZONE:Europe/Zagreb
REFRESH-INTERVAL;VALUE=DURATION:PT12H
X-PUBLISHED-TTL:PT12H
METHOD:PUBLISH
BEGIN:VEVENT
UID:fc0e8bbf1b3b698ab4b9b8efc2045932@kinotuskanac.hr
DTSTAMP:20260421T100207Z
DTSTART:20221116T190000
DTEND:20221116T210000
SUMMARY:Dobri momci
LOCATION:Kino Tuškanac
DESCRIPTION:Goodfellas, SAD, 1990 R: Martin Scorsese
END:VEVENT

BEGIN:VEVENT
UID:fb33d637e114e250f19b3e749020c1f0@kinotuskanac.hr
DTSTAMP:20260421T100207Z
DTSTART:20221117T190000
DTEND:20221117T210000
SUMMARY:Taksist
LOCATION:Kino Tuškanac
DESCRIPTION:Taxi Driver, SAD, 1976 | Mjesto prikazivanja filma: Kino Forum (SD Stjepan Radić, Jarunska ul. 2) R: Martin Scorsese
END:VEVENT

BEGIN:VEVENT
UID:31fa3cd90d52f14cd50933008aaae34b@kinotuskanac.hr
DTSTAMP:20260421T100207Z
DTSTART:20221117T210000
DTEND:20221117T230000
SUMMARY:Razjareni bik
LOCATION:Kino Tuškanac
DESCRIPTION:Raging Bull, SAD, 1980 R: Martin Scorsese
END:VEVENT

BEGIN:VEVENT
UID:17ed4881dcedfa8b6921d6cbe92167c9@kinotuskanac.hr
DTSTAMP:20260421T100207Z
DTSTART:20221118T190000
DTEND:20221118T210000
SUMMARY:Kasino
LOCATION:Kino Tuškanac
DESCRIPTION:Casino, SAD, Francuska, 1995 R: Martin Scorsese
END:VEVENT

BEGIN:VEVENT
UID:9e09c30c22e99f64339fe61127d2a738@kinotuskanac.hr
DTSTAMP:20260421T100207Z
DTSTART:20221119T190000
DTEND:20221119T210000
SUMMARY:Idiotska noć
LOCATION:Kino Tuškanac
DESCRIPTION:After Hours, SAD, 1985 R: Martin Scorsese
END:VEVENT

BEGIN:VEVENT
UID:336e3e6bd10c4e52c752018d30203adb@kinotuskanac.hr
DTSTAMP:20260421T100207Z
DTSTART:20221119T210000
DTEND:20221119T230000
SUMMARY:Pokojni
LOCATION:Kino Tuškanac
DESCRIPTION:The Departed, SAD, Hong Kong, 2006 R: Martin Scorsese
END:VEVENT

BEGIN:VEVENT
UID:13324cb96d1343f3288aa2822a999b91@kinotuskanac.hr
DTSTAMP:20260421T100207Z
DTSTART:20221120T190000
DTEND:20221120T210000
SUMMARY:Posljednje Kristovo iskušenje
LOCATION:Kino Tuškanac
DESCRIPTION:The Last Temptation of Christ, SAD, Kanada, 1988 R: Martin Scorsese
END:VEVENT

BEGIN:VEVENT
UID:16932f9cd0e7c884fbdb11fdbad0718b@kinotuskanac.hr
DTSTAMP:20260421T100207Z
DTSTART:20221121T190000
DTEND:20221121T210000
SUMMARY:Između života i smrti
LOCATION:Kino Tuškanac
DESCRIPTION:Bringing Out the Dead, SAD, 1999 R: Martin Scorsese
END:VEVENT

BEGIN:VEVENT
UID:fc35389aceafe66588a4e7c6122970f6@kinotuskanac.hr
DTSTAMP:20260421T100207Z
DTSTART:20221121T210000
DTEND:20221121T230000
SUMMARY:Posljednji valcer
LOCATION:Kino Tuškanac
DESCRIPTION:The Last Waltz, SAD, 1978 R: Martin Scorsese
END:VEVENT

BEGIN:VEVENT
UID:792091e850e23b785d18eb23ef4c17a2@kinotuskanac.hr
DTSTAMP:20260421T100207Z
DTSTART:20221122T190000
DTEND:20221122T210000
SUMMARY:Šutnja
LOCATION:Kino Tuškanac
DESCRIPTION:Silence, SAD, UK, Japan, Tajvan, Meksiko, Italija, 2016 R: Martin Scorsese
END:VEVENT

BEGIN:VEVENT
UID:4210f45a8f19adb0e49da866681f15ab@kinotuskanac.hr
DTSTAMP:20260421T100207Z
DTSTART:20221123T190000
DTEND:20221123T210000
SUMMARY:Boja novca
LOCATION:Kino Tuškanac
DESCRIPTION:The Color of Money, SAD, 1986 R: Martin Scorsese
END:VEVENT

BEGIN:VEVENT
UID:c2ab116ca7516494f59ac2d87c6b144d@kinotuskanac.hr
DTSTAMP:20260421T100207Z
DTSTART:20221123T210000
DTEND:20221123T230000
SUMMARY:Kundun
LOCATION:Kino Tuškanac
DESCRIPTION:SAD, Maroko, Monako, 1997 R: Martin Scorsese
END:VEVENT

BEGIN:VEVENT
UID:2bc36d6e8cc213af3183d0334e58e198@kinotuskanac.hr
DTSTAMP:20260421T100207Z
DTSTART:20221124T190000
DTEND:20221124T210000
SUMMARY:Vuk s Wall Streeta
LOCATION:Kino Tuškanac
DESCRIPTION:The Wolf of Wall Street, SAD, 2013 R: Martin Scorsese
END:VEVENT

BEGIN:VEVENT
UID:7976d4eff27eebb335c780a75159041b@kinotuskanac.hr
DTSTAMP:20260421T100207Z
DTSTART:20221125T190000
DTEND:20221125T210000
SUMMARY:Kralj komedije
LOCATION:Kino Tuškanac
DESCRIPTION:The King of Comedy, SAD, 1982 R: Martin Scorsese
END:VEVENT

BEGIN:VEVENT
UID:b3a911f62c5be98a4cd3b8e24c729d1a@kinotuskanac.hr
DTSTAMP:20260421T100207Z
DTSTART:20221125T210000
DTEND:20221125T230000
SUMMARY:Otok Shutter
LOCATION:Kino Tuškanac
DESCRIPTION:Shutter Island, SAD, 2010 R: Martin Scorsese
END:VEVENT

BEGIN:VEVENT
UID:594ec5056ff23c7e9126f36cb99e82b3@kinotuskanac.hr
DTSTAMP:20260421T100207Z
DTSTART:20221126T190000
DTEND:20221126T210000
SUMMARY:Irac
LOCATION:Kino Tuškanac
DESCRIPTION:The Irishman, SAD, 2019 R: Martin Scorsese
END:VEVENT

BEGIN:VEVENT
UID:062a840b3369873b674bc9428185c8de@kinotuskanac.hr
DTSTAMP:20260421T100207Z
DTSTART:20221127T190000
DTEND:20221127T210000
SUMMARY:Ulice zla
LOCATION:Kino Tuškanac
DESCRIPTION:Mean Streets, SAD, 1973 R: Martin Scorsese
END:VEVENT

BEGIN:VEVENT
UID:cf68bbb72361781c49fd2f9934089780@kinotuskanac.hr
DTSTAMP:20260421T100207Z
DTSTART:20221127T210000
DTEND:20221127T230000
SUMMARY:Hugo
LOCATION:Kino Tuškanac
DESCRIPTION:SAD, UK, Francuska, 2011 R: Martin Scorsese
END:VEVENT

BEGIN:VEVENT
UID:dc89eb4243a2a1f8a98135884bbbf944@kinotuskanac.hr
DTSTAMP:20260421T100207Z
DTSTART:20221128T190000
DTEND:20221128T210000
SUMMARY:Avijatičar
LOCATION:Kino Tuškanac
DESCRIPTION:The Aviator, SAD, Njemačka, 2004 R: Martin Scorsese
END:VEVENT

BEGIN:VEVENT
UID:2fba1f7e65aef79242a695697186698f@kinotuskanac.hr
DTSTAMP:20260421T100207Z
DTSTART:20221129T190000
DTEND:20221129T210000
SUMMARY:Tko to kuca na moja vrata?
LOCATION:Kino Tuškanac
DESCRIPTION:Who's That Knocking At My Door?, SAD, 1967 R: Martin Scorsese
END:VEVENT

BEGIN:VEVENT
UID:a9cebcb826710f15502d48325e50cc80@kinotuskanac.hr
DTSTAMP:20260421T100207Z
DTSTART:20221129T210000
DTEND:20221129T230000
SUMMARY:Doba nevinosti
LOCATION:Kino Tuškanac
DESCRIPTION:The Age of Innocence, SAD, 1993 R: Martin Scorsese
END:VEVENT

BEGIN:VEVENT
UID:05a4416c55e27519a08337434cc8f522@kinotuskanac.hr
DTSTAMP:20260421T100207Z
DTSTART:20221130T190000
DTEND:20221130T210000
SUMMARY:New York, New York
LOCATION:Kino Tuškanac
DESCRIPTION:SAD, 1977 R: Martin Scorsese
END:VEVENT

BEGIN:VEVENT
UID:7343b65feaa3c1a42eded618eddf2616@kinotuskanac.hr
DTSTAMP:20260421T100207Z
DTSTART:20221201T190000
DTEND:20221201T210000
SUMMARY:Alice više ne stanuje ovdje
LOCATION:Kino Tuškanac
DESCRIPTION:Alice Doesn't Live Here Anymore, SAD, 1974 | Mjesto prikazivanja filma: Kulturno informativni centar KIC (Preradovićeva ul. 5) R: Martin Scorsese
END:VEVENT

BEGIN:VEVENT
UID:526bccb6246c6be48c9c12dbbf1f2a62@kinotuskanac.hr
DTSTAMP:20260421T100207Z
DTSTART:20221201T210000
DTEND:20221201T230000
SUMMARY:Rt straha
LOCATION:Kino Tuškanac
DESCRIPTION:Cape Fear, SAD, 1991 R: Martin Scorsese
END:VEVENT
END:VCALENDAR