BEGIN:VCALENDAR
VERSION:2.0
PRODID:-//Kino Tuškanac//Filmski programi//HR
URL:http://kinotuskanac/calendar/cycle/912
NAME:Kino Tuškanac ciklus 20. Human Rights Film Festival
X-WR-CALNAME:Kino Tuškanac ciklus 20. Human Rights Film Festival
TIMEZONE-ID:Europe/Zagreb
X-WR-TIMEZONE:Europe/Zagreb
REFRESH-INTERVAL;VALUE=DURATION:PT12H
X-PUBLISHED-TTL:PT12H
METHOD:PUBLISH
BEGIN:VEVENT
UID:d3d55a76858ec0fa29a36b5f67354b0a@kinotuskanac.hr
DTSTAMP:20260420T182852Z
DTSTART:20221204T190000
DTEND:20221204T210000
SUMMARY:Godine super osmice
LOCATION:Kino Tuškanac
DESCRIPTION:Les années super 8, Francuska, 2022 R: Annie Ernaux
END:VEVENT

BEGIN:VEVENT
UID:0443e7903cfec9ea16b49ffbd59fc228@kinotuskanac.hr
DTSTAMP:20260420T182852Z
DTSTART:20221204T204500
DTEND:20221204T224500
SUMMARY:Refrakcije
LOCATION:Kino Tuškanac
DESCRIPTION:Refractions, Hrvatska, 2022 R: Vladislav Knežević
END:VEVENT

BEGIN:VEVENT
UID:3a803285296e744407c314cdeb84d07c@kinotuskanac.hr
DTSTAMP:20260420T182852Z
DTSTART:20221204T204500
DTEND:20221204T224500
SUMMARY:Afterwater
LOCATION:Kino Tuškanac
DESCRIPTION:Njemačka, Južna Koreja, Španjolska, Srbija, 2022 R: Dane Komljen
END:VEVENT

BEGIN:VEVENT
UID:3ad00edfbbb3d320ff805637106b2251@kinotuskanac.hr
DTSTAMP:20260420T182852Z
DTSTART:20221205T170000
DTEND:20221205T190000
SUMMARY:Casa Susanna
LOCATION:Kino Tuškanac
DESCRIPTION:Francuska, SAD, 2022 R: Sébastien Lifshitz
END:VEVENT

BEGIN:VEVENT
UID:e72351b1998492199b1f88b6311fa7e1@kinotuskanac.hr
DTSTAMP:20260420T182852Z
DTSTART:20221205T190000
DTEND:20221205T210000
SUMMARY:Sparta
LOCATION:Kino Tuškanac
DESCRIPTION:Austrija, Francuska, Njemačka, 2022 R: Ulrich Seidl
END:VEVENT

BEGIN:VEVENT
UID:94dd293154970afc49b58e13ee4fdb99@kinotuskanac.hr
DTSTAMP:20260420T182852Z
DTSTART:20221205T210000
DTEND:20221205T230000
SUMMARY:Partenon
LOCATION:Kino Tuškanac
DESCRIPTION:Partenona, Litva, Ukrajina, Francuska, 2019 R: Mantas Kvedaravičius
END:VEVENT

BEGIN:VEVENT
UID:d419ec37f9942e7a440b2f5145f08c7f@kinotuskanac.hr
DTSTAMP:20260420T182852Z
DTSTART:20221206T170000
DTEND:20221206T190000
SUMMARY:Barzah
LOCATION:Kino Tuškanac
DESCRIPTION:Finska, Litva, 2011 R: Mantas Kvedaravičius
END:VEVENT

BEGIN:VEVENT
UID:7059ad020ef55cc14079065eb1e1f796@kinotuskanac.hr
DTSTAMP:20260420T182852Z
DTSTART:20221206T190000
DTEND:20221206T210000
SUMMARY:Prirodna povijest uništavanja
LOCATION:Kino Tuškanac
DESCRIPTION:The Natural History of Destruction, Njemačka, Litva, Nizozemska, 2022 R: Sergej Loznica
END:VEVENT

BEGIN:VEVENT
UID:96bb0cf439c47845c803a39b251e3beb@kinotuskanac.hr
DTSTAMP:20260420T182852Z
DTSTART:20221206T210000
DTEND:20221206T230000
SUMMARY:De humani corporis fabrica
LOCATION:Kino Tuškanac
DESCRIPTION:Francuska, 2022 R: Véréna Paravel, Lucien Castaing-Taylor
END:VEVENT

BEGIN:VEVENT
UID:0c06059ec3741c2a70af8ece8a0f89db@kinotuskanac.hr
DTSTAMP:20260420T182852Z
DTSTART:20221207T170000
DTEND:20221207T190000
SUMMARY:Mariupolis
LOCATION:Kino Tuškanac
DESCRIPTION:Njemačka, Francuska, Litva, Ukrajina, 2016 R: Mantas Kvedaravičius
END:VEVENT

BEGIN:VEVENT
UID:a26aee02c06c82c815660a9a27d904aa@kinotuskanac.hr
DTSTAMP:20260420T182852Z
DTSTART:20221207T190000
DTEND:20221207T210000
SUMMARY:Nema medvjeda
LOCATION:Kino Tuškanac
DESCRIPTION:Khers Nist, Iran, 2022 R: Jafar Panahi
END:VEVENT

BEGIN:VEVENT
UID:5e3df7504ea71d285863b9d8a460bd00@kinotuskanac.hr
DTSTAMP:20260420T182852Z
DTSTART:20221207T210000
DTEND:20221207T230000
SUMMARY:Eami
LOCATION:Kino Tuškanac
DESCRIPTION:Paragvaj, Nizozemska, 2022 R: Paz Encina
END:VEVENT

BEGIN:VEVENT
UID:f4ffbe80750f9f8d4904ee343c3de0ad@kinotuskanac.hr
DTSTAMP:20260420T182852Z
DTSTART:20221208T170000
DTEND:20221208T190000
SUMMARY:Kijevski proces
LOCATION:Kino Tuškanac
DESCRIPTION:The Kiev Trial, Nizozemska, Ukrajina, 2022 R: Sergej Loznica
END:VEVENT

BEGIN:VEVENT
UID:fd59ea15b5be118ebdda7b4c5c58c7db@kinotuskanac.hr
DTSTAMP:20260420T182852Z
DTSTART:20221208T190000
DTEND:20221208T210000
SUMMARY:Mariupolis 2
LOCATION:Kino Tuškanac
DESCRIPTION:Litva, Francuska, Njemačka, 2022 R: Mantas Kvedaravičius
END:VEVENT

BEGIN:VEVENT
UID:4399499a3082960eca7cb6bcb8898f71@kinotuskanac.hr
DTSTAMP:20260420T182852Z
DTSTART:20221208T211500
DTEND:20221208T231500
SUMMARY:Pomrčina (2022)
LOCATION:Kino Tuškanac
DESCRIPTION:Formørkelsen, Norveška, 2022 R: Nataša Urban
END:VEVENT

BEGIN:VEVENT
UID:34802a0bca38a35f12a1d575d4970647@kinotuskanac.hr
DTSTAMP:20260420T182852Z
DTSTART:20221209T170000
DTEND:20221209T190000
SUMMARY:Kako spasiti mrtvog prijatelja
LOCATION:Kino Tuškanac
DESCRIPTION:How to Save a Dead Friend, Švedska, Norveška, Francuska, Njemačka, 2022 R: Marusja Siroječovskaja
END:VEVENT

BEGIN:VEVENT
UID:a2f6ce8b16f2cee2205ee10243a1abc5@kinotuskanac.hr
DTSTAMP:20260420T182852Z
DTSTART:20221209T190000
DTEND:20221209T210000
SUMMARY:Saint Omer
LOCATION:Kino Tuškanac
DESCRIPTION:Francuska, 2022 R: Alice Diop
END:VEVENT

BEGIN:VEVENT
UID:f5ed2a5df42f04c4c3972f9b9a240172@kinotuskanac.hr
DTSTAMP:20260420T182852Z
DTSTART:20221209T213000
DTEND:20221209T233000
SUMMARY:Još jedno proleće
LOCATION:Kino Tuškanac
DESCRIPTION:Srbija, Katar, 2022 R: Mladen Kovačević
END:VEVENT

BEGIN:VEVENT
UID:64f5d9fdb949fc56c16ef284c24b13ab@kinotuskanac.hr
DTSTAMP:20260420T182852Z
DTSTART:20221210T170000
DTEND:20221210T190000
SUMMARY:Još jedno proleće
LOCATION:Kino Tuškanac
DESCRIPTION:Srbija, Katar, 2022 R: Mladen Kovačević
END:VEVENT

BEGIN:VEVENT
UID:87998e7de156c5543134507998f944d6@kinotuskanac.hr
DTSTAMP:20260420T182852Z
DTSTART:20221210T190000
DTEND:20221210T210000
SUMMARY:Da li ste videli ovu ženu?
LOCATION:Kino Tuškanac
DESCRIPTION:Srbija, Hrvatska, 2022 R: Dušan Zorić
END:VEVENT

BEGIN:VEVENT
UID:4bce1bac925e72ed0cd5068095598a23@kinotuskanac.hr
DTSTAMP:20260420T182852Z
DTSTART:20221210T210000
DTEND:20221210T230000
SUMMARY:Varljiva svjetlost
LOCATION:Kino Tuškanac
DESCRIPTION:Fogo-fátuo, Portugal, Francuska, 2022 R: Joao Pedro Rodrigues
END:VEVENT

BEGIN:VEVENT
UID:a7df78af9c0b6cb4cc8edb25be1db278@kinotuskanac.hr
DTSTAMP:20260420T182852Z
DTSTART:20221211T150000
DTEND:20221211T170000
SUMMARY:Priča s Pacifika
LOCATION:Kino Tuškanac
DESCRIPTION:Pacifiction, Francuska, Španjolska, Njemačka, Portugal, 2022 R: Albert Serra
END:VEVENT

BEGIN:VEVENT
UID:49aac05d6a617d5b57e97a144d433772@kinotuskanac.hr
DTSTAMP:20260420T182852Z
DTSTART:20221211T190000
DTEND:20221211T210000
SUMMARY:Banija
LOCATION:Kino Tuškanac
DESCRIPTION:Hrvatska, Srbija, 2022 R: Nebojša Slijepčević
END:VEVENT

BEGIN:VEVENT
UID:207f8fa6f331b04a2ce384c7311e7eff@kinotuskanac.hr
DTSTAMP:20260420T182852Z
DTSTART:20221211T190000
DTEND:20221211T210000
SUMMARY:Nemir
LOCATION:Kino Tuškanac
DESCRIPTION:Unrueh, Švicarska, 2022 R: Cyril Schäublin
END:VEVENT

BEGIN:VEVENT
UID:d3711e3ede0e2625726accd7f2cc9fae@kinotuskanac.hr
DTSTAMP:20260420T182852Z
DTSTART:20221211T210000
DTEND:20221211T230000
SUMMARY:Ljubav, smrt i njemačke marke
LOCATION:Kino Tuškanac
DESCRIPTION:Aşk, Mark ve Ölüm - Liebe, D-Mark und Tod, Njemačka, 2022 R: Cem Kaya
END:VEVENT
END:VCALENDAR