BEGIN:VCALENDAR
VERSION:2.0
PRODID:-//Kino Tuškanac//Filmski programi//HR
URL:http://kinotuskanac/calendar/cycle/92
NAME:Kino Tuškanac ciklus Ciklus njemačkog nijemog filma II
X-WR-CALNAME:Kino Tuškanac ciklus Ciklus njemačkog nijemog filma II
TIMEZONE-ID:Europe/Zagreb
X-WR-TIMEZONE:Europe/Zagreb
REFRESH-INTERVAL;VALUE=DURATION:PT12H
X-PUBLISHED-TTL:PT12H
METHOD:PUBLISH
BEGIN:VEVENT
UID:dc53f44d672cc4d40793b44bc9bb16cb@kinotuskanac.hr
DTSTAMP:20260421T165104Z
DTSTART:20051010T210000
DTEND:20051010T230000
SUMMARY:Nosferatu, simfonija strave
LOCATION:Kino Tuškanac
DESCRIPTION:Nosferatu, eine Symphonie des Grauens, Njemačka, 1922 R: Friedrich Wilhelm Murnau
END:VEVENT

BEGIN:VEVENT
UID:3726bbba6c0441142aca1f74a8bbf171@kinotuskanac.hr
DTSTAMP:20260421T165104Z
DTSTART:20051012T190000
DTEND:20051012T210000
SUMMARY:Posljednji čovjek
LOCATION:Kino Tuškanac
DESCRIPTION:Der Letzte Mann, Njemačka, 1924 R: Friedrich Wilhelm Murnau
END:VEVENT

BEGIN:VEVENT
UID:e317379b8da96ae72ece2af9c596a146@kinotuskanac.hr
DTSTAMP:20260421T165104Z
DTSTART:20051012T210000
DTEND:20051012T230000
SUMMARY:Tajne jedne duše
LOCATION:Kino Tuškanac
DESCRIPTION:Geheimnisse einer Seele, 1925./1926.); R: Georg Pabst
END:VEVENT

BEGIN:VEVENT
UID:e30fce7dc6761851030b15371a82985f@kinotuskanac.hr
DTSTAMP:20260421T165104Z
DTSTART:20051013T190000
DTEND:20051013T210000
SUMMARY:Tragedija prostitutke
LOCATION:Kino Tuškanac
DESCRIPTION:Die Dirnentragödie, 1927 R: Bruno Rahn
END:VEVENT

BEGIN:VEVENT
UID:d30d5f5ca9f4e2fec9b4f5f9ef8b4cb1@kinotuskanac.hr
DTSTAMP:20260421T165104Z
DTSTART:20051013T210000
DTEND:20051013T230000
SUMMARY:Asfalt
LOCATION:Kino Tuškanac
DESCRIPTION:Asphalt, 1928./1929. R: Joe May
END:VEVENT

BEGIN:VEVENT
UID:cf6e26377fd915ba9a0b5e2fd19b1454@kinotuskanac.hr
DTSTAMP:20260421T165104Z
DTSTART:20051014T190000
DTEND:20051014T210000
SUMMARY:Ljudi nedjeljom
LOCATION:Kino Tuškanac
DESCRIPTION:Menschen am Sonntag, Njemačka, 1929 R: Robert Siodmak
END:VEVENT

BEGIN:VEVENT
UID:b15d2b2dec0a2a7c52303b762fdd25a8@kinotuskanac.hr
DTSTAMP:20260421T165104Z
DTSTART:20051014T210000
DTEND:20051014T230000
SUMMARY:Mama Krausen putuje u sreću
LOCATION:Kino Tuškanac
DESCRIPTION:Mutter Krausens Fahrt ins Glück, 1929 R: Piel Jutzi
END:VEVENT

BEGIN:VEVENT
UID:7ffdc50587cf4c900f283b7cfda560c0@kinotuskanac.hr
DTSTAMP:20260421T165104Z
DTSTART:20051015T190000
DTEND:20051015T210000
SUMMARY:Nosferatu, simfonija strave
LOCATION:Kino Tuškanac
DESCRIPTION:Nosferatu, eine Symphonie des Grauens, Njemačka, 1922 R: Friedrich Wilhelm Murnau
END:VEVENT

BEGIN:VEVENT
UID:3b4cfbf3a504490316b058e55f1de72a@kinotuskanac.hr
DTSTAMP:20260421T165104Z
DTSTART:20051015T210000
DTEND:20051015T230000
SUMMARY:Posljednji čovjek
LOCATION:Kino Tuškanac
DESCRIPTION:Der Letzte Mann, Njemačka, 1924 R: Friedrich Wilhelm Murnau
END:VEVENT

BEGIN:VEVENT
UID:c03f6e6080bb1b79c25049420c1d8e19@kinotuskanac.hr
DTSTAMP:20260421T165104Z
DTSTART:20051017T190000
DTEND:20051017T210000
SUMMARY:Tajne jedne duše
LOCATION:Kino Tuškanac
DESCRIPTION:Geheimnisse einer Seele, 1925./1926.); R: Georg Pabst
END:VEVENT

BEGIN:VEVENT
UID:848a97a97a84bdb2ab41ef8237d5c17c@kinotuskanac.hr
DTSTAMP:20260421T165104Z
DTSTART:20051017T210000
DTEND:20051017T230000
SUMMARY:Tragedija prostitutke
LOCATION:Kino Tuškanac
DESCRIPTION:Die Dirnentragödie, 1927 R: Bruno Rahn
END:VEVENT

BEGIN:VEVENT
UID:101b1fa30219f78dd7fa74adfdc59ce2@kinotuskanac.hr
DTSTAMP:20260421T165104Z
DTSTART:20051019T190000
DTEND:20051019T210000
SUMMARY:Asfalt
LOCATION:Kino Tuškanac
DESCRIPTION:Asphalt, 1928./1929. R: Joe May
END:VEVENT

BEGIN:VEVENT
UID:aca7871a1c85ea52e1390dd089a1fc60@kinotuskanac.hr
DTSTAMP:20260421T165104Z
DTSTART:20051019T210000
DTEND:20051019T230000
SUMMARY:Ljudi nedjeljom
LOCATION:Kino Tuškanac
DESCRIPTION:Menschen am Sonntag, Njemačka, 1929 R: Robert Siodmak
END:VEVENT

BEGIN:VEVENT
UID:ca2597ec04e694b3f0decc20981b96db@kinotuskanac.hr
DTSTAMP:20260421T165104Z
DTSTART:20051020T190000
DTEND:20051020T210000
SUMMARY:Mama Krausen putuje u sreću
LOCATION:Kino Tuškanac
DESCRIPTION:Mutter Krausens Fahrt ins Glück, 1929 R: Piel Jutzi
END:VEVENT
END:VCALENDAR