BEGIN:VCALENDAR
VERSION:2.0
PRODID:-//Kino Tuškanac//Filmski programi//HR
URL:http://kinotuskanac/calendar/cycle/922
NAME:Kino Tuškanac ciklus Kinoteka: Lukas Nola
X-WR-CALNAME:Kino Tuškanac ciklus Kinoteka: Lukas Nola
TIMEZONE-ID:Europe/Zagreb
X-WR-TIMEZONE:Europe/Zagreb
REFRESH-INTERVAL;VALUE=DURATION:PT12H
X-PUBLISHED-TTL:PT12H
METHOD:PUBLISH
BEGIN:VEVENT
UID:753062b6019f717a9ec48223c044ecaf@kinotuskanac.hr
DTSTAMP:20260421T201921Z
DTSTART:20230206T190000
DTEND:20230206T210000
SUMMARY:Nebo, sateliti
LOCATION:Kino Tuškanac
DESCRIPTION:Hrvatska, 2000 R: Lukas Nola
END:VEVENT

BEGIN:VEVENT
UID:317579439a267d17329d47c626daa2a2@kinotuskanac.hr
DTSTAMP:20260421T201921Z
DTSTART:20230207T190000
DTEND:20230207T210000
SUMMARY:Pravo čudo
LOCATION:Kino Tuškanac
DESCRIPTION:Hrvatska, 2007 R: Lukas Nola
END:VEVENT

BEGIN:VEVENT
UID:67fc8b241911468f47336d2abd14beec@kinotuskanac.hr
DTSTAMP:20260421T201921Z
DTSTART:20230207T210000
DTEND:20230207T230000
SUMMARY:Svaki put kad se rastajemo
LOCATION:Kino Tuškanac
DESCRIPTION:Hrvatska, 1994 R: Lukas Nola
END:VEVENT

BEGIN:VEVENT
UID:dd639892487431a3e46e41dc35187fa7@kinotuskanac.hr
DTSTAMP:20260421T201921Z
DTSTART:20230208T190000
DTEND:20230208T210000
SUMMARY:Rusko meso
LOCATION:Kino Tuškanac
DESCRIPTION:Hrvatska, 1997 R: Lukas Nola
END:VEVENT

BEGIN:VEVENT
UID:e6c0c80f2a6ddb84783120e21e153133@kinotuskanac.hr
DTSTAMP:20260421T201921Z
DTSTART:20230208T210000
DTEND:20230208T230000
SUMMARY:Dok nitko ne gleda
LOCATION:Kino Tuškanac
DESCRIPTION:Hrvatska, 1992 R: Lukas Nola
END:VEVENT

BEGIN:VEVENT
UID:3adc0da599bb5b6d733801175d777659@kinotuskanac.hr
DTSTAMP:20260421T201921Z
DTSTART:20230209T190000
DTEND:20230209T210000
SUMMARY:Sami
LOCATION:Kino Tuškanac
DESCRIPTION:Hrvatska, 2001 R: Lukas Nola
END:VEVENT

BEGIN:VEVENT
UID:ba050abf4019d9d2ee319cbf25f7ed39@kinotuskanac.hr
DTSTAMP:20260421T201921Z
DTSTART:20230209T210000
DTEND:20230209T230000
SUMMARY:Šuti
LOCATION:Kino Tuškanac
DESCRIPTION:Hrvatska, 2013 R: Lukas Nola
END:VEVENT
END:VCALENDAR