BEGIN:VCALENDAR
VERSION:2.0
PRODID:-//Kino Tuškanac//Filmski programi//HR
URL:http://kinotuskanac/calendar/cycle/925
NAME:Kino Tuškanac ciklus Portreti: Terry Gilliam & Monty Python
X-WR-CALNAME:Kino Tuškanac ciklus Portreti: Terry Gilliam & Monty Python
TIMEZONE-ID:Europe/Zagreb
X-WR-TIMEZONE:Europe/Zagreb
REFRESH-INTERVAL;VALUE=DURATION:PT12H
X-PUBLISHED-TTL:PT12H
METHOD:PUBLISH
BEGIN:VEVENT
UID:cacf2c355600ad6fe99cde2fcd31a39e@kinotuskanac.hr
DTSTAMP:20260420T161500Z
DTSTART:20230210T190000
DTEND:20230210T210000
SUMMARY:Monty Python i Sveti Gral - OTKAZANO
LOCATION:Kino Tuškanac
DESCRIPTION:Monty Python and the Holy Grail, UK, 1975 R: Terry Gilliam, Terry Jones
END:VEVENT

BEGIN:VEVENT
UID:5982f2f1c47d2fe919d8cd98e002c3cc@kinotuskanac.hr
DTSTAMP:20260420T161500Z
DTSTART:20230211T190000
DTEND:20230211T210000
SUMMARY:Strah i prijezir u Las Vegasu
LOCATION:Kino Tuškanac
DESCRIPTION:Fear and Loathing in Las Vegas, SAD, 1998 R: Terry Gilliam
END:VEVENT

BEGIN:VEVENT
UID:517d57ea216001171e3cfbda284fa5a9@kinotuskanac.hr
DTSTAMP:20260420T161500Z
DTSTART:20230211T210000
DTEND:20230211T230000
SUMMARY:Imaginarij Dr. Parnasusa
LOCATION:Kino Tuškanac
DESCRIPTION:The Imaginarium of Doctor Parnassus, UK, Francuska, Kanada, 2009 R: Terry Gilliam
END:VEVENT

BEGIN:VEVENT
UID:c16c2c97605da6bf12ba7c0dc92a3b86@kinotuskanac.hr
DTSTAMP:20260420T161500Z
DTSTART:20230212T190000
DTEND:20230212T210000
SUMMARY:Kralj ribara
LOCATION:Kino Tuškanac
DESCRIPTION:The Fisher King, SAD, 1991 R: Terry Gilliam
END:VEVENT

BEGIN:VEVENT
UID:6ab422680ccafb61fd2141febeccf287@kinotuskanac.hr
DTSTAMP:20260420T161500Z
DTSTART:20230213T190000
DTEND:20230213T210000
SUMMARY:Monty Python: Smisao života
LOCATION:Kino Tuškanac
DESCRIPTION:Monty Python's The Meaning of Life, UK, 1983 R: Terry Jones
END:VEVENT

BEGIN:VEVENT
UID:a9e4b3bfc968eaf1fd370deab39f3b62@kinotuskanac.hr
DTSTAMP:20260420T161500Z
DTSTART:20230213T210000
DTEND:20230213T230000
SUMMARY:Brianov život - OTKAZANO
LOCATION:Kino Tuškanac
DESCRIPTION:Life of Brian, UK, 1979 R: Terry Jones
END:VEVENT

BEGIN:VEVENT
UID:f95af01d34846c7768a209c943fbc7d0@kinotuskanac.hr
DTSTAMP:20260420T161500Z
DTSTART:20230214T190000
DTEND:20230214T210000
SUMMARY:Brazil
LOCATION:Kino Tuškanac
DESCRIPTION:SAD, UK, 1985 R: Terry Gilliam
END:VEVENT

BEGIN:VEVENT
UID:82dac76f7883259c5d0796435f98d283@kinotuskanac.hr
DTSTAMP:20260420T161500Z
DTSTART:20230215T190000
DTEND:20230215T210000
SUMMARY:Vremenski banditi
LOCATION:Kino Tuškanac
DESCRIPTION:Time Bandits, UK, 1981 R: Terry Gilliam
END:VEVENT

BEGIN:VEVENT
UID:ab2a6a11a15b65f2514f331314d6c68f@kinotuskanac.hr
DTSTAMP:20260420T161500Z
DTSTART:20230215T210000
DTEND:20230215T230000
SUMMARY:Tideland
LOCATION:Kino Tuškanac
DESCRIPTION:UK, Kanada, 2005 R: Terry Gilliam
END:VEVENT

BEGIN:VEVENT
UID:f7e911fa8c79e4a5daded11280a5d91e@kinotuskanac.hr
DTSTAMP:20260420T161500Z
DTSTART:20230216T190000
DTEND:20230216T210000
SUMMARY:Čovjek koji je ubio Don Quijotea
LOCATION:Kino Tuškanac
DESCRIPTION:The Man Who Killed Don Quixote, Španjolska, Belgija, Portugal, UK, 2018 R: Terry Gilliam
END:VEVENT

BEGIN:VEVENT
UID:15ead7e777a166cf52f0ba3f6d8409ae@kinotuskanac.hr
DTSTAMP:20260420T161500Z
DTSTART:20230217T190000
DTEND:20230217T210000
SUMMARY:Dvanaest majmuna
LOCATION:Kino Tuškanac
DESCRIPTION:Twelve Monkeys, SAD, 1995 R: Terry Gilliam
END:VEVENT

BEGIN:VEVENT
UID:2f7a48a7c5dc9b6662200bd1197e9412@kinotuskanac.hr
DTSTAMP:20260420T161500Z
DTSTART:20230217T211500
DTEND:20230217T231500
SUMMARY:A sad, nešto sasvim drugačije
LOCATION:Kino Tuškanac
DESCRIPTION:And Now For Something Completely Different, UK, 1971 R: Ian MacNaughton
END:VEVENT

BEGIN:VEVENT
UID:b2d337cdc48fddd82bc433efd2a69646@kinotuskanac.hr
DTSTAMP:20260420T161500Z
DTSTART:20230218T190000
DTEND:20230218T210000
SUMMARY:Avanture baruna Munchausena
LOCATION:Kino Tuškanac
DESCRIPTION:The Adventures of Baron Munchausen, UK, Zapadna Njemačka, 1988 R: Terry Gilliam
END:VEVENT

BEGIN:VEVENT
UID:37741401b5e575dbe6c55c891a40c8f0@kinotuskanac.hr
DTSTAMP:20260420T161500Z
DTSTART:20230218T211500
DTEND:20230218T231500
SUMMARY:Imaginarij Dr. Parnasusa
LOCATION:Kino Tuškanac
DESCRIPTION:The Imaginarium of Doctor Parnassus, UK, Francuska, Kanada, 2009 R: Terry Gilliam
END:VEVENT
END:VCALENDAR