BEGIN:VCALENDAR
VERSION:2.0
PRODID:-//Kino Tuškanac//Filmski programi//HR
URL:http://kinotuskanac/calendar/cycle/927
NAME:Kino Tuškanac ciklus Portreti: Miloš Forman
X-WR-CALNAME:Kino Tuškanac ciklus Portreti: Miloš Forman
TIMEZONE-ID:Europe/Zagreb
X-WR-TIMEZONE:Europe/Zagreb
REFRESH-INTERVAL;VALUE=DURATION:PT12H
X-PUBLISHED-TTL:PT12H
METHOD:PUBLISH
BEGIN:VEVENT
UID:bb3e7eb6fe72b90110a5eacd4aed4ead@kinotuskanac.hr
DTSTAMP:20260422T101650Z
DTSTART:20230222T190000
DTEND:20230222T210000
SUMMARY:Let iznad kukavičjeg gnijezda
LOCATION:Kino Tuškanac
DESCRIPTION:One Flew Over the Cuckoo's Nest, SAD, 1975 R: Miloš Forman
END:VEVENT

BEGIN:VEVENT
UID:e88b25033fed58efea240d4ea678bb3f@kinotuskanac.hr
DTSTAMP:20260422T101650Z
DTSTART:20230223T190000
DTEND:20230223T210000
SUMMARY:Ljubavi jedne plavuše
LOCATION:Kino Tuškanac
DESCRIPTION:Lásky jedné plavovlásky, Čehoslovačka, 1965 R: Miloš Forman
END:VEVENT

BEGIN:VEVENT
UID:7fb79e0cf02ad9d88a80656a436ab379@kinotuskanac.hr
DTSTAMP:20260422T101650Z
DTSTART:20230223T210000
DTEND:20230223T230000
SUMMARY:Kosa
LOCATION:Kino Tuškanac
DESCRIPTION:Hair, SAD, Zapadna Njemačka, 1979 | Mjesto prikazivanja filma: Kulturno informativni centar KIC (Preradovićeva ul. 5) R: Miloš Forman
END:VEVENT

BEGIN:VEVENT
UID:285d2b471e09d67025fa5bae5a323fdc@kinotuskanac.hr
DTSTAMP:20260422T101650Z
DTSTART:20230224T190000
DTEND:20230224T210000
SUMMARY:Gori, moja gospođice
LOCATION:Kino Tuškanac
DESCRIPTION:Horí, má panenko, Čehoslovačka, Italija, 1967 R: Miloš Forman
END:VEVENT

BEGIN:VEVENT
UID:adcd9583e4fcc1e2161b8969735fbd61@kinotuskanac.hr
DTSTAMP:20260422T101650Z
DTSTART:20230224T210000
DTEND:20230224T230000
SUMMARY:Čovjek na mjesecu
LOCATION:Kino Tuškanac
DESCRIPTION:Man on the Moon, SAD, UK, Njemačka, Japan, 1999 R: Miloš Forman
END:VEVENT

BEGIN:VEVENT
UID:738b4ac4fb59590f4268c9e267a3baa0@kinotuskanac.hr
DTSTAMP:20260422T101650Z
DTSTART:20230225T190000
DTEND:20230225T210000
SUMMARY:Amadeus
LOCATION:Kino Tuškanac
DESCRIPTION:SAD, Francuska, Italija, 1984 R: Miloš Forman
END:VEVENT

BEGIN:VEVENT
UID:af3675f5b4fd2a93d664a4b40d4bbe74@kinotuskanac.hr
DTSTAMP:20260422T101650Z
DTSTART:20230226T190000
DTEND:20230226T210000
SUMMARY:Svlačenje
LOCATION:Kino Tuškanac
DESCRIPTION:Taking Off, SAD, 1971 R: Miloš Forman
END:VEVENT

BEGIN:VEVENT
UID:77f4672337c71293a6b33cbe72c7c4f5@kinotuskanac.hr
DTSTAMP:20260422T101650Z
DTSTART:20230226T210000
DTEND:20230226T230000
SUMMARY:Natječaj
LOCATION:Kino Tuškanac
DESCRIPTION:Konkurs, Čehoslovačka, 1964 R: Miloš Forman
END:VEVENT

BEGIN:VEVENT
UID:824646b41b190d05eacff322b36ce8fc@kinotuskanac.hr
DTSTAMP:20260422T101650Z
DTSTART:20230227T190000
DTEND:20230227T210000
SUMMARY:Crni Petar
LOCATION:Kino Tuškanac
DESCRIPTION:Černý Petr, Čehoslovačka, 1964 R: Miloš Forman
END:VEVENT

BEGIN:VEVENT
UID:c0bfa436387a96ff1e4af4dbc640f3ed@kinotuskanac.hr
DTSTAMP:20260422T101650Z
DTSTART:20230227T210000
DTEND:20230227T230000
SUMMARY:Narod protiv Larryja Flinta
LOCATION:Kino Tuškanac
DESCRIPTION:The People vs. Larry Flint, SAD, 1996 R: Miloš Forman
END:VEVENT

BEGIN:VEVENT
UID:c93b36332748b2513b6c9a115a4b7bad@kinotuskanac.hr
DTSTAMP:20260422T101650Z
DTSTART:20230228T190000
DTEND:20230228T210000
SUMMARY:Valmont
LOCATION:Kino Tuškanac
DESCRIPTION:Francuska, UK, 1989 R: Miloš Forman
END:VEVENT
END:VCALENDAR