BEGIN:VCALENDAR
VERSION:2.0
PRODID:-//Kino Tuškanac//Filmski programi//HR
URL:http://kinotuskanac/calendar/cycle/928
NAME:Kino Tuškanac ciklus Portreti: Kelly Reichardt
X-WR-CALNAME:Kino Tuškanac ciklus Portreti: Kelly Reichardt
TIMEZONE-ID:Europe/Zagreb
X-WR-TIMEZONE:Europe/Zagreb
REFRESH-INTERVAL;VALUE=DURATION:PT12H
X-PUBLISHED-TTL:PT12H
METHOD:PUBLISH
BEGIN:VEVENT
UID:9942a9405e918fa73e789e22c09f3cb1@kinotuskanac.hr
DTSTAMP:20260423T144620Z
DTSTART:20230301T200000
DTEND:20230301T220000
SUMMARY:Prva krava
LOCATION:Kino Tuškanac
DESCRIPTION:First Cow, SAD, 2019 R: Kelly Reichardt
END:VEVENT

BEGIN:VEVENT
UID:96dd4aa7cce58ae0f029779e80275541@kinotuskanac.hr
DTSTAMP:20260423T144620Z
DTSTART:20230302T190000
DTEND:20230302T210000
SUMMARY:Neke žene
LOCATION:Kino Tuškanac
DESCRIPTION:Certain Women, SAD, 2016 R: Kelly Reichardt
END:VEVENT

BEGIN:VEVENT
UID:9abc94070933d23fae7ad2f2a336ab0c@kinotuskanac.hr
DTSTAMP:20260423T144620Z
DTSTART:20230302T210000
DTEND:20230302T230000
SUMMARY:Stara radost
LOCATION:Kino Tuškanac
DESCRIPTION:Old Joy, SAD, 2006 R: Kelly Reichardt
END:VEVENT

BEGIN:VEVENT
UID:dab53a1a7427c439ef273348f68a5b21@kinotuskanac.hr
DTSTAMP:20260423T144620Z
DTSTART:20230303T190000
DTEND:20230303T210000
SUMMARY:Wendy i Lucy
LOCATION:Kino Tuškanac
DESCRIPTION:Wendy and Lucy, SAD, 2008 R: Kelly Reichardt
END:VEVENT

BEGIN:VEVENT
UID:2e216b56be53aa5628956567eb32b1d2@kinotuskanac.hr
DTSTAMP:20260423T144620Z
DTSTART:20230304T190000
DTEND:20230304T210000
SUMMARY:Noćna kretanja
LOCATION:Kino Tuškanac
DESCRIPTION:Night Moves, SAD, 2013 R: Kelly Reichardt
END:VEVENT

BEGIN:VEVENT
UID:c384f7aec7572e340b50c5f3baf5f6bb@kinotuskanac.hr
DTSTAMP:20260423T144620Z
DTSTART:20230304T210000
DTEND:20230304T230000
SUMMARY:Rijeka trave
LOCATION:Kino Tuškanac
DESCRIPTION:River of Grass, SAD, 1994 R: Kelly Reichardt
END:VEVENT

BEGIN:VEVENT
UID:ee32d7f9cae31b2c3a0e01bb66c0e973@kinotuskanac.hr
DTSTAMP:20260423T144620Z
DTSTART:20230305T190000
DTEND:20230305T210000
SUMMARY:Meekova prečica
LOCATION:Kino Tuškanac
DESCRIPTION:Meek's Cutoff, SAD, 2010 R: Kelly Reichardt
END:VEVENT

BEGIN:VEVENT
UID:35c42645edcae5d35803e345fe313af1@kinotuskanac.hr
DTSTAMP:20260423T144620Z
DTSTART:20230301T190000
DTEND:20230301T210000
SUMMARY:Ženski milenij: razgovor o filmskim autoricama
LOCATION:Kino Tuškanac
DESCRIPTION:
END:VEVENT
END:VCALENDAR